{"text_format":"1","workbook":"xlsx","n_sheets":6,"sheets":["Instructions","Quarter 1","Quarter 2","Quarter 3","Quarter 4","Final"],"not_rendered":{"charts":0,"images":0,"macros":1,"external_links":0,"defined_names":1,"comments":0,"pivot_tables":0},"unopened":[],"bounds":{"document_bytes":16777216,"sheet_cells":100000,"rows_first":2000,"rows_last":500,"rows_between":2000,"halvings":0,"cell_chars":16384,"cell_head_chars":4096},"cells_cut":0,"cells_raw":0,"read":"whole","date_system":"1900"}

{"sheet":"Instructions","index":0,"n_rows":0,"n_cols":0,"rows_kept":0,"cut":false,"hidden":false,"merged":[]}

{"sheet":"Quarter 1","index":1,"n_rows":637,"n_cols":7,"rows_kept":637,"cut":false,"hidden":false,"merged":[[360,1,360,3],[395,1,395,3],[450,1,450,3],[485,1,485,4],[525,1,525,3],[490,3,490,4],[600,3,600,4],[637,0,637,4],[597,0,597,3],[487,0,487,4],[560,1,560,3],[595,1,595,3],[635,1,635,4],[4,1,4,3],[0,1,0,2],[1,1,1,2],[5,3,5,4],[325,3,325,4],[322,0,322,4],[40,1,40,4],[110,1,110,4],[145,1,145,4],[180,1,180,4],[215,1,215,4],[250,1,250,3],[285,1,285,4],[320,1,320,4],[75,1,75,4]]}
["Name:"]
["County:"]
[null,null,"Quarterly Report "]
[null,null,"Watershed Specialist"]
[null,"Time Period/Date: July 1, XXXX - September 30, XXXX",null,null,"Total time commitment ",{"$f":"F6+F326+F491+F601","v":0},"%"]
["Watershed Activities (WA)",null,null,"Approximate Time Commitment:",null,null,"%"]
[]
["Stormwater Management BMP design, implementation, or maintenance:"]
["A","Watershed/Watershed Plan Name","Project Name","Activity","Appx. Hours"]
[1]
[2]
[3]
[4]
[5]
[6]
[7]
[8]
[9]
[10]
[11]
[12]
[13]
[14]
[15]
[16]
[17]
[18]
[19]
[20]
[21]
[22]
[23]
[24]
[25]
[26]
[27]
[28]
[29]
[30]
[null,null,null,"Total:",{"$f":"SUM(E10:E39)","v":0}]
["Notes:"]
[]
["Agricultural BMP design, implementation, or maintenance:"]
["B","Watershed/Watershed Plan Name","Project Name","Activity","Appx. Hours"]
[1]
[2]
[3]
[4]
[5]
[6]
[7]
[8]
[9]
[10]
[11]
[12]
[13]
[14]
[15]
[16]
[17]
[18]
[19]
[20]
[21]
[22]
[23]
[24]
[25]
[26]
[27]
[28]
[29]
[30]
[null,null,null,"Total:",{"$f":"SUM(E45:E74)","v":0}]
["Notes:"]
[]
["Stream and Lake Restoration BMP design, implementation, or maintenance:"]
["C","Watershed/Watershed Plan Name","Project Name","Activity","Appx. Hours"]
[1]
[2]
[3]
[4]
[5]
[6]
[7]
[8]
[9]
[10]
[11]
[12]
[13]
[14]
[15]
[16]
[17]
[18]
[19]
[20]
[21]
[22]
[23]
[24]
[25]
[26]
[27]
[28]
[29]
[30]
[null,null,null,"Total:",{"$f":"SUM(E80:E109)","v":0}]
["Notes:"]
[]
["AMD BMP design, implementation, or maintenance:"]
["D","Watershed/Watershed Plan Name","Project Name","Activity","Appx. Hours"]
[1]
[2]
[3]
[4]
[5]
[6]
[7]
[8]
[9]
[10]
[11]
[12]
[13]
[14]
[15]
[16]
[17]
[18]
[19]
[20]
[21]
[22]
[23]
[24]
[25]
[26]
[27]
[28]
[29]
[30]
[null,null,null,"Total:",{"$f":"SUM(E115:E144)","v":0}]
["Notes:"]
[]
["Watershed Monitoring and Assessment:"]
["E","Watershed/Watershed Plan Name","Project Name","Activity/Sites","Appx. Hours"]
[1]
[2]
[3]
[4]
[5]
[6]
[7]
[8]
[9]
[10]
[11]
[12]
[13]
[14]
[15]
[16]
[17]
[18]
[19]
[20]
[21]
[22]
[23]
[24]
[25]
[26]
[27]
[28]
[29]
[30]
[null,null,null,"Total:",{"$f":"SUM(E150:E179)","v":0}]
["Notes:"]
[]
["Watershed Planning or Strategy Development:"]
["F","Watershed/Watershed Plan Name","Plan Name","Activity","Appx. Hours"]
[1]
[2]
[3]
[4]
[5]
[6]
[7]
[8]
[9]
[10]
[11]
[12]
[13]
[14]
[15]
[16]
[17]
[18]
[19]
[20]
[21]
[22]
[23]
[24]
[25]
[26]
[27]
[28]
[29]
[30]
[null,null,null,"TOTAL:",{"$f":"SUM(E185:E214)","v":0}]
["Notes:"]
[]
["Local Watershed Association and other NGO activities (Routine meetings, fundraisers, outreach activities etc.):  "]
["G","Watershed Association","Activity","No. in Attendance"]
[1]
[2]
[3]
[4]
[5]
[6]
[7]
[8]
[9]
[10]
[11]
[12]
[13]
[14]
[15]
[16]
[17]
[18]
[19]
[20]
[21]
[22]
[23]
[24]
[25]
[26]
[27]
[28]
[29]
[30]
[null,null,"TOTAL:",{"$f":"SUM(D220:D249)","v":0}]
["Notes:"]
[]
["Technical Assistance (Providing technical information to citizens on watershed related problem solving):   "]
["H","Program","Watershed/Watershed Plan Name","Activity","Appx. Hours"]
[1]
[2]
[3]
[4]
[5]
[6]
[7]
[8]
[9]
[10]
[11]
[12]
[13]
[14]
[15]
[16]
[17]
[18]
[19]
[20]
[21]
[22]
[23]
[24]
[25]
[26]
[27]
[28]
[29]
[30]
[null,null,null,"TOTAL:",{"$f":"SUM(E255:E284)","v":0}]
["Notes:"]
[]
["Auxiliary Program Activities. (MS4, Act 167, Chapter 102, Chapter 105, DGLV, etc.):   "]
["I","Program","Watershed/Watershed Plan Name","Activity","Appx. Hours"]
[1]
[2]
[3]
[4]
[5]
[6]
[7]
[8]
[9]
[10]
[11]
[12]
[13]
[14]
[15]
[16]
[17]
[18]
[19]
[20]
[21]
[22]
[23]
[24]
[25]
[26]
[27]
[28]
[29]
[30]
[null,null,null,"TOTAL:",{"$f":"SUM(E290:E319)","v":0}]
["Notes:"]
["Comments regarding Watershed Activities:"]
[]
[]
[]
["Watershed Projects/Proposals (WPP)",null,null,"Approximate Time Commitment:",null,null,"%"]
[]
["Grants applied for during this quarter:"]
["J","Grant Source","Project Name","Grant Amount Requested"]
[1]
[2]
[3]
[4]
[5]
[6]
[7]
[8]
[9]
[10]
[11]
[12]
[13]
[14]
[15]
[16]
[17]
[18]
[19]
[20]
[21]
[22]
[23]
[24]
[25]
[26]
[27]
[28]
[29]
[30]
[null,null,"TOTAL:",{"$f":"SUM(D330:D359)","v":0}]
["Notes:"]
[]
["Grants awarded during this quarter:"]
["K","Grant Source","Project Name","Grant Amount Awarded"]
[1]
[2]
[3]
[4]
[5]
[6]
[7]
[8]
[9]
[10]
[11]
[12]
[13]
[14]
[15]
[16]
[17]
[18]
[19]
[20]
[21]
[22]
[23]
[24]
[25]
[26]
[27]
[28]
[29]
[30]
[null,null,"TOTAL:",{"$f":"SUM(D365:D394)","v":0}]
["Notes:"]
[]
["On-going grant funded projects (Please only report projects once per calendar year):"]
["L","Grant Source","Project Name","Intended Results"]
[1]
[2]
[3]
[4]
[5]
[6]
[7]
[8]
[9]
[10]
[11]
[12]
[13]
[14]
[15]
[16]
[17]
[18]
[19]
[20]
[21]
[22]
[23]
[24]
[25]
[26]
[27]
[28]
[29]
[30]
[31]
[32]
[33]
[34]
[35]
[36]
[37]
[38]
[39]
[40]
[41]
[42]
[43]
[44]
[45]
[46]
[47]
[48]
[49]
[50]
[null,null,"Total:",{"$f":"COUNTIF(B400:B449, \"*\")","v":0}]
["Notes:"]
[]
["Completed grant funded projects during this quarter:"]
["M","Grant Source","Project Name","Actual Results","Grant Amount"]
[1]
[2]
[3]
[4]
[5]
[6]
[7]
[8]
[9]
[10]
[11]
[12]
[13]
[14]
[15]
[16]
[17]
[18]
[19]
[20]
[21]
[22]
[23]
[24]
[25]
[26]
[27]
[28]
[29]
[30]
[null,null,null,"Total:",{"$f":"SUM(E455:E484)","v":0}]
["Notes:"]
["Comments regarding watershed projects and proposals:"]
[]
[]
[]
["Trainings Presented (TP)",null,null,"Approximate Time Commitment:",null,null,"%"]
[]
["Trainings, lessons or presentations delivered. (Provided to project partners in classroom, field or other venue):"]
["N","Lesson or Presentation Title","Event Location / School name","Appx. Number in Attendance"]
[1]
[2]
[3]
[4]
[5]
[6]
[7]
[8]
[9]
[10]
[11]
[12]
[13]
[14]
[15]
[16]
[17]
[18]
[19]
[20]
[21]
[22]
[23]
[24]
[25]
[26]
[27]
[28]
[29]
[30]
[null,null,"TOTAL:",{"$f":"SUM(D495:D524)","v":0}]
["Notes:"]
[]
["Mass Outreach Activities (Social media, traditional media, website maintenance, newsletters, county fairs etc.):"]
["O","Media type or name, event name","Location","Appx. Number of Contacts"]
[1]
[2]
[3]
[4]
[5]
[6]
[7]
[8]
[9]
[10]
[11]
[12]
[13]
[14]
[15]
[16]
[17]
[18]
[19]
[20]
[21]
[22]
[23]
[24]
[25]
[26]
[27]
[28]
[29]
[30]
[null,null,"TOTAL:",{"$f":"SUM(D530:D559)","v":0}]
["Notes:"]
[]
["Routine non-watershed association meetings (Staff meetings, board meetings, committee meetings, etc.):"]
["P","Meeting Name","Meeting Location","Appx. Number in Attendance"]
[1]
[2]
[3]
[4]
[5]
[6]
[7]
[8]
[9]
[10]
[11]
[12]
[13]
[14]
[15]
[16]
[17]
[18]
[19]
[20]
[21]
[22]
[23]
[24]
[25]
[26]
[27]
[28]
[29]
[30]
[null,null,"TOTAL:",{"$f":"SUM(D565:D594)","v":0}]
["Notes:"]
["Comments regarding Educational Activities and routine meeting attendance:"]
[]
[]
[]
["Trainings Attended (TA)",null,null,"Approximate Time Commitment:",null,null,"%"]
[]
["Sessions attended:"]
["Q","Training Event Title","Training Source","Primary Topic","Location"]
[1]
[2]
[3]
[4]
[5]
[6]
[7]
[8]
[9]
[10]
[11]
[12]
[13]
[14]
[15]
[16]
[17]
[18]
[19]
[20]
[21]
[22]
[23]
[24]
[25]
[26]
[27]
[28]
[29]
[30]
[null,null,null,"TOTAL:",{"$f":"COUNTIF(B605:B634,\"*\")","v":0}]
["Notes:"]
["Comments regarding Trainings Attended"]

{"sheet":"Quarter 2","index":2,"n_rows":637,"n_cols":7,"rows_kept":637,"cut":false,"hidden":false,"merged":[[75,1,75,4],[635,1,635,4],[637,0,637,4],[5,3,5,4],[4,1,4,3],[40,1,40,4],[110,1,110,4],[145,1,145,4],[180,1,180,4],[215,1,215,4],[250,1,250,3],[285,1,285,4],[320,1,320,4],[322,0,322,4],[325,3,325,4],[360,1,360,3],[395,1,395,3],[450,1,450,3],[485,1,485,4],[487,0,487,4],[600,3,600,4],[490,3,490,4],[525,1,525,3],[560,1,560,3],[595,1,595,3],[597,0,597,3]]}
["Name:",{"$f":"'Quarter 1'!B1:C1","v":0},0]
["County:",{"$f":"'Quarter 1'!B2:C2","v":0},0]
[null,null,"Quarterly Report "]
[null,null,"Watershed Specialist"]
[null,"Time Period/Date: October 1, XXXX - December 31, XXXX",null,null,"Total time commitment ",{"$f":"F6+F326+F491+F601","v":0},"%"]
["Watershed Activities (WA)",null,null,"Approximate Time Commitment:",null,null,"%"]
[]
["Stormwater Management BMP design, implementation, or maintenance:"]
["A","Watershed/Watershed Plan Name","Project Name","Activity","Appx. Hours"]
[1]
[2]
[3]
[4]
[5]
[6]
[7]
[8]
[9]
[10]
[11]
[12]
[13]
[14]
[15]
[16]
[17]
[18]
[19]
[20]
[21]
[22]
[23]
[24]
[25]
[26]
[27]
[28]
[29]
[30]
[null,null,null,"Total:",{"$f":"SUM(E10:E39)","v":0}]
["Notes:"]
[]
["Agricultural BMP design, implementation, or maintenance:"]
["B","Watershed/Watershed Plan Name","Project Name","Activity","Appx. Hours"]
[1]
[2]
[3]
[4]
[5]
[6]
[7]
[8]
[9]
[10]
[11]
[12]
[13]
[14]
[15]
[16]
[17]
[18]
[19]
[20]
[21]
[22]
[23]
[24]
[25]
[26]
[27]
[28]
[29]
[30]
[null,null,null,"Total:",{"$f":"SUM(E45:E74)","v":0}]
["Notes:"]
[]
["Stream and Lake Restoration BMP design, implementation, or maintenance:"]
["C","Watershed/Watershed Plan Name","Project Name","Activity","Appx. Hours"]
[1]
[2]
[3]
[4]
[5]
[6]
[7]
[8]
[9]
[10]
[11]
[12]
[13]
[14]
[15]
[16]
[17]
[18]
[19]
[20]
[21]
[22]
[23]
[24]
[25]
[26]
[27]
[28]
[29]
[30]
[null,null,null,"Total:",{"$f":"SUM(E80:E109)","v":0}]
["Notes:"]
[]
["AMD BMP design, implementation, or maintenance:"]
["D","Watershed/Watershed Plan Name","Project Name","Activity","Appx. Hours"]
[1]
[2]
[3]
[4]
[5]
[6]
[7]
[8]
[9]
[10]
[11]
[12]
[13]
[14]
[15]
[16]
[17]
[18]
[19]
[20]
[21]
[22]
[23]
[24]
[25]
[26]
[27]
[28]
[29]
[30]
[null,null,null,"Total:",{"$f":"SUM(E115:E144)","v":0}]
["Notes:"]
[]
["Watershed Monitoring and Assessment:"]
["E","Watershed/Watershed Plan Name","Project Name","Activity/Sites","Appx. Hours"]
[1]
[2]
[3]
[4]
[5]
[6]
[7]
[8]
[9]
[10]
[11]
[12]
[13]
[14]
[15]
[16]
[17]
[18]
[19]
[20]
[21]
[22]
[23]
[24]
[25]
[26]
[27]
[28]
[29]
[30]
[null,null,null,"Total:",{"$f":"SUM(E150:E179)","v":0}]
["Notes:"]
[]
["Watershed Planning or Strategy Development:"]
["F","Watershed/Watershed Plan Name","Plan Name","Activity","Appx. Hours"]
[1]
[2]
[3]
[4]
[5]
[6]
[7]
[8]
[9]
[10]
[11]
[12]
[13]
[14]
[15]
[16]
[17]
[18]
[19]
[20]
[21]
[22]
[23]
[24]
[25]
[26]
[27]
[28]
[29]
[30]
[null,null,null,"TOTAL:",{"$f":"SUM(E185:E214)","v":0}]
["Notes:"]
[]
["Local Watershed Association and other NGO activities (Routine meetings, fundraisers, outreach activities etc.):  "]
["G","Watershed Association","Activity","No. in Attendance"]
[1]
[2]
[3]
[4]
[5]
[6]
[7]
[8]
[9]
[10]
[11]
[12]
[13]
[14]
[15]
[16]
[17]
[18]
[19]
[20]
[21]
[22]
[23]
[24]
[25]
[26]
[27]
[28]
[29]
[30]
[null,null,"TOTAL:",{"$f":"SUM(D220:D249)","v":0}]
["Notes:"]
[]
["Technical Assistance (Providing technical information to citizens on watershed related problem solving):   "]
["H","Program","Watershed/Watershed Plan Name","Activity","Appx. Hours"]
[1]
[2]
[3]
[4]
[5]
[6]
[7]
[8]
[9]
[10]
[11]
[12]
[13]
[14]
[15]
[16]
[17]
[18]
[19]
[20]
[21]
[22]
[23]
[24]
[25]
[26]
[27]
[28]
[29]
[30]
[null,null,null,"TOTAL:",{"$f":"SUM(E255:E284)","v":0}]
["Notes:"]
[]
["Auxiliary Program Activities. (MS4, Act 167, Chapter 102, Chapter 105, DGLV, etc.):   "]
["I","Program","Watershed/Watershed Plan Name","Activity","Appx. Hours"]
[1]
[2]
[3]
[4]
[5]
[6]
[7]
[8]
[9]
[10]
[11]
[12]
[13]
[14]
[15]
[16]
[17]
[18]
[19]
[20]
[21]
[22]
[23]
[24]
[25]
[26]
[27]
[28]
[29]
[30]
[null,null,null,"TOTAL:",{"$f":"SUM(E290:E319)","v":0}]
["Notes:"]
["Comments regarding Watershed Activities:"]
[]
[]
[]
["Watershed Projects/Proposals (WPP)",null,null,"Approximate Time Commitment:",null,null,"%"]
[]
["Grants applied for during this quarter:"]
["J","Grant Source","Project Name","Grant Amount Requested"]
[1]
[2]
[3]
[4]
[5]
[6]
[7]
[8]
[9]
[10]
[11]
[12]
[13]
[14]
[15]
[16]
[17]
[18]
[19]
[20]
[21]
[22]
[23]
[24]
[25]
[26]
[27]
[28]
[29]
[30]
[null,null,"TOTAL:",{"$f":"SUM(D330:D359)","v":0}]
["Notes:"]
[]
["Grants awarded during this quarter:"]
["K","Grant Source","Project Name","Grant Amount Awarded"]
[1]
[2]
[3]
[4]
[5]
[6]
[7]
[8]
[9]
[10]
[11]
[12]
[13]
[14]
[15]
[16]
[17]
[18]
[19]
[20]
[21]
[22]
[23]
[24]
[25]
[26]
[27]
[28]
[29]
[30]
[null,null,"TOTAL:",{"$f":"SUM(D365:D394)","v":0}]
["Notes:"]
[]
["On-going grant funded projects (Please only report projects once per calendar year):"]
["L","Grant Source","Project Name","Intended Results"]
[1]
[2]
[3]
[4]
[5]
[6]
[7]
[8]
[9]
[10]
[11]
[12]
[13]
[14]
[15]
[16]
[17]
[18]
[19]
[20]
[21]
[22]
[23]
[24]
[25]
[26]
[27]
[28]
[29]
[30]
[31]
[32]
[33]
[34]
[35]
[36]
[37]
[38]
[39]
[40]
[41]
[42]
[43]
[44]
[45]
[46]
[47]
[48]
[49]
[50]
[null,null,"Total:",{"$f":"COUNTIF(B400:B449, \"*\")","v":0}]
["Notes:"]
[]
["Completed grant funded projects during this quarter:"]
["M","Grant Source","Project Name","Actual Results","Grant Amount"]
[1]
[2]
[3]
[4]
[5]
[6]
[7]
[8]
[9]
[10]
[11]
[12]
[13]
[14]
[15]
[16]
[17]
[18]
[19]
[20]
[21]
[22]
[23]
[24]
[25]
[26]
[27]
[28]
[29]
[30]
[null,null,null,"Total:",{"$f":"SUM(E455:E484)","v":0}]
["Notes:"]
["Comments regarding watershed projects and proposals:"]
[]
[]
[]
["Trainings Presented (TP)",null,null,"Approximate Time Commitment:",null,null,"%"]
[]
["Trainings, lessons or presentations delivered. (Provided to project partners in classroom, field or other venue):"]
["N","Lesson or Presentation Title","Event Location / School name","Appx. Number in Attendance"]
[1]
[2]
[3]
[4]
[5]
[6]
[7]
[8]
[9]
[10]
[11]
[12]
[13]
[14]
[15]
[16]
[17]
[18]
[19]
[20]
[21]
[22]
[23]
[24]
[25]
[26]
[27]
[28]
[29]
[30]
[null,null,"TOTAL:",{"$f":"SUM(D495:D524)","v":0}]
["Notes:"]
[]
["Mass Outreach Activities (Social media, traditional media, website maintenance, newsletters, county fairs etc.):"]
["O","Media type or name, event name","Location","Appx. Number of Contacts"]
[1]
[2]
[3]
[4]
[5]
[6]
[7]
[8]
[9]
[10]
[11]
[12]
[13]
[14]
[15]
[16]
[17]
[18]
[19]
[20]
[21]
[22]
[23]
[24]
[25]
[26]
[27]
[28]
[29]
[30]
[null,null,"TOTAL:",{"$f":"SUM(D530:D559)","v":0}]
["Notes:"]
[]
["Routine non-watershed association meetings (Staff meetings, board meetings, committee meetings, etc.):"]
["P","Meeting Name","Meeting Location","Appx. Number in Attendance"]
[1]
[2]
[3]
[4]
[5]
[6]
[7]
[8]
[9]
[10]
[11]
[12]
[13]
[14]
[15]
[16]
[17]
[18]
[19]
[20]
[21]
[22]
[23]
[24]
[25]
[26]
[27]
[28]
[29]
[30]
[null,null,"TOTAL:",{"$f":"SUM(D565:D594)","v":0}]
["Notes:"]
["Comments regarding Educational Activities and routine meeting attendance:"]
[]
[]
[]
["Trainings Attended (TA)",null,null,"Approximate Time Commitment:",null,null,"%"]
[]
["Sessions attended:"]
["Q","Training Event Title","Training Source","Primary Topic","Location"]
[1]
[2]
[3]
[4]
[5]
[6]
[7]
[8]
[9]
[10]
[11]
[12]
[13]
[14]
[15]
[16]
[17]
[18]
[19]
[20]
[21]
[22]
[23]
[24]
[25]
[26]
[27]
[28]
[29]
[30]
[null,null,null,"TOTAL:",{"$f":"COUNTIF(B605:B634,\"*\")","v":0}]
["Notes:"]
["Comments regarding Trainings Attended"]

{"sheet":"Quarter 3","index":3,"n_rows":637,"n_cols":7,"rows_kept":637,"cut":false,"hidden":false,"merged":[[75,1,75,4],[635,1,635,4],[637,0,637,4],[5,3,5,4],[4,1,4,3],[40,1,40,4],[110,1,110,4],[145,1,145,4],[180,1,180,4],[215,1,215,4],[250,1,250,3],[285,1,285,4],[320,1,320,4],[322,0,322,4],[325,3,325,4],[360,1,360,3],[395,1,395,3],[450,1,450,3],[485,1,485,4],[487,0,487,4],[600,3,600,4],[490,3,490,4],[525,1,525,3],[560,1,560,3],[595,1,595,3],[597,0,597,3]]}
["Name:",{"$f":"'Quarter 1'!B1:C1","v":0},0]
["County:",{"$f":"'Quarter 1'!B2:C2","v":0},0]
[null,null,"Quarterly Report "]
[null,null,"Watershed Specialist"]
[null,"Time Period/Date: January 1, XXXX - March 31, XXXX",null,null,"Total time commitment ",{"$f":"F6+F326+F491+F601","v":0},"%"]
["Watershed Activities (WA)",null,null,"Approximate Time Commitment:",null,null,"%"]
[]
["Stormwater Management BMP design, implementation, or maintenance:"]
["A","Watershed/Watershed Plan Name","Project Name","Activity","Appx. Hours"]
[1]
[2]
[3]
[4]
[5]
[6]
[7]
[8]
[9]
[10]
[11]
[12]
[13]
[14]
[15]
[16]
[17]
[18]
[19]
[20]
[21]
[22]
[23]
[24]
[25]
[26]
[27]
[28]
[29]
[30]
[null,null,null,"Total:",{"$f":"SUM(E10:E39)","v":0}]
["Notes:"]
[]
["Agricultural BMP design, implementation, or maintenance:"]
["B","Watershed/Watershed Plan Name","Project Name","Activity","Appx. Hours"]
[1]
[2]
[3]
[4]
[5]
[6]
[7]
[8]
[9]
[10]
[11]
[12]
[13]
[14]
[15]
[16]
[17]
[18]
[19]
[20]
[21]
[22]
[23]
[24]
[25]
[26]
[27]
[28]
[29]
[30]
[null,null,null,"Total:",{"$f":"SUM(E45:E74)","v":0}]
["Notes:"]
[]
["Stream and Lake Restoration BMP design, implementation, or maintenance:"]
["C","Watershed/Watershed Plan Name","Project Name","Activity","Appx. Hours"]
[1]
[2]
[3]
[4]
[5]
[6]
[7]
[8]
[9]
[10]
[11]
[12]
[13]
[14]
[15]
[16]
[17]
[18]
[19]
[20]
[21]
[22]
[23]
[24]
[25]
[26]
[27]
[28]
[29]
[30]
[null,null,null,"Total:",{"$f":"SUM(E80:E109)","v":0}]
["Notes:"]
[]
["AMD BMP design, implementation, or maintenance:"]
["D","Watershed/Watershed Plan Name","Project Name","Activity","Appx. Hours"]
[1]
[2]
[3]
[4]
[5]
[6]
[7]
[8]
[9]
[10]
[11]
[12]
[13]
[14]
[15]
[16]
[17]
[18]
[19]
[20]
[21]
[22]
[23]
[24]
[25]
[26]
[27]
[28]
[29]
[30]
[null,null,null,"Total:",{"$f":"SUM(E115:E144)","v":0}]
["Notes:"]
[]
["Watershed Monitoring and Assessment:"]
["E","Watershed/Watershed Plan Name","Project Name","Activity/Sites","Appx. Hours"]
[1]
[2]
[3]
[4]
[5]
[6]
[7]
[8]
[9]
[10]
[11]
[12]
[13]
[14]
[15]
[16]
[17]
[18]
[19]
[20]
[21]
[22]
[23]
[24]
[25]
[26]
[27]
[28]
[29]
[30]
[null,null,null,"Total:",{"$f":"SUM(E150:E179)","v":0}]
["Notes:"]
[]
["Watershed Planning or Strategy Development:"]
["F","Watershed/Watershed Plan Name","Plan Name","Activity","Appx. Hours"]
[1]
[2]
[3]
[4]
[5]
[6]
[7]
[8]
[9]
[10]
[11]
[12]
[13]
[14]
[15]
[16]
[17]
[18]
[19]
[20]
[21]
[22]
[23]
[24]
[25]
[26]
[27]
[28]
[29]
[30]
[null,null,null,"TOTAL:",{"$f":"SUM(E185:E214)","v":0}]
["Notes:"]
[]
["Local Watershed Association and other NGO activities (Routine meetings, fundraisers, outreach activities etc.):  "]
["G","Watershed Association","Activity","No. in Attendance"]
[1]
[2]
[3]
[4]
[5]
[6]
[7]
[8]
[9]
[10]
[11]
[12]
[13]
[14]
[15]
[16]
[17]
[18]
[19]
[20]
[21]
[22]
[23]
[24]
[25]
[26]
[27]
[28]
[29]
[30]
[null,null,"TOTAL:",{"$f":"SUM(D220:D249)","v":0}]
["Notes:"]
[]
["Technical Assistance (Providing technical information to citizens on watershed related problem solving):   "]
["H","Program","Watershed/Watershed Plan Name","Activity","Appx. Hours"]
[1]
[2]
[3]
[4]
[5]
[6]
[7]
[8]
[9]
[10]
[11]
[12]
[13]
[14]
[15]
[16]
[17]
[18]
[19]
[20]
[21]
[22]
[23]
[24]
[25]
[26]
[27]
[28]
[29]
[30]
[null,null,null,"TOTAL:",{"$f":"SUM(E255:E284)","v":0}]
["Notes:"]
[]
["Auxiliary Program Activities. (MS4, Act 167, Chapter 102, Chapter 105, DGLV, etc.):   "]
["I","Program","Watershed/Watershed Plan Name","Activity","Appx. Hours"]
[1]
[2]
[3]
[4]
[5]
[6]
[7]
[8]
[9]
[10]
[11]
[12]
[13]
[14]
[15]
[16]
[17]
[18]
[19]
[20]
[21]
[22]
[23]
[24]
[25]
[26]
[27]
[28]
[29]
[30]
[null,null,null,"TOTAL:",{"$f":"SUM(E290:E319)","v":0}]
["Notes:"]
["Comments regarding Watershed Activities:"]
[]
[]
[]
["Watershed Projects/Proposals (WPP)",null,null,"Approximate Time Commitment:",null,null,"%"]
[]
["Grants applied for during this quarter:"]
["J","Grant Source","Project Name","Grant Amount Requested"]
[1]
[2]
[3]
[4]
[5]
[6]
[7]
[8]
[9]
[10]
[11]
[12]
[13]
[14]
[15]
[16]
[17]
[18]
[19]
[20]
[21]
[22]
[23]
[24]
[25]
[26]
[27]
[28]
[29]
[30]
[null,null,"TOTAL:",{"$f":"SUM(D330:D359)","v":0}]
["Notes:"]
[]
["Grants awarded during this quarter:"]
["K","Grant Source","Project Name","Grant Amount Awarded"]
[1]
[2]
[3]
[4]
[5]
[6]
[7]
[8]
[9]
[10]
[11]
[12]
[13]
[14]
[15]
[16]
[17]
[18]
[19]
[20]
[21]
[22]
[23]
[24]
[25]
[26]
[27]
[28]
[29]
[30]
[null,null,"TOTAL:",{"$f":"SUM(D365:D394)","v":0}]
["Notes:"]
[]
["On-going grant funded projects (Please only report projects once per calendar year):"]
["L","Grant Source","Project Name","Intended Results"]
[1]
[2]
[3]
[4]
[5]
[6]
[7]
[8]
[9]
[10]
[11]
[12]
[13]
[14]
[15]
[16]
[17]
[18]
[19]
[20]
[21]
[22]
[23]
[24]
[25]
[26]
[27]
[28]
[29]
[30]
[31]
[32]
[33]
[34]
[35]
[36]
[37]
[38]
[39]
[40]
[41]
[42]
[43]
[44]
[45]
[46]
[47]
[48]
[49]
[50]
[null,null,"Total:",{"$f":"COUNTIF(B400:B449, \"*\")","v":0}]
["Notes:"]
[]
["Completed grant funded projects during this quarter:"]
["M","Grant Source","Project Name","Actual Results","Grant Amount"]
[1]
[2]
[3]
[4]
[5]
[6]
[7]
[8]
[9]
[10]
[11]
[12]
[13]
[14]
[15]
[16]
[17]
[18]
[19]
[20]
[21]
[22]
[23]
[24]
[25]
[26]
[27]
[28]
[29]
[30]
[null,null,null,"Total:",{"$f":"SUM(E455:E484)","v":0}]
["Notes:"]
["Comments regarding watershed projects and proposals:"]
[]
[]
[]
["Trainings Presented (TP)",null,null,"Approximate Time Commitment:",null,null,"%"]
[]
["Trainings, lessons or presentations delivered. (Provided to project partners in classroom, field or other venue):"]
["N","Lesson or Presentation Title","Event Location / School name","Appx. Number in Attendance"]
[1]
[2]
[3]
[4]
[5]
[6]
[7]
[8]
[9]
[10]
[11]
[12]
[13]
[14]
[15]
[16]
[17]
[18]
[19]
[20]
[21]
[22]
[23]
[24]
[25]
[26]
[27]
[28]
[29]
[30]
[null,null,"TOTAL:",{"$f":"SUM(D495:D524)","v":0}]
["Notes:"]
[]
["Mass Outreach Activities (Social media, traditional media, website maintenance, newsletters, county fairs etc.):"]
["O","Media type or name, event name","Location","Appx. Number of Contacts"]
[1]
[2]
[3]
[4]
[5]
[6]
[7]
[8]
[9]
[10]
[11]
[12]
[13]
[14]
[15]
[16]
[17]
[18]
[19]
[20]
[21]
[22]
[23]
[24]
[25]
[26]
[27]
[28]
[29]
[30]
[null,null,"TOTAL:",{"$f":"SUM(D530:D559)","v":0}]
["Notes:"]
[]
["Routine non-watershed association meetings (Staff meetings, board meetings, committee meetings, etc.):"]
["P","Meeting Name","Meeting Location","Appx. Number in Attendance"]
[1]
[2]
[3]
[4]
[5]
[6]
[7]
[8]
[9]
[10]
[11]
[12]
[13]
[14]
[15]
[16]
[17]
[18]
[19]
[20]
[21]
[22]
[23]
[24]
[25]
[26]
[27]
[28]
[29]
[30]
[null,null,"TOTAL:",{"$f":"SUM(D565:D594)","v":0}]
["Notes:"]
["Comments regarding Educational Activities and routine meeting attendance:"]
[]
[]
[]
["Trainings Attended (TA)",null,null,"Approximate Time Commitment:",null,null,"%"]
[]
["Sessions attended:"]
["Q","Training Event Title","Training Source","Primary Topic","Location"]
[1]
[2]
[3]
[4]
[5]
[6]
[7]
[8]
[9]
[10]
[11]
[12]
[13]
[14]
[15]
[16]
[17]
[18]
[19]
[20]
[21]
[22]
[23]
[24]
[25]
[26]
[27]
[28]
[29]
[30]
[null,null,null,"TOTAL:",{"$f":"COUNTIF(B605:B634,\"*\")","v":0}]
["Notes:"]
["Comments regarding Trainings Attended"]

{"sheet":"Quarter 4","index":4,"n_rows":641,"n_cols":7,"rows_kept":641,"cut":false,"hidden":false,"merged":[[641,0,641,4],[635,1,635,4],[637,0,637,4],[40,1,40,4],[110,1,110,4],[145,1,145,4],[180,1,180,4],[215,1,215,4],[250,1,250,3],[285,1,285,4],[320,1,320,4],[322,0,322,4],[325,3,325,4],[360,1,360,3],[395,1,395,3],[5,3,5,4],[4,1,4,3],[487,0,487,4],[75,1,75,4],[600,3,600,4],[490,3,490,4],[525,1,525,3],[560,1,560,3],[595,1,595,3],[597,0,597,3],[450,1,450,3],[485,1,485,4]]}
["Name:",{"$f":"'Quarter 1'!B1:C1","v":0},0]
["County:",{"$f":"'Quarter 1'!B2:C2","v":0},0]
[null,null,"Quarterly Report "]
[null,null,"Watershed Specialist"]
[null,"Time Period/Date: April 1, XXXX - June 30, XXXX",null,null,"Total time commitment ",{"$f":"F6+F326+F491+F601","v":0},"%"]
["Watershed Activities (WA)",null,null,"Approximate Time Commitment:",null,null,"%"]
[]
["Stormwater Management BMP design, implementation, or maintenance:"]
["A","Watershed/Watershed Plan Name","Project Name","Activity","Appx. Hours"]
[1]
[2]
[3]
[4]
[5]
[6]
[7]
[8]
[9]
[10]
[11]
[12]
[13]
[14]
[15]
[16]
[17]
[18]
[19]
[20]
[21]
[22]
[23]
[24]
[25]
[26]
[27]
[28]
[29]
[30]
[null,null,null,"Total:",{"$f":"SUM(E10:E39)","v":0}]
["Notes:"]
[]
["Agricultural BMP design, implementation, or maintenance:"]
["B","Watershed/Watershed Plan Name","Project Name","Activity","Appx. Hours"]
[1]
[2]
[3]
[4]
[5]
[6]
[7]
[8]
[9]
[10]
[11]
[12]
[13]
[14]
[15]
[16]
[17]
[18]
[19]
[20]
[21]
[22]
[23]
[24]
[25]
[26]
[27]
[28]
[29]
[30]
[null,null,null,"Total:",{"$f":"SUM(E45:E74)","v":0}]
["Notes:"]
[]
["Stream and Lake Restoration BMP design, implementation, or maintenance:"]
["C","Watershed/Watershed Plan Name","Project Name","Activity","Appx. Hours"]
[1]
[2]
[3]
[4]
[5]
[6]
[7]
[8]
[9]
[10]
[11]
[12]
[13]
[14]
[15]
[16]
[17]
[18]
[19]
[20]
[21]
[22]
[23]
[24]
[25]
[26]
[27]
[28]
[29]
[30]
[null,null,null,"Total:",{"$f":"SUM(E80:E109)","v":0}]
["Notes:"]
[]
["AMD BMP design, implementation, or maintenance:"]
["D","Watershed/Watershed Plan Name","Project Name","Activity","Appx. Hours"]
[1]
[2]
[3]
[4]
[5]
[6]
[7]
[8]
[9]
[10]
[11]
[12]
[13]
[14]
[15]
[16]
[17]
[18]
[19]
[20]
[21]
[22]
[23]
[24]
[25]
[26]
[27]
[28]
[29]
[30]
[null,null,null,"Total:",{"$f":"SUM(E115:E144)","v":0}]
["Notes:"]
[]
["Watershed Monitoring and Assessment:"]
["E","Watershed/Watershed Plan Name","Project Name","Activity/Sites","Appx. Hours"]
[1]
[2]
[3]
[4]
[5]
[6]
[7]
[8]
[9]
[10]
[11]
[12]
[13]
[14]
[15]
[16]
[17]
[18]
[19]
[20]
[21]
[22]
[23]
[24]
[25]
[26]
[27]
[28]
[29]
[30]
[null,null,null,"Total:",{"$f":"SUM(E150:E179)","v":0}]
["Notes:"]
[]
["Watershed Planning or Strategy Development:"]
["F","Watershed/Watershed Plan Name","Plan Name","Activity","Appx. Hours"]
[1]
[2]
[3]
[4]
[5]
[6]
[7]
[8]
[9]
[10]
[11]
[12]
[13]
[14]
[15]
[16]
[17]
[18]
[19]
[20]
[21]
[22]
[23]
[24]
[25]
[26]
[27]
[28]
[29]
[30]
[null,null,null,"TOTAL:",{"$f":"SUM(E185:E214)","v":0}]
["Notes:"]
[]
["Local Watershed Association and other NGO activities (Routine meetings, fundraisers, outreach activities etc.):  "]
["G","Watershed Association","Activity","No. in Attendance"]
[1]
[2]
[3]
[4]
[5]
[6]
[7]
[8]
[9]
[10]
[11]
[12]
[13]
[14]
[15]
[16]
[17]
[18]
[19]
[20]
[21]
[22]
[23]
[24]
[25]
[26]
[27]
[28]
[29]
[30]
[null,null,"TOTAL:",{"$f":"SUM(D220:D249)","v":0}]
["Notes:"]
[]
["Technical Assistance (Providing technical information to citizens on watershed related problem solving):   "]
["H","Program","Watershed/Watershed Plan Name","Activity","Appx. Hours"]
[1]
[2]
[3]
[4]
[5]
[6]
[7]
[8]
[9]
[10]
[11]
[12]
[13]
[14]
[15]
[16]
[17]
[18]
[19]
[20]
[21]
[22]
[23]
[24]
[25]
[26]
[27]
[28]
[29]
[30]
[null,null,null,"TOTAL:",{"$f":"SUM(E255:E284)","v":0}]
["Notes:"]
[]
["Auxiliary Program Activities. (MS4, Act 167, Chapter 102, Chapter 105, DGLV, etc.):   "]
["I","Program","Watershed/Watershed Plan Name","Activity","Appx. Hours"]
[1]
[2]
[3]
[4]
[5]
[6]
[7]
[8]
[9]
[10]
[11]
[12]
[13]
[14]
[15]
[16]
[17]
[18]
[19]
[20]
[21]
[22]
[23]
[24]
[25]
[26]
[27]
[28]
[29]
[30]
[null,null,null,"TOTAL:",{"$f":"SUM(E290:E319)","v":0}]
["Notes:"]
["Comments regarding Watershed Activities:"]
[]
[]
[]
["Watershed Projects/Proposals (WPP)",null,null,"Approximate Time Commitment:",null,null,"%"]
[]
["Grants applied for during this quarter:"]
["J","Grant Source","Project Name","Grant Amount Requested"]
[1]
[2]
[3]
[4]
[5]
[6]
[7]
[8]
[9]
[10]
[11]
[12]
[13]
[14]
[15]
[16]
[17]
[18]
[19]
[20]
[21]
[22]
[23]
[24]
[25]
[26]
[27]
[28]
[29]
[30]
[null,null,"TOTAL:",{"$f":"SUM(D330:D359)","v":0}]
["Notes:"]
[]
["Grants awarded during this quarter:"]
["K","Grant Source","Project Name","Grant Amount Awarded"]
[1]
[2]
[3]
[4]
[5]
[6]
[7]
[8]
[9]
[10]
[11]
[12]
[13]
[14]
[15]
[16]
[17]
[18]
[19]
[20]
[21]
[22]
[23]
[24]
[25]
[26]
[27]
[28]
[29]
[30]
[null,null,"TOTAL:",{"$f":"SUM(D365:D394)","v":0}]
["Notes:"]
[]
["On-going grant funded projects (Please only report projects once per calendar year):"]
["L","Grant Source","Project Name","Intended Results"]
[1]
[2]
[3]
[4]
[5]
[6]
[7]
[8]
[9]
[10]
[11]
[12]
[13]
[14]
[15]
[16]
[17]
[18]
[19]
[20]
[21]
[22]
[23]
[24]
[25]
[26]
[27]
[28]
[29]
[30]
[31]
[32]
[33]
[34]
[35]
[36]
[37]
[38]
[39]
[40]
[41]
[42]
[43]
[44]
[45]
[46]
[47]
[48]
[49]
[50]
[null,null,"Total:",{"$f":"COUNTIF(B400:B449, \"*\")","v":0}]
["Notes:"]
[]
["Completed grant funded projects during this quarter:"]
["M","Grant Source","Project Name","Actual Results","Grant Amount"]
[1]
[2]
[3]
[4]
[5]
[6]
[7]
[8]
[9]
[10]
[11]
[12]
[13]
[14]
[15]
[16]
[17]
[18]
[19]
[20]
[21]
[22]
[23]
[24]
[25]
[26]
[27]
[28]
[29]
[30]
[null,null,null,"Total:",{"$f":"SUM(E455:E484)","v":0}]
["Notes:"]
["Comments regarding watershed projects and proposals:"]
[]
[]
[]
["Trainings Presented (TP)",null,null,"Approximate Time Commitment:",null,null,"%"]
[]
["Trainings, lessons or presentations delivered. (Provided to project partners in classroom, field or other venue):"]
["N","Lesson or Presentation Title","Event Location / School name","Appx. Number in Attendance"]
[1]
[2]
[3]
[4]
[5]
[6]
[7]
[8]
[9]
[10]
[11]
[12]
[13]
[14]
[15]
[16]
[17]
[18]
[19]
[20]
[21]
[22]
[23]
[24]
[25]
[26]
[27]
[28]
[29]
[30]
[null,null,"TOTAL:",{"$f":"SUM(D495:D524)","v":0}]
["Notes:"]
[]
["Mass Outreach Activities (Social media, traditional media, website maintenance, newsletters, county fairs etc.):"]
["O","Media type or name, event name","Location","Appx. Number of Contacts"]
[1]
[2]
[3]
[4]
[5]
[6]
[7]
[8]
[9]
[10]
[11]
[12]
[13]
[14]
[15]
[16]
[17]
[18]
[19]
[20]
[21]
[22]
[23]
[24]
[25]
[26]
[27]
[28]
[29]
[30]
[null,null,"TOTAL:",{"$f":"SUM(D530:D559)","v":0}]
["Notes:"]
[]
["Routine non-watershed association meetings (Staff meetings, board meetings, committee meetings, etc.):"]
["P","Meeting Name","Meeting Location","Appx. Number in Attendance"]
[1]
[2]
[3]
[4]
[5]
[6]
[7]
[8]
[9]
[10]
[11]
[12]
[13]
[14]
[15]
[16]
[17]
[18]
[19]
[20]
[21]
[22]
[23]
[24]
[25]
[26]
[27]
[28]
[29]
[30]
[null,null,"TOTAL:",{"$f":"SUM(D565:D594)","v":0}]
["Notes:"]
["Comments regarding Educational Activities and routine meeting attendance:"]
[]
[]
[]
["Trainings Attended (TA)",null,null,"Approximate Time Commitment:",null,null,"%"]
[]
["Sessions attended:"]
["Q","Training Event Title","Training Source","Primary Topic","Location"]
[1]
[2]
[3]
[4]
[5]
[6]
[7]
[8]
[9]
[10]
[11]
[12]
[13]
[14]
[15]
[16]
[17]
[18]
[19]
[20]
[21]
[22]
[23]
[24]
[25]
[26]
[27]
[28]
[29]
[30]
[null,null,null,"TOTAL:",{"$f":"COUNTIF(B605:B634,\"*\")","v":0}]
["Notes:"]
["Comments regarding Trainings Attended"]
[]
[]
["Questions/Concerns/Suggestions"]
["Note: on the April-June quarter, additional info regarding improving waters should be included with the AFR packet. See instructions for a detailed explanation of that additional info."]

{"sheet":"Final","index":5,"n_rows":2215,"n_cols":8,"rows_kept":2215,"cut":false,"hidden":false,"merged":[[4,2,4,4],[1128,4,1128,5],[1711,4,1711,5],[2090,4,2090,5],[5,4,5,5]]}
[null,"Name:",{"$f":"'Quarter 4'!B1","v":0}]
[null,"County:",{"$f":"'Quarter 4'!B2","v":0}]
[null,null,null,"Final Report"]
[null,null,null,"Watershed Specialist"]
[null,null,"July 1, XXXX - June 30, XXXX",null,null,"Annual time commitment",{"$f":"G6+G1129+G1712+G2091","v":0},"%"]
["Watershed Activities (WA)",null,null,null,"Approximate Time Commitment:",null,{"$f":"('Quarter 1'!F6+'Quarter 2'!F6+'Quarter 3'!F6+'Quarter 4'!F6)/4","v":0},"%"]
[]
["Stormwater Management BMP design, implementation, or maintenance:"]
["A","Quarter","Watershed/Watershed Plan Name","Project Name","Activity","Appx. Hours"]
[1,"Q1",{"$f":"'Quarter 1'!B10","v":0},{"$f":"'Quarter 1'!C10","v":0},{"$f":"'Quarter 1'!D10","v":0},{"$f":"'Quarter 1'!E10","v":0}]
[2,"Q1",{"$f":"'Quarter 1'!B11","v":0},{"$f":"'Quarter 1'!C11","v":0},{"$f":"'Quarter 1'!D11","v":0},{"$f":"'Quarter 1'!E11","v":0}]
[3,"Q1",{"$f":"'Quarter 1'!B12","v":0},{"$f":"'Quarter 1'!C12","v":0},{"$f":"'Quarter 1'!D12","v":0},{"$f":"'Quarter 1'!E12","v":0}]
[4,"Q1",{"$f":"'Quarter 1'!B13","v":0},{"$f":"'Quarter 1'!C13","v":0},{"$f":"'Quarter 1'!D13","v":0},{"$f":"'Quarter 1'!E13","v":0}]
[5,"Q1",{"$f":"'Quarter 1'!B14","v":0},{"$f":"'Quarter 1'!C14","v":0},{"$f":"'Quarter 1'!D14","v":0},{"$f":"'Quarter 1'!E14","v":0}]
[6,"Q1",{"$f":"'Quarter 1'!B15","v":0},{"$f":"'Quarter 1'!C15","v":0},{"$f":"'Quarter 1'!D15","v":0},{"$f":"'Quarter 1'!E15","v":0}]
[7,"Q1",{"$f":"'Quarter 1'!B16","v":0},{"$f":"'Quarter 1'!C16","v":0},{"$f":"'Quarter 1'!D16","v":0},{"$f":"'Quarter 1'!E16","v":0}]
[8,"Q1",{"$f":"'Quarter 1'!B17","v":0},{"$f":"'Quarter 1'!C17","v":0},{"$f":"'Quarter 1'!D17","v":0},{"$f":"'Quarter 1'!E17","v":0}]
[9,"Q1",{"$f":"'Quarter 1'!B18","v":0},{"$f":"'Quarter 1'!C18","v":0},{"$f":"'Quarter 1'!D18","v":0},{"$f":"'Quarter 1'!E18","v":0}]
[10,"Q1",{"$f":"'Quarter 1'!B19","v":0},{"$f":"'Quarter 1'!C19","v":0},{"$f":"'Quarter 1'!D19","v":0},{"$f":"'Quarter 1'!E19","v":0}]
[11,"Q1",{"$f":"'Quarter 1'!B20","v":0},{"$f":"'Quarter 1'!C20","v":0},{"$f":"'Quarter 1'!D20","v":0},{"$f":"'Quarter 1'!E20","v":0}]
[12,"Q1",{"$f":"'Quarter 1'!B21","v":0},{"$f":"'Quarter 1'!C21","v":0},{"$f":"'Quarter 1'!D21","v":0},{"$f":"'Quarter 1'!E21","v":0}]
[13,"Q1",{"$f":"'Quarter 1'!B22","v":0},{"$f":"'Quarter 1'!C22","v":0},{"$f":"'Quarter 1'!D22","v":0},{"$f":"'Quarter 1'!E22","v":0}]
[14,"Q1",{"$f":"'Quarter 1'!B23","v":0},{"$f":"'Quarter 1'!C23","v":0},{"$f":"'Quarter 1'!D23","v":0},{"$f":"'Quarter 1'!E23","v":0}]
[15,"Q1",{"$f":"'Quarter 1'!B24","v":0},{"$f":"'Quarter 1'!C24","v":0},{"$f":"'Quarter 1'!D24","v":0},{"$f":"'Quarter 1'!E24","v":0}]
[16,"Q1",{"$f":"'Quarter 1'!B25","v":0},{"$f":"'Quarter 1'!C25","v":0},{"$f":"'Quarter 1'!D25","v":0},{"$f":"'Quarter 1'!E25","v":0}]
[17,"Q1",{"$f":"'Quarter 1'!B26","v":0},{"$f":"'Quarter 1'!C26","v":0},{"$f":"'Quarter 1'!D26","v":0},{"$f":"'Quarter 1'!E26","v":0}]
[18,"Q1",{"$f":"'Quarter 1'!B27","v":0},{"$f":"'Quarter 1'!C27","v":0},{"$f":"'Quarter 1'!D27","v":0},{"$f":"'Quarter 1'!E27","v":0}]
[19,"Q1",{"$f":"'Quarter 1'!B28","v":0},{"$f":"'Quarter 1'!C28","v":0},{"$f":"'Quarter 1'!D28","v":0},{"$f":"'Quarter 1'!E28","v":0}]
[20,"Q1",{"$f":"'Quarter 1'!B29","v":0},{"$f":"'Quarter 1'!C29","v":0},{"$f":"'Quarter 1'!D29","v":0},{"$f":"'Quarter 1'!E29","v":0}]
[21,"Q1",{"$f":"'Quarter 1'!B30","v":0},{"$f":"'Quarter 1'!C30","v":0},{"$f":"'Quarter 1'!D30","v":0},{"$f":"'Quarter 1'!E30","v":0}]
[22,"Q1",{"$f":"'Quarter 1'!B31","v":0},{"$f":"'Quarter 1'!C31","v":0},{"$f":"'Quarter 1'!D31","v":0},{"$f":"'Quarter 1'!E31","v":0}]
[23,"Q1",{"$f":"'Quarter 1'!B32","v":0},{"$f":"'Quarter 1'!C32","v":0},{"$f":"'Quarter 1'!D32","v":0},{"$f":"'Quarter 1'!E32","v":0}]
[24,"Q1",{"$f":"'Quarter 1'!B33","v":0},{"$f":"'Quarter 1'!C33","v":0},{"$f":"'Quarter 1'!D33","v":0},{"$f":"'Quarter 1'!E33","v":0}]
[25,"Q1",{"$f":"'Quarter 1'!B34","v":0},{"$f":"'Quarter 1'!C34","v":0},{"$f":"'Quarter 1'!D34","v":0},{"$f":"'Quarter 1'!E34","v":0}]
[26,"Q1",{"$f":"'Quarter 1'!B35","v":0},{"$f":"'Quarter 1'!C35","v":0},{"$f":"'Quarter 1'!D35","v":0},{"$f":"'Quarter 1'!E35","v":0}]
[27,"Q1",{"$f":"'Quarter 1'!B36","v":0},{"$f":"'Quarter 1'!C36","v":0},{"$f":"'Quarter 1'!D36","v":0},{"$f":"'Quarter 1'!E36","v":0}]
[28,"Q1",{"$f":"'Quarter 1'!B37","v":0},{"$f":"'Quarter 1'!C37","v":0},{"$f":"'Quarter 1'!D37","v":0},{"$f":"'Quarter 1'!E37","v":0}]
[29,"Q1",{"$f":"'Quarter 1'!B38","v":0},{"$f":"'Quarter 1'!C38","v":0},{"$f":"'Quarter 1'!D38","v":0},{"$f":"'Quarter 1'!E38","v":0}]
[30,"Q1",{"$f":"'Quarter 1'!B39","v":0},{"$f":"'Quarter 1'!C39","v":0},{"$f":"'Quarter 1'!D39","v":0},{"$f":"'Quarter 1'!E39","v":0}]
[31,"Q2",{"$f":"'Quarter 2'!B10","v":0},{"$f":"'Quarter 2'!C10","v":0},{"$f":"'Quarter 2'!D10","v":0},{"$f":"'Quarter 2'!E10","v":0}]
[32,"Q2",{"$f":"'Quarter 2'!B11","v":0},{"$f":"'Quarter 2'!C11","v":0},{"$f":"'Quarter 2'!D11","v":0},{"$f":"'Quarter 2'!E11","v":0}]
[33,"Q2",{"$f":"'Quarter 2'!B12","v":0},{"$f":"'Quarter 2'!C12","v":0},{"$f":"'Quarter 2'!D12","v":0},{"$f":"'Quarter 2'!E12","v":0}]
[34,"Q2",{"$f":"'Quarter 2'!B13","v":0},{"$f":"'Quarter 2'!C13","v":0},{"$f":"'Quarter 2'!D13","v":0},{"$f":"'Quarter 2'!E13","v":0}]
[35,"Q2",{"$f":"'Quarter 2'!B14","v":0},{"$f":"'Quarter 2'!C14","v":0},{"$f":"'Quarter 2'!D14","v":0},{"$f":"'Quarter 2'!E14","v":0}]
[36,"Q2",{"$f":"'Quarter 2'!B15","v":0},{"$f":"'Quarter 2'!C15","v":0},{"$f":"'Quarter 2'!D15","v":0},{"$f":"'Quarter 2'!E15","v":0}]
[37,"Q2",{"$f":"'Quarter 2'!B16","v":0},{"$f":"'Quarter 2'!C16","v":0},{"$f":"'Quarter 2'!D16","v":0},{"$f":"'Quarter 2'!E16","v":0}]
[38,"Q2",{"$f":"'Quarter 2'!B17","v":0},{"$f":"'Quarter 2'!C17","v":0},{"$f":"'Quarter 2'!D17","v":0},{"$f":"'Quarter 2'!E17","v":0}]
[39,"Q2",{"$f":"'Quarter 2'!B18","v":0},{"$f":"'Quarter 2'!C18","v":0},{"$f":"'Quarter 2'!D18","v":0},{"$f":"'Quarter 2'!E18","v":0}]
[40,"Q2",{"$f":"'Quarter 2'!B19","v":0},{"$f":"'Quarter 2'!C19","v":0},{"$f":"'Quarter 2'!D19","v":0},{"$f":"'Quarter 2'!E19","v":0}]
[41,"Q2",{"$f":"'Quarter 2'!B20","v":0},{"$f":"'Quarter 2'!C20","v":0},{"$f":"'Quarter 2'!D20","v":0},{"$f":"'Quarter 2'!E20","v":0}]
[42,"Q2",{"$f":"'Quarter 2'!B21","v":0},{"$f":"'Quarter 2'!C21","v":0},{"$f":"'Quarter 2'!D21","v":0},{"$f":"'Quarter 2'!E21","v":0}]
[43,"Q2",{"$f":"'Quarter 2'!B22","v":0},{"$f":"'Quarter 2'!C22","v":0},{"$f":"'Quarter 2'!D22","v":0},{"$f":"'Quarter 2'!E22","v":0}]
[44,"Q2",{"$f":"'Quarter 2'!B23","v":0},{"$f":"'Quarter 2'!C23","v":0},{"$f":"'Quarter 2'!D23","v":0},{"$f":"'Quarter 2'!E23","v":0}]
[45,"Q2",{"$f":"'Quarter 2'!B24","v":0},{"$f":"'Quarter 2'!C24","v":0},{"$f":"'Quarter 2'!D24","v":0},{"$f":"'Quarter 2'!E24","v":0}]
[46,"Q2",{"$f":"'Quarter 2'!B25","v":0},{"$f":"'Quarter 2'!C25","v":0},{"$f":"'Quarter 2'!D25","v":0},{"$f":"'Quarter 2'!E25","v":0}]
[47,"Q2",{"$f":"'Quarter 2'!B26","v":0},{"$f":"'Quarter 2'!C26","v":0},{"$f":"'Quarter 2'!D26","v":0},{"$f":"'Quarter 2'!E26","v":0}]
[48,"Q2",{"$f":"'Quarter 2'!B27","v":0},{"$f":"'Quarter 2'!C27","v":0},{"$f":"'Quarter 2'!D27","v":0},{"$f":"'Quarter 2'!E27","v":0}]
[49,"Q2",{"$f":"'Quarter 2'!B28","v":0},{"$f":"'Quarter 2'!C28","v":0},{"$f":"'Quarter 2'!D28","v":0},{"$f":"'Quarter 2'!E28","v":0}]
[50,"Q2",{"$f":"'Quarter 2'!B29","v":0},{"$f":"'Quarter 2'!C29","v":0},{"$f":"'Quarter 2'!D29","v":0},{"$f":"'Quarter 2'!E29","v":0}]
[51,"Q2",{"$f":"'Quarter 2'!B30","v":0},{"$f":"'Quarter 2'!C30","v":0},{"$f":"'Quarter 2'!D30","v":0},{"$f":"'Quarter 2'!E30","v":0}]
[52,"Q2",{"$f":"'Quarter 2'!B31","v":0},{"$f":"'Quarter 2'!C31","v":0},{"$f":"'Quarter 2'!D31","v":0},{"$f":"'Quarter 2'!E31","v":0}]
[53,"Q2",{"$f":"'Quarter 2'!B32","v":0},{"$f":"'Quarter 2'!C32","v":0},{"$f":"'Quarter 2'!D32","v":0},{"$f":"'Quarter 2'!E32","v":0}]
[54,"Q2",{"$f":"'Quarter 2'!B33","v":0},{"$f":"'Quarter 2'!C33","v":0},{"$f":"'Quarter 2'!D33","v":0},{"$f":"'Quarter 2'!E33","v":0}]
[55,"Q2",{"$f":"'Quarter 2'!B34","v":0},{"$f":"'Quarter 2'!C34","v":0},{"$f":"'Quarter 2'!D34","v":0},{"$f":"'Quarter 2'!E34","v":0}]
[56,"Q2",{"$f":"'Quarter 2'!B35","v":0},{"$f":"'Quarter 2'!C35","v":0},{"$f":"'Quarter 2'!D35","v":0},{"$f":"'Quarter 2'!E35","v":0}]
[57,"Q2",{"$f":"'Quarter 2'!B36","v":0},{"$f":"'Quarter 2'!C36","v":0},{"$f":"'Quarter 2'!D36","v":0},{"$f":"'Quarter 2'!E36","v":0}]
[58,"Q2",{"$f":"'Quarter 2'!B37","v":0},{"$f":"'Quarter 2'!C37","v":0},{"$f":"'Quarter 2'!D37","v":0},{"$f":"'Quarter 2'!E37","v":0}]
[59,"Q2",{"$f":"'Quarter 2'!B38","v":0},{"$f":"'Quarter 2'!C38","v":0},{"$f":"'Quarter 2'!D38","v":0},{"$f":"'Quarter 2'!E38","v":0}]
[60,"Q2",{"$f":"'Quarter 2'!B39","v":0},{"$f":"'Quarter 2'!C39","v":0},{"$f":"'Quarter 2'!D39","v":0},{"$f":"'Quarter 2'!E39","v":0}]
[61,"Q3",{"$f":"'Quarter 3'!B10","v":0},{"$f":"'Quarter 3'!C10","v":0},{"$f":"'Quarter 3'!D10","v":0},{"$f":"'Quarter 3'!E10","v":0}]
[62,"Q3",{"$f":"'Quarter 3'!B11","v":0},{"$f":"'Quarter 3'!C11","v":0},{"$f":"'Quarter 3'!D11","v":0},{"$f":"'Quarter 3'!E11","v":0}]
[63,"Q3",{"$f":"'Quarter 3'!B12","v":0},{"$f":"'Quarter 3'!C12","v":0},{"$f":"'Quarter 3'!D12","v":0},{"$f":"'Quarter 3'!E12","v":0}]
[64,"Q3",{"$f":"'Quarter 3'!B13","v":0},{"$f":"'Quarter 3'!C13","v":0},{"$f":"'Quarter 3'!D13","v":0},{"$f":"'Quarter 3'!E13","v":0}]
[65,"Q3",{"$f":"'Quarter 3'!B14","v":0},{"$f":"'Quarter 3'!C14","v":0},{"$f":"'Quarter 3'!D14","v":0},{"$f":"'Quarter 3'!E14","v":0}]
[66,"Q3",{"$f":"'Quarter 3'!B15","v":0},{"$f":"'Quarter 3'!C15","v":0},{"$f":"'Quarter 3'!D15","v":0},{"$f":"'Quarter 3'!E15","v":0}]
[67,"Q3",{"$f":"'Quarter 3'!B16","v":0},{"$f":"'Quarter 3'!C16","v":0},{"$f":"'Quarter 3'!D16","v":0},{"$f":"'Quarter 3'!E16","v":0}]
[68,"Q3",{"$f":"'Quarter 3'!B17","v":0},{"$f":"'Quarter 3'!C17","v":0},{"$f":"'Quarter 3'!D17","v":0},{"$f":"'Quarter 3'!E17","v":0}]
[69,"Q3",{"$f":"'Quarter 3'!B18","v":0},{"$f":"'Quarter 3'!C18","v":0},{"$f":"'Quarter 3'!D18","v":0},{"$f":"'Quarter 3'!E18","v":0}]
[70,"Q3",{"$f":"'Quarter 3'!B19","v":0},{"$f":"'Quarter 3'!C19","v":0},{"$f":"'Quarter 3'!D19","v":0},{"$f":"'Quarter 3'!E19","v":0}]
[71,"Q3",{"$f":"'Quarter 3'!B20","v":0},{"$f":"'Quarter 3'!C20","v":0},{"$f":"'Quarter 3'!D20","v":0},{"$f":"'Quarter 3'!E20","v":0}]
[72,"Q3",{"$f":"'Quarter 3'!B21","v":0},{"$f":"'Quarter 3'!C21","v":0},{"$f":"'Quarter 3'!D21","v":0},{"$f":"'Quarter 3'!E21","v":0}]
[73,"Q3",{"$f":"'Quarter 3'!B22","v":0},{"$f":"'Quarter 3'!C22","v":0},{"$f":"'Quarter 3'!D22","v":0},{"$f":"'Quarter 3'!E22","v":0}]
[74,"Q3",{"$f":"'Quarter 3'!B23","v":0},{"$f":"'Quarter 3'!C23","v":0},{"$f":"'Quarter 3'!D23","v":0},{"$f":"'Quarter 3'!E23","v":0}]
[75,"Q3",{"$f":"'Quarter 3'!B24","v":0},{"$f":"'Quarter 3'!C24","v":0},{"$f":"'Quarter 3'!D24","v":0},{"$f":"'Quarter 3'!E24","v":0}]
[76,"Q3",{"$f":"'Quarter 3'!B25","v":0},{"$f":"'Quarter 3'!C25","v":0},{"$f":"'Quarter 3'!D25","v":0},{"$f":"'Quarter 3'!E25","v":0}]
[77,"Q3",{"$f":"'Quarter 3'!B26","v":0},{"$f":"'Quarter 3'!C26","v":0},{"$f":"'Quarter 3'!D26","v":0},{"$f":"'Quarter 3'!E26","v":0}]
[78,"Q3",{"$f":"'Quarter 3'!B27","v":0},{"$f":"'Quarter 3'!C27","v":0},{"$f":"'Quarter 3'!D27","v":0},{"$f":"'Quarter 3'!E27","v":0}]
[79,"Q3",{"$f":"'Quarter 3'!B28","v":0},{"$f":"'Quarter 3'!C28","v":0},{"$f":"'Quarter 3'!D28","v":0},{"$f":"'Quarter 3'!E28","v":0}]
[80,"Q3",{"$f":"'Quarter 3'!B29","v":0},{"$f":"'Quarter 3'!C29","v":0},{"$f":"'Quarter 3'!D29","v":0},{"$f":"'Quarter 3'!E29","v":0}]
[81,"Q3",{"$f":"'Quarter 3'!B30","v":0},{"$f":"'Quarter 3'!C30","v":0},{"$f":"'Quarter 3'!D30","v":0},{"$f":"'Quarter 3'!E30","v":0}]
[82,"Q3",{"$f":"'Quarter 3'!B31","v":0},{"$f":"'Quarter 3'!C31","v":0},{"$f":"'Quarter 3'!D31","v":0},{"$f":"'Quarter 3'!E31","v":0}]
[83,"Q3",{"$f":"'Quarter 3'!B32","v":0},{"$f":"'Quarter 3'!C32","v":0},{"$f":"'Quarter 3'!D32","v":0},{"$f":"'Quarter 3'!E32","v":0}]
[84,"Q3",{"$f":"'Quarter 3'!B33","v":0},{"$f":"'Quarter 3'!C33","v":0},{"$f":"'Quarter 3'!D33","v":0},{"$f":"'Quarter 3'!E33","v":0}]
[85,"Q3",{"$f":"'Quarter 3'!B34","v":0},{"$f":"'Quarter 3'!C34","v":0},{"$f":"'Quarter 3'!D34","v":0},{"$f":"'Quarter 3'!E34","v":0}]
[86,"Q3",{"$f":"'Quarter 3'!B35","v":0},{"$f":"'Quarter 3'!C35","v":0},{"$f":"'Quarter 3'!D35","v":0},{"$f":"'Quarter 3'!E35","v":0}]
[87,"Q3",{"$f":"'Quarter 3'!B36","v":0},{"$f":"'Quarter 3'!C36","v":0},{"$f":"'Quarter 3'!D36","v":0},{"$f":"'Quarter 3'!E36","v":0}]
[88,"Q3",{"$f":"'Quarter 3'!B37","v":0},{"$f":"'Quarter 3'!C37","v":0},{"$f":"'Quarter 3'!D37","v":0},{"$f":"'Quarter 3'!E37","v":0}]
[89,"Q3",{"$f":"'Quarter 3'!B38","v":0},{"$f":"'Quarter 3'!C38","v":0},{"$f":"'Quarter 3'!D38","v":0},{"$f":"'Quarter 3'!E38","v":0}]
[90,"Q3",{"$f":"'Quarter 3'!B39","v":0},{"$f":"'Quarter 3'!C39","v":0},{"$f":"'Quarter 3'!D39","v":0},{"$f":"'Quarter 3'!E39","v":0}]
[91,"Q4",{"$f":"'Quarter 4'!B10","v":0},{"$f":"'Quarter 4'!C10","v":0},{"$f":"'Quarter 4'!D10","v":0},{"$f":"'Quarter 4'!E10","v":0}]
[92,"Q4",{"$f":"'Quarter 4'!B11","v":0},{"$f":"'Quarter 4'!C11","v":0},{"$f":"'Quarter 4'!D11","v":0},{"$f":"'Quarter 4'!E11","v":0}]
[93,"Q4",{"$f":"'Quarter 4'!B12","v":0},{"$f":"'Quarter 4'!C12","v":0},{"$f":"'Quarter 4'!D12","v":0},{"$f":"'Quarter 4'!E12","v":0}]
[94,"Q4",{"$f":"'Quarter 4'!B13","v":0},{"$f":"'Quarter 4'!C13","v":0},{"$f":"'Quarter 4'!D13","v":0},{"$f":"'Quarter 4'!E13","v":0}]
[95,"Q4",{"$f":"'Quarter 4'!B14","v":0},{"$f":"'Quarter 4'!C14","v":0},{"$f":"'Quarter 4'!D14","v":0},{"$f":"'Quarter 4'!E14","v":0}]
[96,"Q4",{"$f":"'Quarter 4'!B15","v":0},{"$f":"'Quarter 4'!C15","v":0},{"$f":"'Quarter 4'!D15","v":0},{"$f":"'Quarter 4'!E15","v":0}]
[97,"Q4",{"$f":"'Quarter 4'!B16","v":0},{"$f":"'Quarter 4'!C16","v":0},{"$f":"'Quarter 4'!D16","v":0},{"$f":"'Quarter 4'!E16","v":0}]
[98,"Q4",{"$f":"'Quarter 4'!B17","v":0},{"$f":"'Quarter 4'!C17","v":0},{"$f":"'Quarter 4'!D17","v":0},{"$f":"'Quarter 4'!E17","v":0}]
[99,"Q4",{"$f":"'Quarter 4'!B18","v":0},{"$f":"'Quarter 4'!C18","v":0},{"$f":"'Quarter 4'!D18","v":0},{"$f":"'Quarter 4'!E18","v":0}]
[100,"Q4",{"$f":"'Quarter 4'!B19","v":0},{"$f":"'Quarter 4'!C19","v":0},{"$f":"'Quarter 4'!D19","v":0},{"$f":"'Quarter 4'!E19","v":0}]
[101,"Q4",{"$f":"'Quarter 4'!B20","v":0},{"$f":"'Quarter 4'!C20","v":0},{"$f":"'Quarter 4'!D20","v":0},{"$f":"'Quarter 4'!E20","v":0}]
[102,"Q4",{"$f":"'Quarter 4'!B21","v":0},{"$f":"'Quarter 4'!C21","v":0},{"$f":"'Quarter 4'!D21","v":0},{"$f":"'Quarter 4'!E21","v":0}]
[103,"Q4",{"$f":"'Quarter 4'!B22","v":0},{"$f":"'Quarter 4'!C22","v":0},{"$f":"'Quarter 4'!D22","v":0},{"$f":"'Quarter 4'!E22","v":0}]
[104,"Q4",{"$f":"'Quarter 4'!B23","v":0},{"$f":"'Quarter 4'!C23","v":0},{"$f":"'Quarter 4'!D23","v":0},{"$f":"'Quarter 4'!E23","v":0}]
[105,"Q4",{"$f":"'Quarter 4'!B24","v":0},{"$f":"'Quarter 4'!C24","v":0},{"$f":"'Quarter 4'!D24","v":0},{"$f":"'Quarter 4'!E24","v":0}]
[106,"Q4",{"$f":"'Quarter 4'!B25","v":0},{"$f":"'Quarter 4'!C25","v":0},{"$f":"'Quarter 4'!D25","v":0},{"$f":"'Quarter 4'!E25","v":0}]
[107,"Q4",{"$f":"'Quarter 4'!B26","v":0},{"$f":"'Quarter 4'!C26","v":0},{"$f":"'Quarter 4'!D26","v":0},{"$f":"'Quarter 4'!E26","v":0}]
[108,"Q4",{"$f":"'Quarter 4'!B27","v":0},{"$f":"'Quarter 4'!C27","v":0},{"$f":"'Quarter 4'!D27","v":0},{"$f":"'Quarter 4'!E27","v":0}]
[109,"Q4",{"$f":"'Quarter 4'!B28","v":0},{"$f":"'Quarter 4'!C28","v":0},{"$f":"'Quarter 4'!D28","v":0},{"$f":"'Quarter 4'!E28","v":0}]
[110,"Q4",{"$f":"'Quarter 4'!B29","v":0},{"$f":"'Quarter 4'!C29","v":0},{"$f":"'Quarter 4'!D29","v":0},{"$f":"'Quarter 4'!E29","v":0}]
[111,"Q4",{"$f":"'Quarter 4'!B30","v":0},{"$f":"'Quarter 4'!C30","v":0},{"$f":"'Quarter 4'!D30","v":0},{"$f":"'Quarter 4'!E30","v":0}]
[112,"Q4",{"$f":"'Quarter 4'!B31","v":0},{"$f":"'Quarter 4'!C31","v":0},{"$f":"'Quarter 4'!D31","v":0},{"$f":"'Quarter 4'!E31","v":0}]
[113,"Q4",{"$f":"'Quarter 4'!B32","v":0},{"$f":"'Quarter 4'!C32","v":0},{"$f":"'Quarter 4'!D32","v":0},{"$f":"'Quarter 4'!E32","v":0}]
[114,"Q4",{"$f":"'Quarter 4'!B33","v":0},{"$f":"'Quarter 4'!C33","v":0},{"$f":"'Quarter 4'!D33","v":0},{"$f":"'Quarter 4'!E33","v":0}]
[115,"Q4",{"$f":"'Quarter 4'!B34","v":0},{"$f":"'Quarter 4'!C34","v":0},{"$f":"'Quarter 4'!D34","v":0},{"$f":"'Quarter 4'!E34","v":0}]
[116,"Q4",{"$f":"'Quarter 4'!B35","v":0},{"$f":"'Quarter 4'!C35","v":0},{"$f":"'Quarter 4'!D35","v":0},{"$f":"'Quarter 4'!E35","v":0}]
[117,"Q4",{"$f":"'Quarter 4'!B36","v":0},{"$f":"'Quarter 4'!C36","v":0},{"$f":"'Quarter 4'!D36","v":0},{"$f":"'Quarter 4'!E36","v":0}]
[118,"Q4",{"$f":"'Quarter 4'!B37","v":0},{"$f":"'Quarter 4'!C37","v":0},{"$f":"'Quarter 4'!D37","v":0},{"$f":"'Quarter 4'!E37","v":0}]
[119,"Q4",{"$f":"'Quarter 4'!B38","v":0},{"$f":"'Quarter 4'!C38","v":0},{"$f":"'Quarter 4'!D38","v":0},{"$f":"'Quarter 4'!E38","v":0}]
[120,"Q4",{"$f":"'Quarter 4'!B39","v":0},{"$f":"'Quarter 4'!C39","v":0},{"$f":"'Quarter 4'!D39","v":0},{"$f":"'Quarter 4'!E39","v":0}]
[null,null,null,null,"Total:",{"$f":"SUM(F10:F129)","v":0}]
[]
["Agricultural BMP design, implementation, or maintenance:"]
["B","Quarter","Watershed/Watershed Plan Name","Project Name","Activity","Appx. Hours"]
[1,"Q1",{"$f":"'Quarter 1'!B45","v":0},{"$f":"'Quarter 1'!C45","v":0},{"$f":"'Quarter 1'!D45","v":0},{"$f":"'Quarter 1'!E45","v":0}]
[2,"Q1",{"$f":"'Quarter 1'!B46","v":0},{"$f":"'Quarter 1'!C46","v":0},{"$f":"'Quarter 1'!D46","v":0},{"$f":"'Quarter 1'!E46","v":0}]
[3,"Q1",{"$f":"'Quarter 1'!B47","v":0},{"$f":"'Quarter 1'!C47","v":0},{"$f":"'Quarter 1'!D47","v":0},{"$f":"'Quarter 1'!E47","v":0}]
[4,"Q1",{"$f":"'Quarter 1'!B48","v":0},{"$f":"'Quarter 1'!C48","v":0},{"$f":"'Quarter 1'!D48","v":0},{"$f":"'Quarter 1'!E48","v":0}]
[5,"Q1",{"$f":"'Quarter 1'!B49","v":0},{"$f":"'Quarter 1'!C49","v":0},{"$f":"'Quarter 1'!D49","v":0},{"$f":"'Quarter 1'!E49","v":0}]
[6,"Q1",{"$f":"'Quarter 1'!B50","v":0},{"$f":"'Quarter 1'!C50","v":0},{"$f":"'Quarter 1'!D50","v":0},{"$f":"'Quarter 1'!E50","v":0}]
[7,"Q1",{"$f":"'Quarter 1'!B51","v":0},{"$f":"'Quarter 1'!C51","v":0},{"$f":"'Quarter 1'!D51","v":0},{"$f":"'Quarter 1'!E51","v":0}]
[8,"Q1",{"$f":"'Quarter 1'!B52","v":0},{"$f":"'Quarter 1'!C52","v":0},{"$f":"'Quarter 1'!D52","v":0},{"$f":"'Quarter 1'!E52","v":0}]
[9,"Q1",{"$f":"'Quarter 1'!B53","v":0},{"$f":"'Quarter 1'!C53","v":0},{"$f":"'Quarter 1'!D53","v":0},{"$f":"'Quarter 1'!E53","v":0}]
[10,"Q1",{"$f":"'Quarter 1'!B54","v":0},{"$f":"'Quarter 1'!C54","v":0},{"$f":"'Quarter 1'!D54","v":0},{"$f":"'Quarter 1'!E54","v":0}]
[11,"Q1",{"$f":"'Quarter 1'!B55","v":0},{"$f":"'Quarter 1'!C55","v":0},{"$f":"'Quarter 1'!D55","v":0},{"$f":"'Quarter 1'!E55","v":0}]
[12,"Q1",{"$f":"'Quarter 1'!B56","v":0},{"$f":"'Quarter 1'!C56","v":0},{"$f":"'Quarter 1'!D56","v":0},{"$f":"'Quarter 1'!E56","v":0}]
[13,"Q1",{"$f":"'Quarter 1'!B57","v":0},{"$f":"'Quarter 1'!C57","v":0},{"$f":"'Quarter 1'!D57","v":0},{"$f":"'Quarter 1'!E57","v":0}]
[14,"Q1",{"$f":"'Quarter 1'!B58","v":0},{"$f":"'Quarter 1'!C58","v":0},{"$f":"'Quarter 1'!D58","v":0},{"$f":"'Quarter 1'!E58","v":0}]
[15,"Q1",{"$f":"'Quarter 1'!B59","v":0},{"$f":"'Quarter 1'!C59","v":0},{"$f":"'Quarter 1'!D59","v":0},{"$f":"'Quarter 1'!E59","v":0}]
[16,"Q1",{"$f":"'Quarter 1'!B60","v":0},{"$f":"'Quarter 1'!C60","v":0},{"$f":"'Quarter 1'!D60","v":0},{"$f":"'Quarter 1'!E60","v":0}]
[17,"Q1",{"$f":"'Quarter 1'!B61","v":0},{"$f":"'Quarter 1'!C61","v":0},{"$f":"'Quarter 1'!D61","v":0},{"$f":"'Quarter 1'!E61","v":0}]
[18,"Q1",{"$f":"'Quarter 1'!B62","v":0},{"$f":"'Quarter 1'!C62","v":0},{"$f":"'Quarter 1'!D62","v":0},{"$f":"'Quarter 1'!E62","v":0}]
[19,"Q1",{"$f":"'Quarter 1'!B63","v":0},{"$f":"'Quarter 1'!C63","v":0},{"$f":"'Quarter 1'!D63","v":0},{"$f":"'Quarter 1'!E63","v":0}]
[20,"Q1",{"$f":"'Quarter 1'!B64","v":0},{"$f":"'Quarter 1'!C64","v":0},{"$f":"'Quarter 1'!D64","v":0},{"$f":"'Quarter 1'!E64","v":0}]
[21,"Q1",{"$f":"'Quarter 1'!B65","v":0},{"$f":"'Quarter 1'!C65","v":0},{"$f":"'Quarter 1'!D65","v":0},{"$f":"'Quarter 1'!E65","v":0}]
[22,"Q1",{"$f":"'Quarter 1'!B66","v":0},{"$f":"'Quarter 1'!C66","v":0},{"$f":"'Quarter 1'!D66","v":0},{"$f":"'Quarter 1'!E66","v":0}]
[23,"Q1",{"$f":"'Quarter 1'!B67","v":0},{"$f":"'Quarter 1'!C67","v":0},{"$f":"'Quarter 1'!D67","v":0},{"$f":"'Quarter 1'!E67","v":0}]
[24,"Q1",{"$f":"'Quarter 1'!B68","v":0},{"$f":"'Quarter 1'!C68","v":0},{"$f":"'Quarter 1'!D68","v":0},{"$f":"'Quarter 1'!E68","v":0}]
[25,"Q1",{"$f":"'Quarter 1'!B69","v":0},{"$f":"'Quarter 1'!C69","v":0},{"$f":"'Quarter 1'!D69","v":0},{"$f":"'Quarter 1'!E69","v":0}]
[26,"Q1",{"$f":"'Quarter 1'!B70","v":0},{"$f":"'Quarter 1'!C70","v":0},{"$f":"'Quarter 1'!D70","v":0},{"$f":"'Quarter 1'!E70","v":0}]
[27,"Q1",{"$f":"'Quarter 1'!B71","v":0},{"$f":"'Quarter 1'!C71","v":0},{"$f":"'Quarter 1'!D71","v":0},{"$f":"'Quarter 1'!E71","v":0}]
[28,"Q1",{"$f":"'Quarter 1'!B72","v":0},{"$f":"'Quarter 1'!C72","v":0},{"$f":"'Quarter 1'!D72","v":0},{"$f":"'Quarter 1'!E72","v":0}]
[29,"Q1",{"$f":"'Quarter 1'!B73","v":0},{"$f":"'Quarter 1'!C73","v":0},{"$f":"'Quarter 1'!D73","v":0},{"$f":"'Quarter 1'!E73","v":0}]
[30,"Q1",{"$f":"'Quarter 1'!B74","v":0},{"$f":"'Quarter 1'!C74","v":0},{"$f":"'Quarter 1'!D74","v":0},{"$f":"'Quarter 1'!E74","v":0}]
[31,"Q2",{"$f":"'Quarter 2'!B45","v":0},{"$f":"'Quarter 2'!C45","v":0},{"$f":"'Quarter 2'!D45","v":0},{"$f":"'Quarter 2'!E45","v":0}]
[32,"Q2",{"$f":"'Quarter 2'!B46","v":0},{"$f":"'Quarter 2'!C46","v":0},{"$f":"'Quarter 2'!D46","v":0},{"$f":"'Quarter 2'!E46","v":0}]
[33,"Q2",{"$f":"'Quarter 2'!B47","v":0},{"$f":"'Quarter 2'!C47","v":0},{"$f":"'Quarter 2'!D47","v":0},{"$f":"'Quarter 2'!E47","v":0}]
[34,"Q2",{"$f":"'Quarter 2'!B48","v":0},{"$f":"'Quarter 2'!C48","v":0},{"$f":"'Quarter 2'!D48","v":0},{"$f":"'Quarter 2'!E48","v":0}]
[35,"Q2",{"$f":"'Quarter 2'!B49","v":0},{"$f":"'Quarter 2'!C49","v":0},{"$f":"'Quarter 2'!D49","v":0},{"$f":"'Quarter 2'!E49","v":0}]
[36,"Q2",{"$f":"'Quarter 2'!B50","v":0},{"$f":"'Quarter 2'!C50","v":0},{"$f":"'Quarter 2'!D50","v":0},{"$f":"'Quarter 2'!E50","v":0}]
[37,"Q2",{"$f":"'Quarter 2'!B51","v":0},{"$f":"'Quarter 2'!C51","v":0},{"$f":"'Quarter 2'!D51","v":0},{"$f":"'Quarter 2'!E51","v":0}]
[38,"Q2",{"$f":"'Quarter 2'!B52","v":0},{"$f":"'Quarter 2'!C52","v":0},{"$f":"'Quarter 2'!D52","v":0},{"$f":"'Quarter 2'!E52","v":0}]
[39,"Q2",{"$f":"'Quarter 2'!B53","v":0},{"$f":"'Quarter 2'!C53","v":0},{"$f":"'Quarter 2'!D53","v":0},{"$f":"'Quarter 2'!E53","v":0}]
[40,"Q2",{"$f":"'Quarter 2'!B54","v":0},{"$f":"'Quarter 2'!C54","v":0},{"$f":"'Quarter 2'!D54","v":0},{"$f":"'Quarter 2'!E54","v":0}]
[41,"Q2",{"$f":"'Quarter 2'!B55","v":0},{"$f":"'Quarter 2'!C55","v":0},{"$f":"'Quarter 2'!D55","v":0},{"$f":"'Quarter 2'!E55","v":0}]
[42,"Q2",{"$f":"'Quarter 2'!B56","v":0},{"$f":"'Quarter 2'!C56","v":0},{"$f":"'Quarter 2'!D56","v":0},{"$f":"'Quarter 2'!E56","v":0}]
[43,"Q2",{"$f":"'Quarter 2'!B57","v":0},{"$f":"'Quarter 2'!C57","v":0},{"$f":"'Quarter 2'!D57","v":0},{"$f":"'Quarter 2'!E57","v":0}]
[44,"Q2",{"$f":"'Quarter 2'!B58","v":0},{"$f":"'Quarter 2'!C58","v":0},{"$f":"'Quarter 2'!D58","v":0},{"$f":"'Quarter 2'!E58","v":0}]
[45,"Q2",{"$f":"'Quarter 2'!B59","v":0},{"$f":"'Quarter 2'!C59","v":0},{"$f":"'Quarter 2'!D59","v":0},{"$f":"'Quarter 2'!E59","v":0}]
[46,"Q2",{"$f":"'Quarter 2'!B60","v":0},{"$f":"'Quarter 2'!C60","v":0},{"$f":"'Quarter 2'!D60","v":0},{"$f":"'Quarter 2'!E60","v":0}]
[47,"Q2",{"$f":"'Quarter 2'!B61","v":0},{"$f":"'Quarter 2'!C61","v":0},{"$f":"'Quarter 2'!D61","v":0},{"$f":"'Quarter 2'!E61","v":0}]
[48,"Q2",{"$f":"'Quarter 2'!B62","v":0},{"$f":"'Quarter 2'!C62","v":0},{"$f":"'Quarter 2'!D62","v":0},{"$f":"'Quarter 2'!E62","v":0}]
[49,"Q2",{"$f":"'Quarter 2'!B63","v":0},{"$f":"'Quarter 2'!C63","v":0},{"$f":"'Quarter 2'!D63","v":0},{"$f":"'Quarter 2'!E63","v":0}]
[50,"Q2",{"$f":"'Quarter 2'!B64","v":0},{"$f":"'Quarter 2'!C64","v":0},{"$f":"'Quarter 2'!D64","v":0},{"$f":"'Quarter 2'!E64","v":0}]
[51,"Q2",{"$f":"'Quarter 2'!B65","v":0},{"$f":"'Quarter 2'!C65","v":0},{"$f":"'Quarter 2'!D65","v":0},{"$f":"'Quarter 2'!E65","v":0}]
[52,"Q2",{"$f":"'Quarter 2'!B66","v":0},{"$f":"'Quarter 2'!C66","v":0},{"$f":"'Quarter 2'!D66","v":0},{"$f":"'Quarter 2'!E66","v":0}]
[53,"Q2",{"$f":"'Quarter 2'!B67","v":0},{"$f":"'Quarter 2'!C67","v":0},{"$f":"'Quarter 2'!D67","v":0},{"$f":"'Quarter 2'!E67","v":0}]
[54,"Q2",{"$f":"'Quarter 2'!B68","v":0},{"$f":"'Quarter 2'!C68","v":0},{"$f":"'Quarter 2'!D68","v":0},{"$f":"'Quarter 2'!E68","v":0}]
[55,"Q2",{"$f":"'Quarter 2'!B69","v":0},{"$f":"'Quarter 2'!C69","v":0},{"$f":"'Quarter 2'!D69","v":0},{"$f":"'Quarter 2'!E69","v":0}]
[56,"Q2",{"$f":"'Quarter 2'!B70","v":0},{"$f":"'Quarter 2'!C70","v":0},{"$f":"'Quarter 2'!D70","v":0},{"$f":"'Quarter 2'!E70","v":0}]
[57,"Q2",{"$f":"'Quarter 2'!B71","v":0},{"$f":"'Quarter 2'!C71","v":0},{"$f":"'Quarter 2'!D71","v":0},{"$f":"'Quarter 2'!E71","v":0}]
[58,"Q2",{"$f":"'Quarter 2'!B72","v":0},{"$f":"'Quarter 2'!C72","v":0},{"$f":"'Quarter 2'!D72","v":0},{"$f":"'Quarter 2'!E72","v":0}]
[59,"Q2",{"$f":"'Quarter 2'!B73","v":0},{"$f":"'Quarter 2'!C73","v":0},{"$f":"'Quarter 2'!D73","v":0},{"$f":"'Quarter 2'!E73","v":0}]
[60,"Q2",{"$f":"'Quarter 2'!B74","v":0},{"$f":"'Quarter 2'!C74","v":0},{"$f":"'Quarter 2'!D74","v":0},{"$f":"'Quarter 2'!E74","v":0}]
[61,"Q3",{"$f":"'Quarter 3'!B45","v":0},{"$f":"'Quarter 3'!C45","v":0},{"$f":"'Quarter 3'!D45","v":0},{"$f":"'Quarter 3'!E45","v":0}]
[62,"Q3",{"$f":"'Quarter 3'!B46","v":0},{"$f":"'Quarter 3'!C46","v":0},{"$f":"'Quarter 3'!D46","v":0},{"$f":"'Quarter 3'!E46","v":0}]
[63,"Q3",{"$f":"'Quarter 3'!B47","v":0},{"$f":"'Quarter 3'!C47","v":0},{"$f":"'Quarter 3'!D47","v":0},{"$f":"'Quarter 3'!E47","v":0}]
[64,"Q3",{"$f":"'Quarter 3'!B48","v":0},{"$f":"'Quarter 3'!C48","v":0},{"$f":"'Quarter 3'!D48","v":0},{"$f":"'Quarter 3'!E48","v":0}]
[65,"Q3",{"$f":"'Quarter 3'!B49","v":0},{"$f":"'Quarter 3'!C49","v":0},{"$f":"'Quarter 3'!D49","v":0},{"$f":"'Quarter 3'!E49","v":0}]
[66,"Q3",{"$f":"'Quarter 3'!B50","v":0},{"$f":"'Quarter 3'!C50","v":0},{"$f":"'Quarter 3'!D50","v":0},{"$f":"'Quarter 3'!E50","v":0}]
[67,"Q3",{"$f":"'Quarter 3'!B51","v":0},{"$f":"'Quarter 3'!C51","v":0},{"$f":"'Quarter 3'!D51","v":0},{"$f":"'Quarter 3'!E51","v":0}]
[68,"Q3",{"$f":"'Quarter 3'!B52","v":0},{"$f":"'Quarter 3'!C52","v":0},{"$f":"'Quarter 3'!D52","v":0},{"$f":"'Quarter 3'!E52","v":0}]
[69,"Q3",{"$f":"'Quarter 3'!B53","v":0},{"$f":"'Quarter 3'!C53","v":0},{"$f":"'Quarter 3'!D53","v":0},{"$f":"'Quarter 3'!E53","v":0}]
[70,"Q3",{"$f":"'Quarter 3'!B54","v":0},{"$f":"'Quarter 3'!C54","v":0},{"$f":"'Quarter 3'!D54","v":0},{"$f":"'Quarter 3'!E54","v":0}]
[71,"Q3",{"$f":"'Quarter 3'!B55","v":0},{"$f":"'Quarter 3'!C55","v":0},{"$f":"'Quarter 3'!D55","v":0},{"$f":"'Quarter 3'!E55","v":0}]
[72,"Q3",{"$f":"'Quarter 3'!B56","v":0},{"$f":"'Quarter 3'!C56","v":0},{"$f":"'Quarter 3'!D56","v":0},{"$f":"'Quarter 3'!E56","v":0}]
[73,"Q3",{"$f":"'Quarter 3'!B57","v":0},{"$f":"'Quarter 3'!C57","v":0},{"$f":"'Quarter 3'!D57","v":0},{"$f":"'Quarter 3'!E57","v":0}]
[74,"Q3",{"$f":"'Quarter 3'!B58","v":0},{"$f":"'Quarter 3'!C58","v":0},{"$f":"'Quarter 3'!D58","v":0},{"$f":"'Quarter 3'!E58","v":0}]
[75,"Q3",{"$f":"'Quarter 3'!B59","v":0},{"$f":"'Quarter 3'!C59","v":0},{"$f":"'Quarter 3'!D59","v":0},{"$f":"'Quarter 3'!E59","v":0}]
[76,"Q3",{"$f":"'Quarter 3'!B60","v":0},{"$f":"'Quarter 3'!C60","v":0},{"$f":"'Quarter 3'!D60","v":0},{"$f":"'Quarter 3'!E60","v":0}]
[77,"Q3",{"$f":"'Quarter 3'!B61","v":0},{"$f":"'Quarter 3'!C61","v":0},{"$f":"'Quarter 3'!D61","v":0},{"$f":"'Quarter 3'!E61","v":0}]
[78,"Q3",{"$f":"'Quarter 3'!B62","v":0},{"$f":"'Quarter 3'!C62","v":0},{"$f":"'Quarter 3'!D62","v":0},{"$f":"'Quarter 3'!E62","v":0}]
[79,"Q3",{"$f":"'Quarter 3'!B63","v":0},{"$f":"'Quarter 3'!C63","v":0},{"$f":"'Quarter 3'!D63","v":0},{"$f":"'Quarter 3'!E63","v":0}]
[80,"Q3",{"$f":"'Quarter 3'!B64","v":0},{"$f":"'Quarter 3'!C64","v":0},{"$f":"'Quarter 3'!D64","v":0},{"$f":"'Quarter 3'!E64","v":0}]
[81,"Q3",{"$f":"'Quarter 3'!B65","v":0},{"$f":"'Quarter 3'!C65","v":0},{"$f":"'Quarter 3'!D65","v":0},{"$f":"'Quarter 3'!E65","v":0}]
[82,"Q3",{"$f":"'Quarter 3'!B66","v":0},{"$f":"'Quarter 3'!C66","v":0},{"$f":"'Quarter 3'!D66","v":0},{"$f":"'Quarter 3'!E66","v":0}]
[83,"Q3",{"$f":"'Quarter 3'!B67","v":0},{"$f":"'Quarter 3'!C67","v":0},{"$f":"'Quarter 3'!D67","v":0},{"$f":"'Quarter 3'!E67","v":0}]
[84,"Q3",{"$f":"'Quarter 3'!B68","v":0},{"$f":"'Quarter 3'!C68","v":0},{"$f":"'Quarter 3'!D68","v":0},{"$f":"'Quarter 3'!E68","v":0}]
[85,"Q3",{"$f":"'Quarter 3'!B69","v":0},{"$f":"'Quarter 3'!C69","v":0},{"$f":"'Quarter 3'!D69","v":0},{"$f":"'Quarter 3'!E69","v":0}]
[86,"Q3",{"$f":"'Quarter 3'!B70","v":0},{"$f":"'Quarter 3'!C70","v":0},{"$f":"'Quarter 3'!D70","v":0},{"$f":"'Quarter 3'!E70","v":0}]
[87,"Q3",{"$f":"'Quarter 3'!B71","v":0},{"$f":"'Quarter 3'!C71","v":0},{"$f":"'Quarter 3'!D71","v":0},{"$f":"'Quarter 3'!E71","v":0}]
[88,"Q3",{"$f":"'Quarter 3'!B72","v":0},{"$f":"'Quarter 3'!C72","v":0},{"$f":"'Quarter 3'!D72","v":0},{"$f":"'Quarter 3'!E72","v":0}]
[89,"Q3",{"$f":"'Quarter 3'!B73","v":0},{"$f":"'Quarter 3'!C73","v":0},{"$f":"'Quarter 3'!D73","v":0},{"$f":"'Quarter 3'!E73","v":0}]
[90,"Q3",{"$f":"'Quarter 3'!B74","v":0},{"$f":"'Quarter 3'!C74","v":0},{"$f":"'Quarter 3'!D74","v":0},{"$f":"'Quarter 3'!E74","v":0}]
[91,"Q4",{"$f":"'Quarter 4'!B45","v":0},{"$f":"'Quarter 4'!C45","v":0},{"$f":"'Quarter 4'!D45","v":0},{"$f":"'Quarter 4'!E45","v":0}]
[92,"Q4",{"$f":"'Quarter 4'!B46","v":0},{"$f":"'Quarter 4'!C46","v":0},{"$f":"'Quarter 4'!D46","v":0},{"$f":"'Quarter 4'!E46","v":0}]
[93,"Q4",{"$f":"'Quarter 4'!B47","v":0},{"$f":"'Quarter 4'!C47","v":0},{"$f":"'Quarter 4'!D47","v":0},{"$f":"'Quarter 4'!E47","v":0}]
[94,"Q4",{"$f":"'Quarter 4'!B48","v":0},{"$f":"'Quarter 4'!C48","v":0},{"$f":"'Quarter 4'!D48","v":0},{"$f":"'Quarter 4'!E48","v":0}]
[95,"Q4",{"$f":"'Quarter 4'!B49","v":0},{"$f":"'Quarter 4'!C49","v":0},{"$f":"'Quarter 4'!D49","v":0},{"$f":"'Quarter 4'!E49","v":0}]
[96,"Q4",{"$f":"'Quarter 4'!B50","v":0},{"$f":"'Quarter 4'!C50","v":0},{"$f":"'Quarter 4'!D50","v":0},{"$f":"'Quarter 4'!E50","v":0}]
[97,"Q4",{"$f":"'Quarter 4'!B51","v":0},{"$f":"'Quarter 4'!C51","v":0},{"$f":"'Quarter 4'!D51","v":0},{"$f":"'Quarter 4'!E51","v":0}]
[98,"Q4",{"$f":"'Quarter 4'!B52","v":0},{"$f":"'Quarter 4'!C52","v":0},{"$f":"'Quarter 4'!D52","v":0},{"$f":"'Quarter 4'!E52","v":0}]
[99,"Q4",{"$f":"'Quarter 4'!B53","v":0},{"$f":"'Quarter 4'!C53","v":0},{"$f":"'Quarter 4'!D53","v":0},{"$f":"'Quarter 4'!E53","v":0}]
[100,"Q4",{"$f":"'Quarter 4'!B54","v":0},{"$f":"'Quarter 4'!C54","v":0},{"$f":"'Quarter 4'!D54","v":0},{"$f":"'Quarter 4'!E54","v":0}]
[101,"Q4",{"$f":"'Quarter 4'!B55","v":0},{"$f":"'Quarter 4'!C55","v":0},{"$f":"'Quarter 4'!D55","v":0},{"$f":"'Quarter 4'!E55","v":0}]
[102,"Q4",{"$f":"'Quarter 4'!B56","v":0},{"$f":"'Quarter 4'!C56","v":0},{"$f":"'Quarter 4'!D56","v":0},{"$f":"'Quarter 4'!E56","v":0}]
[103,"Q4",{"$f":"'Quarter 4'!B57","v":0},{"$f":"'Quarter 4'!C57","v":0},{"$f":"'Quarter 4'!D57","v":0},{"$f":"'Quarter 4'!E57","v":0}]
[104,"Q4",{"$f":"'Quarter 4'!B58","v":0},{"$f":"'Quarter 4'!C58","v":0},{"$f":"'Quarter 4'!D58","v":0},{"$f":"'Quarter 4'!E58","v":0}]
[105,"Q4",{"$f":"'Quarter 4'!B59","v":0},{"$f":"'Quarter 4'!C59","v":0},{"$f":"'Quarter 4'!D59","v":0},{"$f":"'Quarter 4'!E59","v":0}]
[106,"Q4",{"$f":"'Quarter 4'!B60","v":0},{"$f":"'Quarter 4'!C60","v":0},{"$f":"'Quarter 4'!D60","v":0},{"$f":"'Quarter 4'!E60","v":0}]
[107,"Q4",{"$f":"'Quarter 4'!B61","v":0},{"$f":"'Quarter 4'!C61","v":0},{"$f":"'Quarter 4'!D61","v":0},{"$f":"'Quarter 4'!E61","v":0}]
[108,"Q4",{"$f":"'Quarter 4'!B62","v":0},{"$f":"'Quarter 4'!C62","v":0},{"$f":"'Quarter 4'!D62","v":0},{"$f":"'Quarter 4'!E62","v":0}]
[109,"Q4",{"$f":"'Quarter 4'!B63","v":0},{"$f":"'Quarter 4'!C63","v":0},{"$f":"'Quarter 4'!D63","v":0},{"$f":"'Quarter 4'!E63","v":0}]
[110,"Q4",{"$f":"'Quarter 4'!B64","v":0},{"$f":"'Quarter 4'!C64","v":0},{"$f":"'Quarter 4'!D64","v":0},{"$f":"'Quarter 4'!E64","v":0}]
[111,"Q4",{"$f":"'Quarter 4'!B65","v":0},{"$f":"'Quarter 4'!C65","v":0},{"$f":"'Quarter 4'!D65","v":0},{"$f":"'Quarter 4'!E65","v":0}]
[112,"Q4",{"$f":"'Quarter 4'!B66","v":0},{"$f":"'Quarter 4'!C66","v":0},{"$f":"'Quarter 4'!D66","v":0},{"$f":"'Quarter 4'!E66","v":0}]
[113,"Q4",{"$f":"'Quarter 4'!B67","v":0},{"$f":"'Quarter 4'!C67","v":0},{"$f":"'Quarter 4'!D67","v":0},{"$f":"'Quarter 4'!E67","v":0}]
[114,"Q4",{"$f":"'Quarter 4'!B68","v":0},{"$f":"'Quarter 4'!C68","v":0},{"$f":"'Quarter 4'!D68","v":0},{"$f":"'Quarter 4'!E68","v":0}]
[115,"Q4",{"$f":"'Quarter 4'!B69","v":0},{"$f":"'Quarter 4'!C69","v":0},{"$f":"'Quarter 4'!D69","v":0},{"$f":"'Quarter 4'!E69","v":0}]
[116,"Q4",{"$f":"'Quarter 4'!B70","v":0},{"$f":"'Quarter 4'!C70","v":0},{"$f":"'Quarter 4'!D70","v":0},{"$f":"'Quarter 4'!E70","v":0}]
[117,"Q4",{"$f":"'Quarter 4'!B71","v":0},{"$f":"'Quarter 4'!C71","v":0},{"$f":"'Quarter 4'!D71","v":0},{"$f":"'Quarter 4'!E71","v":0}]
[118,"Q4",{"$f":"'Quarter 4'!B72","v":0},{"$f":"'Quarter 4'!C72","v":0},{"$f":"'Quarter 4'!D72","v":0},{"$f":"'Quarter 4'!E72","v":0}]
[119,"Q4",{"$f":"'Quarter 4'!B73","v":0},{"$f":"'Quarter 4'!C73","v":0},{"$f":"'Quarter 4'!D73","v":0},{"$f":"'Quarter 4'!E73","v":0}]
[120,"Q4",{"$f":"'Quarter 4'!B74","v":0},{"$f":"'Quarter 4'!C74","v":0},{"$f":"'Quarter 4'!D74","v":0},{"$f":"'Quarter 4'!E74","v":0}]
[null,null,null,null,"Total:",{"$f":"SUM(F134:F253)","v":0}]
[]
["Stream and Lake Restoration BMP design, implementation, or maintenance:"]
["C","Quarter","Watershed/Watershed Plan Name","Project Name","Activity","Appx. Hours"]
[1,"Q1",{"$f":"'Quarter 1'!B80","v":0},{"$f":"'Quarter 1'!C80","v":0},{"$f":"'Quarter 1'!D80","v":0},{"$f":"'Quarter 1'!E80","v":0}]
[2,"Q1",{"$f":"'Quarter 1'!B81","v":0},{"$f":"'Quarter 1'!C81","v":0},{"$f":"'Quarter 1'!D81","v":0},{"$f":"'Quarter 1'!E81","v":0}]
[3,"Q1",{"$f":"'Quarter 1'!B82","v":0},{"$f":"'Quarter 1'!C82","v":0},{"$f":"'Quarter 1'!D82","v":0},{"$f":"'Quarter 1'!E82","v":0}]
[4,"Q1",{"$f":"'Quarter 1'!B83","v":0},{"$f":"'Quarter 1'!C83","v":0},{"$f":"'Quarter 1'!D83","v":0},{"$f":"'Quarter 1'!E83","v":0}]
[5,"Q1",{"$f":"'Quarter 1'!B84","v":0},{"$f":"'Quarter 1'!C84","v":0},{"$f":"'Quarter 1'!D84","v":0},{"$f":"'Quarter 1'!E84","v":0}]
[6,"Q1",{"$f":"'Quarter 1'!B85","v":0},{"$f":"'Quarter 1'!C85","v":0},{"$f":"'Quarter 1'!D85","v":0},{"$f":"'Quarter 1'!E85","v":0}]
[7,"Q1",{"$f":"'Quarter 1'!B86","v":0},{"$f":"'Quarter 1'!C86","v":0},{"$f":"'Quarter 1'!D86","v":0},{"$f":"'Quarter 1'!E86","v":0}]
[8,"Q1",{"$f":"'Quarter 1'!B87","v":0},{"$f":"'Quarter 1'!C87","v":0},{"$f":"'Quarter 1'!D87","v":0},{"$f":"'Quarter 1'!E87","v":0}]
[9,"Q1",{"$f":"'Quarter 1'!B88","v":0},{"$f":"'Quarter 1'!C88","v":0},{"$f":"'Quarter 1'!D88","v":0},{"$f":"'Quarter 1'!E88","v":0}]
[10,"Q1",{"$f":"'Quarter 1'!B89","v":0},{"$f":"'Quarter 1'!C89","v":0},{"$f":"'Quarter 1'!D89","v":0},{"$f":"'Quarter 1'!E89","v":0}]
[11,"Q1",{"$f":"'Quarter 1'!B90","v":0},{"$f":"'Quarter 1'!C90","v":0},{"$f":"'Quarter 1'!D90","v":0},{"$f":"'Quarter 1'!E90","v":0}]
[12,"Q1",{"$f":"'Quarter 1'!B91","v":0},{"$f":"'Quarter 1'!C91","v":0},{"$f":"'Quarter 1'!D91","v":0},{"$f":"'Quarter 1'!E91","v":0}]
[13,"Q1",{"$f":"'Quarter 1'!B92","v":0},{"$f":"'Quarter 1'!C92","v":0},{"$f":"'Quarter 1'!D92","v":0},{"$f":"'Quarter 1'!E92","v":0}]
[14,"Q1",{"$f":"'Quarter 1'!B93","v":0},{"$f":"'Quarter 1'!C93","v":0},{"$f":"'Quarter 1'!D93","v":0},{"$f":"'Quarter 1'!E93","v":0}]
[15,"Q1",{"$f":"'Quarter 1'!B94","v":0},{"$f":"'Quarter 1'!C94","v":0},{"$f":"'Quarter 1'!D94","v":0},{"$f":"'Quarter 1'!E94","v":0}]
[16,"Q1",{"$f":"'Quarter 1'!B95","v":0},{"$f":"'Quarter 1'!C95","v":0},{"$f":"'Quarter 1'!D95","v":0},{"$f":"'Quarter 1'!E95","v":0}]
[17,"Q1",{"$f":"'Quarter 1'!B96","v":0},{"$f":"'Quarter 1'!C96","v":0},{"$f":"'Quarter 1'!D96","v":0},{"$f":"'Quarter 1'!E96","v":0}]
[18,"Q1",{"$f":"'Quarter 1'!B97","v":0},{"$f":"'Quarter 1'!C97","v":0},{"$f":"'Quarter 1'!D97","v":0},{"$f":"'Quarter 1'!E97","v":0}]
[19,"Q1",{"$f":"'Quarter 1'!B98","v":0},{"$f":"'Quarter 1'!C98","v":0},{"$f":"'Quarter 1'!D98","v":0},{"$f":"'Quarter 1'!E98","v":0}]
[20,"Q1",{"$f":"'Quarter 1'!B99","v":0},{"$f":"'Quarter 1'!C99","v":0},{"$f":"'Quarter 1'!D99","v":0},{"$f":"'Quarter 1'!E99","v":0}]
[21,"Q1",{"$f":"'Quarter 1'!B100","v":0},{"$f":"'Quarter 1'!C100","v":0},{"$f":"'Quarter 1'!D100","v":0},{"$f":"'Quarter 1'!E100","v":0}]
[22,"Q1",{"$f":"'Quarter 1'!B101","v":0},{"$f":"'Quarter 1'!C101","v":0},{"$f":"'Quarter 1'!D101","v":0},{"$f":"'Quarter 1'!E101","v":0}]
[23,"Q1",{"$f":"'Quarter 1'!B102","v":0},{"$f":"'Quarter 1'!C102","v":0},{"$f":"'Quarter 1'!D102","v":0},{"$f":"'Quarter 1'!E102","v":0}]
[24,"Q1",{"$f":"'Quarter 1'!B103","v":0},{"$f":"'Quarter 1'!C103","v":0},{"$f":"'Quarter 1'!D103","v":0},{"$f":"'Quarter 1'!E103","v":0}]
[25,"Q1",{"$f":"'Quarter 1'!B104","v":0},{"$f":"'Quarter 1'!C104","v":0},{"$f":"'Quarter 1'!D104","v":0},{"$f":"'Quarter 1'!E104","v":0}]
[26,"Q1",{"$f":"'Quarter 1'!B105","v":0},{"$f":"'Quarter 1'!C105","v":0},{"$f":"'Quarter 1'!D105","v":0},{"$f":"'Quarter 1'!E105","v":0}]
[27,"Q1",{"$f":"'Quarter 1'!B106","v":0},{"$f":"'Quarter 1'!C106","v":0},{"$f":"'Quarter 1'!D106","v":0},{"$f":"'Quarter 1'!E106","v":0}]
[28,"Q1",{"$f":"'Quarter 1'!B107","v":0},{"$f":"'Quarter 1'!C107","v":0},{"$f":"'Quarter 1'!D107","v":0},{"$f":"'Quarter 1'!E107","v":0}]
[29,"Q1",{"$f":"'Quarter 1'!B108","v":0},{"$f":"'Quarter 1'!C108","v":0},{"$f":"'Quarter 1'!D108","v":0},{"$f":"'Quarter 1'!E108","v":0}]
[30,"Q1",{"$f":"'Quarter 1'!B109","v":0},{"$f":"'Quarter 1'!C109","v":0},{"$f":"'Quarter 1'!D109","v":0},{"$f":"'Quarter 1'!E109","v":0}]
[31,"Q2",{"$f":"'Quarter 2'!B80","v":0},{"$f":"'Quarter 2'!C80","v":0},{"$f":"'Quarter 2'!D80","v":0},{"$f":"'Quarter 2'!E80","v":0}]
[32,"Q2",{"$f":"'Quarter 2'!B81","v":0},{"$f":"'Quarter 2'!C81","v":0},{"$f":"'Quarter 2'!D81","v":0},{"$f":"'Quarter 2'!E81","v":0}]
[33,"Q2",{"$f":"'Quarter 2'!B82","v":0},{"$f":"'Quarter 2'!C82","v":0},{"$f":"'Quarter 2'!D82","v":0},{"$f":"'Quarter 2'!E82","v":0}]
[34,"Q2",{"$f":"'Quarter 2'!B83","v":0},{"$f":"'Quarter 2'!C83","v":0},{"$f":"'Quarter 2'!D83","v":0},{"$f":"'Quarter 2'!E83","v":0}]
[35,"Q2",{"$f":"'Quarter 2'!B84","v":0},{"$f":"'Quarter 2'!C84","v":0},{"$f":"'Quarter 2'!D84","v":0},{"$f":"'Quarter 2'!E84","v":0}]
[36,"Q2",{"$f":"'Quarter 2'!B85","v":0},{"$f":"'Quarter 2'!C85","v":0},{"$f":"'Quarter 2'!D85","v":0},{"$f":"'Quarter 2'!E85","v":0}]
[37,"Q2",{"$f":"'Quarter 2'!B86","v":0},{"$f":"'Quarter 2'!C86","v":0},{"$f":"'Quarter 2'!D86","v":0},{"$f":"'Quarter 2'!E86","v":0}]
[38,"Q2",{"$f":"'Quarter 2'!B87","v":0},{"$f":"'Quarter 2'!C87","v":0},{"$f":"'Quarter 2'!D87","v":0},{"$f":"'Quarter 2'!E87","v":0}]
[39,"Q2",{"$f":"'Quarter 2'!B88","v":0},{"$f":"'Quarter 2'!C88","v":0},{"$f":"'Quarter 2'!D88","v":0},{"$f":"'Quarter 2'!E88","v":0}]
[40,"Q2",{"$f":"'Quarter 2'!B89","v":0},{"$f":"'Quarter 2'!C89","v":0},{"$f":"'Quarter 2'!D89","v":0},{"$f":"'Quarter 2'!E89","v":0}]
[41,"Q2",{"$f":"'Quarter 2'!B90","v":0},{"$f":"'Quarter 2'!C90","v":0},{"$f":"'Quarter 2'!D90","v":0},{"$f":"'Quarter 2'!E90","v":0}]
[42,"Q2",{"$f":"'Quarter 2'!B91","v":0},{"$f":"'Quarter 2'!C91","v":0},{"$f":"'Quarter 2'!D91","v":0},{"$f":"'Quarter 2'!E91","v":0}]
[43,"Q2",{"$f":"'Quarter 2'!B92","v":0},{"$f":"'Quarter 2'!C92","v":0},{"$f":"'Quarter 2'!D92","v":0},{"$f":"'Quarter 2'!E92","v":0}]
[44,"Q2",{"$f":"'Quarter 2'!B93","v":0},{"$f":"'Quarter 2'!C93","v":0},{"$f":"'Quarter 2'!D93","v":0},{"$f":"'Quarter 2'!E93","v":0}]
[45,"Q2",{"$f":"'Quarter 2'!B94","v":0},{"$f":"'Quarter 2'!C94","v":0},{"$f":"'Quarter 2'!D94","v":0},{"$f":"'Quarter 2'!E94","v":0}]
[46,"Q2",{"$f":"'Quarter 2'!B95","v":0},{"$f":"'Quarter 2'!C95","v":0},{"$f":"'Quarter 2'!D95","v":0},{"$f":"'Quarter 2'!E95","v":0}]
[47,"Q2",{"$f":"'Quarter 2'!B96","v":0},{"$f":"'Quarter 2'!C96","v":0},{"$f":"'Quarter 2'!D96","v":0},{"$f":"'Quarter 2'!E96","v":0}]
[48,"Q2",{"$f":"'Quarter 2'!B97","v":0},{"$f":"'Quarter 2'!C97","v":0},{"$f":"'Quarter 2'!D97","v":0},{"$f":"'Quarter 2'!E97","v":0}]
[49,"Q2",{"$f":"'Quarter 2'!B98","v":0},{"$f":"'Quarter 2'!C98","v":0},{"$f":"'Quarter 2'!D98","v":0},{"$f":"'Quarter 2'!E98","v":0}]
[50,"Q2",{"$f":"'Quarter 2'!B99","v":0},{"$f":"'Quarter 2'!C99","v":0},{"$f":"'Quarter 2'!D99","v":0},{"$f":"'Quarter 2'!E99","v":0}]
[51,"Q2",{"$f":"'Quarter 2'!B100","v":0},{"$f":"'Quarter 2'!C100","v":0},{"$f":"'Quarter 2'!D100","v":0},{"$f":"'Quarter 2'!E100","v":0}]
[52,"Q2",{"$f":"'Quarter 2'!B101","v":0},{"$f":"'Quarter 2'!C101","v":0},{"$f":"'Quarter 2'!D101","v":0},{"$f":"'Quarter 2'!E101","v":0}]
[53,"Q2",{"$f":"'Quarter 2'!B102","v":0},{"$f":"'Quarter 2'!C102","v":0},{"$f":"'Quarter 2'!D102","v":0},{"$f":"'Quarter 2'!E102","v":0}]
[54,"Q2",{"$f":"'Quarter 2'!B103","v":0},{"$f":"'Quarter 2'!C103","v":0},{"$f":"'Quarter 2'!D103","v":0},{"$f":"'Quarter 2'!E103","v":0}]
[55,"Q2",{"$f":"'Quarter 2'!B104","v":0},{"$f":"'Quarter 2'!C104","v":0},{"$f":"'Quarter 2'!D104","v":0},{"$f":"'Quarter 2'!E104","v":0}]
[56,"Q2",{"$f":"'Quarter 2'!B105","v":0},{"$f":"'Quarter 2'!C105","v":0},{"$f":"'Quarter 2'!D105","v":0},{"$f":"'Quarter 2'!E105","v":0}]
[57,"Q2",{"$f":"'Quarter 2'!B106","v":0},{"$f":"'Quarter 2'!C106","v":0},{"$f":"'Quarter 2'!D106","v":0},{"$f":"'Quarter 2'!E106","v":0}]
[58,"Q2",{"$f":"'Quarter 2'!B107","v":0},{"$f":"'Quarter 2'!C107","v":0},{"$f":"'Quarter 2'!D107","v":0},{"$f":"'Quarter 2'!E107","v":0}]
[59,"Q2",{"$f":"'Quarter 2'!B108","v":0},{"$f":"'Quarter 2'!C108","v":0},{"$f":"'Quarter 2'!D108","v":0},{"$f":"'Quarter 2'!E108","v":0}]
[60,"Q2",{"$f":"'Quarter 2'!B109","v":0},{"$f":"'Quarter 2'!C109","v":0},{"$f":"'Quarter 2'!D109","v":0},{"$f":"'Quarter 2'!E109","v":0}]
[61,"Q3",{"$f":"'Quarter 3'!B80","v":0},{"$f":"'Quarter 3'!C80","v":0},{"$f":"'Quarter 3'!D80","v":0},{"$f":"'Quarter 3'!E80","v":0}]
[62,"Q3",{"$f":"'Quarter 3'!B81","v":0},{"$f":"'Quarter 3'!C81","v":0},{"$f":"'Quarter 3'!D81","v":0},{"$f":"'Quarter 3'!E81","v":0}]
[63,"Q3",{"$f":"'Quarter 3'!B82","v":0},{"$f":"'Quarter 3'!C82","v":0},{"$f":"'Quarter 3'!D82","v":0},{"$f":"'Quarter 3'!E82","v":0}]
[64,"Q3",{"$f":"'Quarter 3'!B83","v":0},{"$f":"'Quarter 3'!C83","v":0},{"$f":"'Quarter 3'!D83","v":0},{"$f":"'Quarter 3'!E83","v":0}]
[65,"Q3",{"$f":"'Quarter 3'!B84","v":0},{"$f":"'Quarter 3'!C84","v":0},{"$f":"'Quarter 3'!D84","v":0},{"$f":"'Quarter 3'!E84","v":0}]
[66,"Q3",{"$f":"'Quarter 3'!B85","v":0},{"$f":"'Quarter 3'!C85","v":0},{"$f":"'Quarter 3'!D85","v":0},{"$f":"'Quarter 3'!E85","v":0}]
[67,"Q3",{"$f":"'Quarter 3'!B86","v":0},{"$f":"'Quarter 3'!C86","v":0},{"$f":"'Quarter 3'!D86","v":0},{"$f":"'Quarter 3'!E86","v":0}]
[68,"Q3",{"$f":"'Quarter 3'!B87","v":0},{"$f":"'Quarter 3'!C87","v":0},{"$f":"'Quarter 3'!D87","v":0},{"$f":"'Quarter 3'!E87","v":0}]
[69,"Q3",{"$f":"'Quarter 3'!B88","v":0},{"$f":"'Quarter 3'!C88","v":0},{"$f":"'Quarter 3'!D88","v":0},{"$f":"'Quarter 3'!E88","v":0}]
[70,"Q3",{"$f":"'Quarter 3'!B89","v":0},{"$f":"'Quarter 3'!C89","v":0},{"$f":"'Quarter 3'!D89","v":0},{"$f":"'Quarter 3'!E89","v":0}]
[71,"Q3",{"$f":"'Quarter 3'!B90","v":0},{"$f":"'Quarter 3'!C90","v":0},{"$f":"'Quarter 3'!D90","v":0},{"$f":"'Quarter 3'!E90","v":0}]
[72,"Q3",{"$f":"'Quarter 3'!B91","v":0},{"$f":"'Quarter 3'!C91","v":0},{"$f":"'Quarter 3'!D91","v":0},{"$f":"'Quarter 3'!E91","v":0}]
[73,"Q3",{"$f":"'Quarter 3'!B92","v":0},{"$f":"'Quarter 3'!C92","v":0},{"$f":"'Quarter 3'!D92","v":0},{"$f":"'Quarter 3'!E92","v":0}]
[74,"Q3",{"$f":"'Quarter 3'!B93","v":0},{"$f":"'Quarter 3'!C93","v":0},{"$f":"'Quarter 3'!D93","v":0},{"$f":"'Quarter 3'!E93","v":0}]
[75,"Q3",{"$f":"'Quarter 3'!B94","v":0},{"$f":"'Quarter 3'!C94","v":0},{"$f":"'Quarter 3'!D94","v":0},{"$f":"'Quarter 3'!E94","v":0}]
[76,"Q3",{"$f":"'Quarter 3'!B95","v":0},{"$f":"'Quarter 3'!C95","v":0},{"$f":"'Quarter 3'!D95","v":0},{"$f":"'Quarter 3'!E95","v":0}]
[77,"Q3",{"$f":"'Quarter 3'!B96","v":0},{"$f":"'Quarter 3'!C96","v":0},{"$f":"'Quarter 3'!D96","v":0},{"$f":"'Quarter 3'!E96","v":0}]
[78,"Q3",{"$f":"'Quarter 3'!B97","v":0},{"$f":"'Quarter 3'!C97","v":0},{"$f":"'Quarter 3'!D97","v":0},{"$f":"'Quarter 3'!E97","v":0}]
[79,"Q3",{"$f":"'Quarter 3'!B98","v":0},{"$f":"'Quarter 3'!C98","v":0},{"$f":"'Quarter 3'!D98","v":0},{"$f":"'Quarter 3'!E98","v":0}]
[80,"Q3",{"$f":"'Quarter 3'!B99","v":0},{"$f":"'Quarter 3'!C99","v":0},{"$f":"'Quarter 3'!D99","v":0},{"$f":"'Quarter 3'!E99","v":0}]
[81,"Q3",{"$f":"'Quarter 3'!B100","v":0},{"$f":"'Quarter 3'!C100","v":0},{"$f":"'Quarter 3'!D100","v":0},{"$f":"'Quarter 3'!E100","v":0}]
[82,"Q3",{"$f":"'Quarter 3'!B101","v":0},{"$f":"'Quarter 3'!C101","v":0},{"$f":"'Quarter 3'!D101","v":0},{"$f":"'Quarter 3'!E101","v":0}]
[83,"Q3",{"$f":"'Quarter 3'!B102","v":0},{"$f":"'Quarter 3'!C102","v":0},{"$f":"'Quarter 3'!D102","v":0},{"$f":"'Quarter 3'!E102","v":0}]
[84,"Q3",{"$f":"'Quarter 3'!B103","v":0},{"$f":"'Quarter 3'!C103","v":0},{"$f":"'Quarter 3'!D103","v":0},{"$f":"'Quarter 3'!E103","v":0}]
[85,"Q3",{"$f":"'Quarter 3'!B104","v":0},{"$f":"'Quarter 3'!C104","v":0},{"$f":"'Quarter 3'!D104","v":0},{"$f":"'Quarter 3'!E104","v":0}]
[86,"Q3",{"$f":"'Quarter 3'!B105","v":0},{"$f":"'Quarter 3'!C105","v":0},{"$f":"'Quarter 3'!D105","v":0},{"$f":"'Quarter 3'!E105","v":0}]
[87,"Q3",{"$f":"'Quarter 3'!B106","v":0},{"$f":"'Quarter 3'!C106","v":0},{"$f":"'Quarter 3'!D106","v":0},{"$f":"'Quarter 3'!E106","v":0}]
[88,"Q3",{"$f":"'Quarter 3'!B107","v":0},{"$f":"'Quarter 3'!C107","v":0},{"$f":"'Quarter 3'!D107","v":0},{"$f":"'Quarter 3'!E107","v":0}]
[89,"Q3",{"$f":"'Quarter 3'!B108","v":0},{"$f":"'Quarter 3'!C108","v":0},{"$f":"'Quarter 3'!D108","v":0},{"$f":"'Quarter 3'!E108","v":0}]
[90,"Q3",{"$f":"'Quarter 3'!B109","v":0},{"$f":"'Quarter 3'!C109","v":0},{"$f":"'Quarter 3'!D109","v":0},{"$f":"'Quarter 3'!E109","v":0}]
[91,"Q4",{"$f":"'Quarter 4'!B80","v":0},{"$f":"'Quarter 4'!C80","v":0},{"$f":"'Quarter 4'!D80","v":0},{"$f":"'Quarter 4'!E80","v":0}]
[92,"Q4",{"$f":"'Quarter 4'!B81","v":0},{"$f":"'Quarter 4'!C81","v":0},{"$f":"'Quarter 4'!D81","v":0},{"$f":"'Quarter 4'!E81","v":0}]
[93,"Q4",{"$f":"'Quarter 4'!B82","v":0},{"$f":"'Quarter 4'!C82","v":0},{"$f":"'Quarter 4'!D82","v":0},{"$f":"'Quarter 4'!E82","v":0}]
[94,"Q4",{"$f":"'Quarter 4'!B83","v":0},{"$f":"'Quarter 4'!C83","v":0},{"$f":"'Quarter 4'!D83","v":0},{"$f":"'Quarter 4'!E83","v":0}]
[95,"Q4",{"$f":"'Quarter 4'!B84","v":0},{"$f":"'Quarter 4'!C84","v":0},{"$f":"'Quarter 4'!D84","v":0},{"$f":"'Quarter 4'!E84","v":0}]
[96,"Q4",{"$f":"'Quarter 4'!B85","v":0},{"$f":"'Quarter 4'!C85","v":0},{"$f":"'Quarter 4'!D85","v":0},{"$f":"'Quarter 4'!E85","v":0}]
[97,"Q4",{"$f":"'Quarter 4'!B86","v":0},{"$f":"'Quarter 4'!C86","v":0},{"$f":"'Quarter 4'!D86","v":0},{"$f":"'Quarter 4'!E86","v":0}]
[98,"Q4",{"$f":"'Quarter 4'!B87","v":0},{"$f":"'Quarter 4'!C87","v":0},{"$f":"'Quarter 4'!D87","v":0},{"$f":"'Quarter 4'!E87","v":0}]
[99,"Q4",{"$f":"'Quarter 4'!B88","v":0},{"$f":"'Quarter 4'!C88","v":0},{"$f":"'Quarter 4'!D88","v":0},{"$f":"'Quarter 4'!E88","v":0}]
[100,"Q4",{"$f":"'Quarter 4'!B89","v":0},{"$f":"'Quarter 4'!C89","v":0},{"$f":"'Quarter 4'!D89","v":0},{"$f":"'Quarter 4'!E89","v":0}]
[101,"Q4",{"$f":"'Quarter 4'!B90","v":0},{"$f":"'Quarter 4'!C90","v":0},{"$f":"'Quarter 4'!D90","v":0},{"$f":"'Quarter 4'!E90","v":0}]
[102,"Q4",{"$f":"'Quarter 4'!B91","v":0},{"$f":"'Quarter 4'!C91","v":0},{"$f":"'Quarter 4'!D91","v":0},{"$f":"'Quarter 4'!E91","v":0}]
[103,"Q4",{"$f":"'Quarter 4'!B92","v":0},{"$f":"'Quarter 4'!C92","v":0},{"$f":"'Quarter 4'!D92","v":0},{"$f":"'Quarter 4'!E92","v":0}]
[104,"Q4",{"$f":"'Quarter 4'!B93","v":0},{"$f":"'Quarter 4'!C93","v":0},{"$f":"'Quarter 4'!D93","v":0},{"$f":"'Quarter 4'!E93","v":0}]
[105,"Q4",{"$f":"'Quarter 4'!B94","v":0},{"$f":"'Quarter 4'!C94","v":0},{"$f":"'Quarter 4'!D94","v":0},{"$f":"'Quarter 4'!E94","v":0}]
[106,"Q4",{"$f":"'Quarter 4'!B95","v":0},{"$f":"'Quarter 4'!C95","v":0},{"$f":"'Quarter 4'!D95","v":0},{"$f":"'Quarter 4'!E95","v":0}]
[107,"Q4",{"$f":"'Quarter 4'!B96","v":0},{"$f":"'Quarter 4'!C96","v":0},{"$f":"'Quarter 4'!D96","v":0},{"$f":"'Quarter 4'!E96","v":0}]
[108,"Q4",{"$f":"'Quarter 4'!B97","v":0},{"$f":"'Quarter 4'!C97","v":0},{"$f":"'Quarter 4'!D97","v":0},{"$f":"'Quarter 4'!E97","v":0}]
[109,"Q4",{"$f":"'Quarter 4'!B98","v":0},{"$f":"'Quarter 4'!C98","v":0},{"$f":"'Quarter 4'!D98","v":0},{"$f":"'Quarter 4'!E98","v":0}]
[110,"Q4",{"$f":"'Quarter 4'!B99","v":0},{"$f":"'Quarter 4'!C99","v":0},{"$f":"'Quarter 4'!D99","v":0},{"$f":"'Quarter 4'!E99","v":0}]
[111,"Q4",{"$f":"'Quarter 4'!B100","v":0},{"$f":"'Quarter 4'!C100","v":0},{"$f":"'Quarter 4'!D100","v":0},{"$f":"'Quarter 4'!E100","v":0}]
[112,"Q4",{"$f":"'Quarter 4'!B101","v":0},{"$f":"'Quarter 4'!C101","v":0},{"$f":"'Quarter 4'!D101","v":0},{"$f":"'Quarter 4'!E101","v":0}]
[113,"Q4",{"$f":"'Quarter 4'!B102","v":0},{"$f":"'Quarter 4'!C102","v":0},{"$f":"'Quarter 4'!D102","v":0},{"$f":"'Quarter 4'!E102","v":0}]
[114,"Q4",{"$f":"'Quarter 4'!B103","v":0},{"$f":"'Quarter 4'!C103","v":0},{"$f":"'Quarter 4'!D103","v":0},{"$f":"'Quarter 4'!E103","v":0}]
[115,"Q4",{"$f":"'Quarter 4'!B104","v":0},{"$f":"'Quarter 4'!C104","v":0},{"$f":"'Quarter 4'!D104","v":0},{"$f":"'Quarter 4'!E104","v":0}]
[116,"Q4",{"$f":"'Quarter 4'!B105","v":0},{"$f":"'Quarter 4'!C105","v":0},{"$f":"'Quarter 4'!D105","v":0},{"$f":"'Quarter 4'!E105","v":0}]
[117,"Q4",{"$f":"'Quarter 4'!B106","v":0},{"$f":"'Quarter 4'!C106","v":0},{"$f":"'Quarter 4'!D106","v":0},{"$f":"'Quarter 4'!E106","v":0}]
[118,"Q4",{"$f":"'Quarter 4'!B107","v":0},{"$f":"'Quarter 4'!C107","v":0},{"$f":"'Quarter 4'!D107","v":0},{"$f":"'Quarter 4'!E107","v":0}]
[119,"Q4",{"$f":"'Quarter 4'!B108","v":0},{"$f":"'Quarter 4'!C108","v":0},{"$f":"'Quarter 4'!D108","v":0},{"$f":"'Quarter 4'!E108","v":0}]
[120,"Q4",{"$f":"'Quarter 4'!B109","v":0},{"$f":"'Quarter 4'!C109","v":0},{"$f":"'Quarter 4'!D109","v":0},{"$f":"'Quarter 4'!E109","v":0}]
[null,null,null,null,"Total:",{"$f":"SUM(F258:F377)","v":0}]
[]
["AMD BMP design, implementation, or maintenance:"]
["D","Quarter","Watershed/Watershed Plan Name","Project Name","Activity","Appx. Hours"]
[1,"Q1",{"$f":"'Quarter 1'!B115","v":0},{"$f":"'Quarter 1'!C115","v":0},{"$f":"'Quarter 1'!D115","v":0},{"$f":"'Quarter 1'!E115","v":0}]
[2,"Q1",{"$f":"'Quarter 1'!B116","v":0},{"$f":"'Quarter 1'!C116","v":0},{"$f":"'Quarter 1'!D116","v":0},{"$f":"'Quarter 1'!E116","v":0}]
[3,"Q1",{"$f":"'Quarter 1'!B117","v":0},{"$f":"'Quarter 1'!C117","v":0},{"$f":"'Quarter 1'!D117","v":0},{"$f":"'Quarter 1'!E117","v":0}]
[4,"Q1",{"$f":"'Quarter 1'!B118","v":0},{"$f":"'Quarter 1'!C118","v":0},{"$f":"'Quarter 1'!D118","v":0},{"$f":"'Quarter 1'!E118","v":0}]
[5,"Q1",{"$f":"'Quarter 1'!B119","v":0},{"$f":"'Quarter 1'!C119","v":0},{"$f":"'Quarter 1'!D119","v":0},{"$f":"'Quarter 1'!E119","v":0}]
[6,"Q1",{"$f":"'Quarter 1'!B120","v":0},{"$f":"'Quarter 1'!C120","v":0},{"$f":"'Quarter 1'!D120","v":0},{"$f":"'Quarter 1'!E120","v":0}]
[7,"Q1",{"$f":"'Quarter 1'!B121","v":0},{"$f":"'Quarter 1'!C121","v":0},{"$f":"'Quarter 1'!D121","v":0},{"$f":"'Quarter 1'!E121","v":0}]
[8,"Q1",{"$f":"'Quarter 1'!B122","v":0},{"$f":"'Quarter 1'!C122","v":0},{"$f":"'Quarter 1'!D122","v":0},{"$f":"'Quarter 1'!E122","v":0}]
[9,"Q1",{"$f":"'Quarter 1'!B123","v":0},{"$f":"'Quarter 1'!C123","v":0},{"$f":"'Quarter 1'!D123","v":0},{"$f":"'Quarter 1'!E123","v":0}]
[10,"Q1",{"$f":"'Quarter 1'!B124","v":0},{"$f":"'Quarter 1'!C124","v":0},{"$f":"'Quarter 1'!D124","v":0},{"$f":"'Quarter 1'!E124","v":0}]
[11,"Q1",{"$f":"'Quarter 1'!B125","v":0},{"$f":"'Quarter 1'!C125","v":0},{"$f":"'Quarter 1'!D125","v":0},{"$f":"'Quarter 1'!E125","v":0}]
[12,"Q1",{"$f":"'Quarter 1'!B126","v":0},{"$f":"'Quarter 1'!C126","v":0},{"$f":"'Quarter 1'!D126","v":0},{"$f":"'Quarter 1'!E126","v":0}]
[13,"Q1",{"$f":"'Quarter 1'!B127","v":0},{"$f":"'Quarter 1'!C127","v":0},{"$f":"'Quarter 1'!D127","v":0},{"$f":"'Quarter 1'!E127","v":0}]
[14,"Q1",{"$f":"'Quarter 1'!B128","v":0},{"$f":"'Quarter 1'!C128","v":0},{"$f":"'Quarter 1'!D128","v":0},{"$f":"'Quarter 1'!E128","v":0}]
[15,"Q1",{"$f":"'Quarter 1'!B129","v":0},{"$f":"'Quarter 1'!C129","v":0},{"$f":"'Quarter 1'!D129","v":0},{"$f":"'Quarter 1'!E129","v":0}]
[16,"Q1",{"$f":"'Quarter 1'!B130","v":0},{"$f":"'Quarter 1'!C130","v":0},{"$f":"'Quarter 1'!D130","v":0},{"$f":"'Quarter 1'!E130","v":0}]
[17,"Q1",{"$f":"'Quarter 1'!B131","v":0},{"$f":"'Quarter 1'!C131","v":0},{"$f":"'Quarter 1'!D131","v":0},{"$f":"'Quarter 1'!E131","v":0}]
[18,"Q1",{"$f":"'Quarter 1'!B132","v":0},{"$f":"'Quarter 1'!C132","v":0},{"$f":"'Quarter 1'!D132","v":0},{"$f":"'Quarter 1'!E132","v":0}]
[19,"Q1",{"$f":"'Quarter 1'!B133","v":0},{"$f":"'Quarter 1'!C133","v":0},{"$f":"'Quarter 1'!D133","v":0},{"$f":"'Quarter 1'!E133","v":0}]
[20,"Q1",{"$f":"'Quarter 1'!B134","v":0},{"$f":"'Quarter 1'!C134","v":0},{"$f":"'Quarter 1'!D134","v":0},{"$f":"'Quarter 1'!E134","v":0}]
[21,"Q1",{"$f":"'Quarter 1'!B135","v":0},{"$f":"'Quarter 1'!C135","v":0},{"$f":"'Quarter 1'!D135","v":0},{"$f":"'Quarter 1'!E135","v":0}]
[22,"Q1",{"$f":"'Quarter 1'!B136","v":0},{"$f":"'Quarter 1'!C136","v":0},{"$f":"'Quarter 1'!D136","v":0},{"$f":"'Quarter 1'!E136","v":0}]
[23,"Q1",{"$f":"'Quarter 1'!B137","v":0},{"$f":"'Quarter 1'!C137","v":0},{"$f":"'Quarter 1'!D137","v":0},{"$f":"'Quarter 1'!E137","v":0}]
[24,"Q1",{"$f":"'Quarter 1'!B138","v":0},{"$f":"'Quarter 1'!C138","v":0},{"$f":"'Quarter 1'!D138","v":0},{"$f":"'Quarter 1'!E138","v":0}]
[25,"Q1",{"$f":"'Quarter 1'!B139","v":0},{"$f":"'Quarter 1'!C139","v":0},{"$f":"'Quarter 1'!D139","v":0},{"$f":"'Quarter 1'!E139","v":0}]
[26,"Q1",{"$f":"'Quarter 1'!B140","v":0},{"$f":"'Quarter 1'!C140","v":0},{"$f":"'Quarter 1'!D140","v":0},{"$f":"'Quarter 1'!E140","v":0}]
[27,"Q1",{"$f":"'Quarter 1'!B141","v":0},{"$f":"'Quarter 1'!C141","v":0},{"$f":"'Quarter 1'!D141","v":0},{"$f":"'Quarter 1'!E141","v":0}]
[28,"Q1",{"$f":"'Quarter 1'!B142","v":0},{"$f":"'Quarter 1'!C142","v":0},{"$f":"'Quarter 1'!D142","v":0},{"$f":"'Quarter 1'!E142","v":0}]
[29,"Q1",{"$f":"'Quarter 1'!B143","v":0},{"$f":"'Quarter 1'!C143","v":0},{"$f":"'Quarter 1'!D143","v":0},{"$f":"'Quarter 1'!E143","v":0}]
[30,"Q1",{"$f":"'Quarter 1'!B144","v":0},{"$f":"'Quarter 1'!C144","v":0},{"$f":"'Quarter 1'!D144","v":0},{"$f":"'Quarter 1'!E144","v":0}]
[31,"Q2",{"$f":"'Quarter 2'!B115","v":0},{"$f":"'Quarter 2'!C115","v":0},{"$f":"'Quarter 2'!D115","v":0},{"$f":"'Quarter 2'!E115","v":0}]
[32,"Q2",{"$f":"'Quarter 2'!B116","v":0},{"$f":"'Quarter 2'!C116","v":0},{"$f":"'Quarter 2'!D116","v":0},{"$f":"'Quarter 2'!E116","v":0}]
[33,"Q2",{"$f":"'Quarter 2'!B117","v":0},{"$f":"'Quarter 2'!C117","v":0},{"$f":"'Quarter 2'!D117","v":0},{"$f":"'Quarter 2'!E117","v":0}]
[34,"Q2",{"$f":"'Quarter 2'!B118","v":0},{"$f":"'Quarter 2'!C118","v":0},{"$f":"'Quarter 2'!D118","v":0},{"$f":"'Quarter 2'!E118","v":0}]
[35,"Q2",{"$f":"'Quarter 2'!B119","v":0},{"$f":"'Quarter 2'!C119","v":0},{"$f":"'Quarter 2'!D119","v":0},{"$f":"'Quarter 2'!E119","v":0}]
[36,"Q2",{"$f":"'Quarter 2'!B120","v":0},{"$f":"'Quarter 2'!C120","v":0},{"$f":"'Quarter 2'!D120","v":0},{"$f":"'Quarter 2'!E120","v":0}]
[37,"Q2",{"$f":"'Quarter 2'!B121","v":0},{"$f":"'Quarter 2'!C121","v":0},{"$f":"'Quarter 2'!D121","v":0},{"$f":"'Quarter 2'!E121","v":0}]
[38,"Q2",{"$f":"'Quarter 2'!B122","v":0},{"$f":"'Quarter 2'!C122","v":0},{"$f":"'Quarter 2'!D122","v":0},{"$f":"'Quarter 2'!E122","v":0}]
[39,"Q2",{"$f":"'Quarter 2'!B123","v":0},{"$f":"'Quarter 2'!C123","v":0},{"$f":"'Quarter 2'!D123","v":0},{"$f":"'Quarter 2'!E123","v":0}]
[40,"Q2",{"$f":"'Quarter 2'!B124","v":0},{"$f":"'Quarter 2'!C124","v":0},{"$f":"'Quarter 2'!D124","v":0},{"$f":"'Quarter 2'!E124","v":0}]
[41,"Q2",{"$f":"'Quarter 2'!B125","v":0},{"$f":"'Quarter 2'!C125","v":0},{"$f":"'Quarter 2'!D125","v":0},{"$f":"'Quarter 2'!E125","v":0}]
[42,"Q2",{"$f":"'Quarter 2'!B126","v":0},{"$f":"'Quarter 2'!C126","v":0},{"$f":"'Quarter 2'!D126","v":0},{"$f":"'Quarter 2'!E126","v":0}]
[43,"Q2",{"$f":"'Quarter 2'!B127","v":0},{"$f":"'Quarter 2'!C127","v":0},{"$f":"'Quarter 2'!D127","v":0},{"$f":"'Quarter 2'!E127","v":0}]
[44,"Q2",{"$f":"'Quarter 2'!B128","v":0},{"$f":"'Quarter 2'!C128","v":0},{"$f":"'Quarter 2'!D128","v":0},{"$f":"'Quarter 2'!E128","v":0}]
[45,"Q2",{"$f":"'Quarter 2'!B129","v":0},{"$f":"'Quarter 2'!C129","v":0},{"$f":"'Quarter 2'!D129","v":0},{"$f":"'Quarter 2'!E129","v":0}]
[46,"Q2",{"$f":"'Quarter 2'!B130","v":0},{"$f":"'Quarter 2'!C130","v":0},{"$f":"'Quarter 2'!D130","v":0},{"$f":"'Quarter 2'!E130","v":0}]
[47,"Q2",{"$f":"'Quarter 2'!B131","v":0},{"$f":"'Quarter 2'!C131","v":0},{"$f":"'Quarter 2'!D131","v":0},{"$f":"'Quarter 2'!E131","v":0}]
[48,"Q2",{"$f":"'Quarter 2'!B132","v":0},{"$f":"'Quarter 2'!C132","v":0},{"$f":"'Quarter 2'!D132","v":0},{"$f":"'Quarter 2'!E132","v":0}]
[49,"Q2",{"$f":"'Quarter 2'!B133","v":0},{"$f":"'Quarter 2'!C133","v":0},{"$f":"'Quarter 2'!D133","v":0},{"$f":"'Quarter 2'!E133","v":0}]
[50,"Q2",{"$f":"'Quarter 2'!B134","v":0},{"$f":"'Quarter 2'!C134","v":0},{"$f":"'Quarter 2'!D134","v":0},{"$f":"'Quarter 2'!E134","v":0}]
[51,"Q2",{"$f":"'Quarter 2'!B135","v":0},{"$f":"'Quarter 2'!C135","v":0},{"$f":"'Quarter 2'!D135","v":0},{"$f":"'Quarter 2'!E135","v":0}]
[52,"Q2",{"$f":"'Quarter 2'!B136","v":0},{"$f":"'Quarter 2'!C136","v":0},{"$f":"'Quarter 2'!D136","v":0},{"$f":"'Quarter 2'!E136","v":0}]
[53,"Q2",{"$f":"'Quarter 2'!B137","v":0},{"$f":"'Quarter 2'!C137","v":0},{"$f":"'Quarter 2'!D137","v":0},{"$f":"'Quarter 2'!E137","v":0}]
[54,"Q2",{"$f":"'Quarter 2'!B138","v":0},{"$f":"'Quarter 2'!C138","v":0},{"$f":"'Quarter 2'!D138","v":0},{"$f":"'Quarter 2'!E138","v":0}]
[55,"Q2",{"$f":"'Quarter 2'!B139","v":0},{"$f":"'Quarter 2'!C139","v":0},{"$f":"'Quarter 2'!D139","v":0},{"$f":"'Quarter 2'!E139","v":0}]
[56,"Q2",{"$f":"'Quarter 2'!B140","v":0},{"$f":"'Quarter 2'!C140","v":0},{"$f":"'Quarter 2'!D140","v":0},{"$f":"'Quarter 2'!E140","v":0}]
[57,"Q2",{"$f":"'Quarter 2'!B141","v":0},{"$f":"'Quarter 2'!C141","v":0},{"$f":"'Quarter 2'!D141","v":0},{"$f":"'Quarter 2'!E141","v":0}]
[58,"Q2",{"$f":"'Quarter 2'!B142","v":0},{"$f":"'Quarter 2'!C142","v":0},{"$f":"'Quarter 2'!D142","v":0},{"$f":"'Quarter 2'!E142","v":0}]
[59,"Q2",{"$f":"'Quarter 2'!B143","v":0},{"$f":"'Quarter 2'!C143","v":0},{"$f":"'Quarter 2'!D143","v":0},{"$f":"'Quarter 2'!E143","v":0}]
[60,"Q2",{"$f":"'Quarter 2'!B144","v":0},{"$f":"'Quarter 2'!C144","v":0},{"$f":"'Quarter 2'!D144","v":0},{"$f":"'Quarter 2'!E144","v":0}]
[61,"Q3",{"$f":"'Quarter 3'!B115","v":0},{"$f":"'Quarter 3'!C115","v":0},{"$f":"'Quarter 3'!D115","v":0},{"$f":"'Quarter 3'!E115","v":0}]
[62,"Q3",{"$f":"'Quarter 3'!B116","v":0},{"$f":"'Quarter 3'!C116","v":0},{"$f":"'Quarter 3'!D116","v":0},{"$f":"'Quarter 3'!E116","v":0}]
[63,"Q3",{"$f":"'Quarter 3'!B117","v":0},{"$f":"'Quarter 3'!C117","v":0},{"$f":"'Quarter 3'!D117","v":0},{"$f":"'Quarter 3'!E117","v":0}]
[64,"Q3",{"$f":"'Quarter 3'!B118","v":0},{"$f":"'Quarter 3'!C118","v":0},{"$f":"'Quarter 3'!D118","v":0},{"$f":"'Quarter 3'!E118","v":0}]
[65,"Q3",{"$f":"'Quarter 3'!B119","v":0},{"$f":"'Quarter 3'!C119","v":0},{"$f":"'Quarter 3'!D119","v":0},{"$f":"'Quarter 3'!E119","v":0}]
[66,"Q3",{"$f":"'Quarter 3'!B120","v":0},{"$f":"'Quarter 3'!C120","v":0},{"$f":"'Quarter 3'!D120","v":0},{"$f":"'Quarter 3'!E120","v":0}]
[67,"Q3",{"$f":"'Quarter 3'!B121","v":0},{"$f":"'Quarter 3'!C121","v":0},{"$f":"'Quarter 3'!D121","v":0},{"$f":"'Quarter 3'!E121","v":0}]
[68,"Q3",{"$f":"'Quarter 3'!B122","v":0},{"$f":"'Quarter 3'!C122","v":0},{"$f":"'Quarter 3'!D122","v":0},{"$f":"'Quarter 3'!E122","v":0}]
[69,"Q3",{"$f":"'Quarter 3'!B123","v":0},{"$f":"'Quarter 3'!C123","v":0},{"$f":"'Quarter 3'!D123","v":0},{"$f":"'Quarter 3'!E123","v":0}]
[70,"Q3",{"$f":"'Quarter 3'!B124","v":0},{"$f":"'Quarter 3'!C124","v":0},{"$f":"'Quarter 3'!D124","v":0},{"$f":"'Quarter 3'!E124","v":0}]
[71,"Q3",{"$f":"'Quarter 3'!B125","v":0},{"$f":"'Quarter 3'!C125","v":0},{"$f":"'Quarter 3'!D125","v":0},{"$f":"'Quarter 3'!E125","v":0}]
[72,"Q3",{"$f":"'Quarter 3'!B126","v":0},{"$f":"'Quarter 3'!C126","v":0},{"$f":"'Quarter 3'!D126","v":0},{"$f":"'Quarter 3'!E126","v":0}]
[73,"Q3",{"$f":"'Quarter 3'!B127","v":0},{"$f":"'Quarter 3'!C127","v":0},{"$f":"'Quarter 3'!D127","v":0},{"$f":"'Quarter 3'!E127","v":0}]
[74,"Q3",{"$f":"'Quarter 3'!B128","v":0},{"$f":"'Quarter 3'!C128","v":0},{"$f":"'Quarter 3'!D128","v":0},{"$f":"'Quarter 3'!E128","v":0}]
[75,"Q3",{"$f":"'Quarter 3'!B129","v":0},{"$f":"'Quarter 3'!C129","v":0},{"$f":"'Quarter 3'!D129","v":0},{"$f":"'Quarter 3'!E129","v":0}]
[76,"Q3",{"$f":"'Quarter 3'!B130","v":0},{"$f":"'Quarter 3'!C130","v":0},{"$f":"'Quarter 3'!D130","v":0},{"$f":"'Quarter 3'!E130","v":0}]
[77,"Q3",{"$f":"'Quarter 3'!B131","v":0},{"$f":"'Quarter 3'!C131","v":0},{"$f":"'Quarter 3'!D131","v":0},{"$f":"'Quarter 3'!E131","v":0}]
[78,"Q3",{"$f":"'Quarter 3'!B132","v":0},{"$f":"'Quarter 3'!C132","v":0},{"$f":"'Quarter 3'!D132","v":0},{"$f":"'Quarter 3'!E132","v":0}]
[79,"Q3",{"$f":"'Quarter 3'!B133","v":0},{"$f":"'Quarter 3'!C133","v":0},{"$f":"'Quarter 3'!D133","v":0},{"$f":"'Quarter 3'!E133","v":0}]
[80,"Q3",{"$f":"'Quarter 3'!B134","v":0},{"$f":"'Quarter 3'!C134","v":0},{"$f":"'Quarter 3'!D134","v":0},{"$f":"'Quarter 3'!E134","v":0}]
[81,"Q3",{"$f":"'Quarter 3'!B135","v":0},{"$f":"'Quarter 3'!C135","v":0},{"$f":"'Quarter 3'!D135","v":0},{"$f":"'Quarter 3'!E135","v":0}]
[82,"Q3",{"$f":"'Quarter 3'!B136","v":0},{"$f":"'Quarter 3'!C136","v":0},{"$f":"'Quarter 3'!D136","v":0},{"$f":"'Quarter 3'!E136","v":0}]
[83,"Q3",{"$f":"'Quarter 3'!B137","v":0},{"$f":"'Quarter 3'!C137","v":0},{"$f":"'Quarter 3'!D137","v":0},{"$f":"'Quarter 3'!E137","v":0}]
[84,"Q3",{"$f":"'Quarter 3'!B138","v":0},{"$f":"'Quarter 3'!C138","v":0},{"$f":"'Quarter 3'!D138","v":0},{"$f":"'Quarter 3'!E138","v":0}]
[85,"Q3",{"$f":"'Quarter 3'!B139","v":0},{"$f":"'Quarter 3'!C139","v":0},{"$f":"'Quarter 3'!D139","v":0},{"$f":"'Quarter 3'!E139","v":0}]
[86,"Q3",{"$f":"'Quarter 3'!B140","v":0},{"$f":"'Quarter 3'!C140","v":0},{"$f":"'Quarter 3'!D140","v":0},{"$f":"'Quarter 3'!E140","v":0}]
[87,"Q3",{"$f":"'Quarter 3'!B141","v":0},{"$f":"'Quarter 3'!C141","v":0},{"$f":"'Quarter 3'!D141","v":0},{"$f":"'Quarter 3'!E141","v":0}]
[88,"Q3",{"$f":"'Quarter 3'!B142","v":0},{"$f":"'Quarter 3'!C142","v":0},{"$f":"'Quarter 3'!D142","v":0},{"$f":"'Quarter 3'!E142","v":0}]
[89,"Q3",{"$f":"'Quarter 3'!B143","v":0},{"$f":"'Quarter 3'!C143","v":0},{"$f":"'Quarter 3'!D143","v":0},{"$f":"'Quarter 3'!E143","v":0}]
[90,"Q3",{"$f":"'Quarter 3'!B144","v":0},{"$f":"'Quarter 3'!C144","v":0},{"$f":"'Quarter 3'!D144","v":0},{"$f":"'Quarter 3'!E144","v":0}]
[91,"Q4",{"$f":"'Quarter 4'!B115","v":0},{"$f":"'Quarter 4'!C115","v":0},{"$f":"'Quarter 4'!D115","v":0},{"$f":"'Quarter 4'!E115","v":0}]
[92,"Q4",{"$f":"'Quarter 4'!B116","v":0},{"$f":"'Quarter 4'!C116","v":0},{"$f":"'Quarter 4'!D116","v":0},{"$f":"'Quarter 4'!E116","v":0}]
[93,"Q4",{"$f":"'Quarter 4'!B117","v":0},{"$f":"'Quarter 4'!C117","v":0},{"$f":"'Quarter 4'!D117","v":0},{"$f":"'Quarter 4'!E117","v":0}]
[94,"Q4",{"$f":"'Quarter 4'!B118","v":0},{"$f":"'Quarter 4'!C118","v":0},{"$f":"'Quarter 4'!D118","v":0},{"$f":"'Quarter 4'!E118","v":0}]
[95,"Q4",{"$f":"'Quarter 4'!B119","v":0},{"$f":"'Quarter 4'!C119","v":0},{"$f":"'Quarter 4'!D119","v":0},{"$f":"'Quarter 4'!E119","v":0}]
[96,"Q4",{"$f":"'Quarter 4'!B120","v":0},{"$f":"'Quarter 4'!C120","v":0},{"$f":"'Quarter 4'!D120","v":0},{"$f":"'Quarter 4'!E120","v":0}]
[97,"Q4",{"$f":"'Quarter 4'!B121","v":0},{"$f":"'Quarter 4'!C121","v":0},{"$f":"'Quarter 4'!D121","v":0},{"$f":"'Quarter 4'!E121","v":0}]
[98,"Q4",{"$f":"'Quarter 4'!B122","v":0},{"$f":"'Quarter 4'!C122","v":0},{"$f":"'Quarter 4'!D122","v":0},{"$f":"'Quarter 4'!E122","v":0}]
[99,"Q4",{"$f":"'Quarter 4'!B123","v":0},{"$f":"'Quarter 4'!C123","v":0},{"$f":"'Quarter 4'!D123","v":0},{"$f":"'Quarter 4'!E123","v":0}]
[100,"Q4",{"$f":"'Quarter 4'!B124","v":0},{"$f":"'Quarter 4'!C124","v":0},{"$f":"'Quarter 4'!D124","v":0},{"$f":"'Quarter 4'!E124","v":0}]
[101,"Q4",{"$f":"'Quarter 4'!B125","v":0},{"$f":"'Quarter 4'!C125","v":0},{"$f":"'Quarter 4'!D125","v":0},{"$f":"'Quarter 4'!E125","v":0}]
[102,"Q4",{"$f":"'Quarter 4'!B126","v":0},{"$f":"'Quarter 4'!C126","v":0},{"$f":"'Quarter 4'!D126","v":0},{"$f":"'Quarter 4'!E126","v":0}]
[103,"Q4",{"$f":"'Quarter 4'!B127","v":0},{"$f":"'Quarter 4'!C127","v":0},{"$f":"'Quarter 4'!D127","v":0},{"$f":"'Quarter 4'!E127","v":0}]
[104,"Q4",{"$f":"'Quarter 4'!B128","v":0},{"$f":"'Quarter 4'!C128","v":0},{"$f":"'Quarter 4'!D128","v":0},{"$f":"'Quarter 4'!E128","v":0}]
[105,"Q4",{"$f":"'Quarter 4'!B129","v":0},{"$f":"'Quarter 4'!C129","v":0},{"$f":"'Quarter 4'!D129","v":0},{"$f":"'Quarter 4'!E129","v":0}]
[106,"Q4",{"$f":"'Quarter 4'!B130","v":0},{"$f":"'Quarter 4'!C130","v":0},{"$f":"'Quarter 4'!D130","v":0},{"$f":"'Quarter 4'!E130","v":0}]
[107,"Q4",{"$f":"'Quarter 4'!B131","v":0},{"$f":"'Quarter 4'!C131","v":0},{"$f":"'Quarter 4'!D131","v":0},{"$f":"'Quarter 4'!E131","v":0}]
[108,"Q4",{"$f":"'Quarter 4'!B132","v":0},{"$f":"'Quarter 4'!C132","v":0},{"$f":"'Quarter 4'!D132","v":0},{"$f":"'Quarter 4'!E132","v":0}]
[109,"Q4",{"$f":"'Quarter 4'!B133","v":0},{"$f":"'Quarter 4'!C133","v":0},{"$f":"'Quarter 4'!D133","v":0},{"$f":"'Quarter 4'!E133","v":0}]
[110,"Q4",{"$f":"'Quarter 4'!B134","v":0},{"$f":"'Quarter 4'!C134","v":0},{"$f":"'Quarter 4'!D134","v":0},{"$f":"'Quarter 4'!E134","v":0}]
[111,"Q4",{"$f":"'Quarter 4'!B135","v":0},{"$f":"'Quarter 4'!C135","v":0},{"$f":"'Quarter 4'!D135","v":0},{"$f":"'Quarter 4'!E135","v":0}]
[112,"Q4",{"$f":"'Quarter 4'!B136","v":0},{"$f":"'Quarter 4'!C136","v":0},{"$f":"'Quarter 4'!D136","v":0},{"$f":"'Quarter 4'!E136","v":0}]
[113,"Q4",{"$f":"'Quarter 4'!B137","v":0},{"$f":"'Quarter 4'!C137","v":0},{"$f":"'Quarter 4'!D137","v":0},{"$f":"'Quarter 4'!E137","v":0}]
[114,"Q4",{"$f":"'Quarter 4'!B138","v":0},{"$f":"'Quarter 4'!C138","v":0},{"$f":"'Quarter 4'!D138","v":0},{"$f":"'Quarter 4'!E138","v":0}]
[115,"Q4",{"$f":"'Quarter 4'!B139","v":0},{"$f":"'Quarter 4'!C139","v":0},{"$f":"'Quarter 4'!D139","v":0},{"$f":"'Quarter 4'!E139","v":0}]
[116,"Q4",{"$f":"'Quarter 4'!B140","v":0},{"$f":"'Quarter 4'!C140","v":0},{"$f":"'Quarter 4'!D140","v":0},{"$f":"'Quarter 4'!E140","v":0}]
[117,"Q4",{"$f":"'Quarter 4'!B141","v":0},{"$f":"'Quarter 4'!C141","v":0},{"$f":"'Quarter 4'!D141","v":0},{"$f":"'Quarter 4'!E141","v":0}]
[118,"Q4",{"$f":"'Quarter 4'!B142","v":0},{"$f":"'Quarter 4'!C142","v":0},{"$f":"'Quarter 4'!D142","v":0},{"$f":"'Quarter 4'!E142","v":0}]
[119,"Q4",{"$f":"'Quarter 4'!B143","v":0},{"$f":"'Quarter 4'!C143","v":0},{"$f":"'Quarter 4'!D143","v":0},{"$f":"'Quarter 4'!E143","v":0}]
[120,"Q4",{"$f":"'Quarter 4'!B144","v":0},{"$f":"'Quarter 4'!C144","v":0},{"$f":"'Quarter 4'!D144","v":0},{"$f":"'Quarter 4'!E144","v":0}]
[null,null,null,null,"Total:",{"$f":"SUM(F382:F501)","v":0}]
[]
["Watershed Monitoring and Assessment:"]
["E","Quarter","Watershed/Watershed Plan Name","Project Name","Activity","Appx. Hours"]
[1,"Q1",{"$f":"'Quarter 1'!B150","v":0},{"$f":"'Quarter 1'!C150","v":0},{"$f":"'Quarter 1'!D150","v":0},{"$f":"'Quarter 1'!E150","v":0}]
[2,"Q1",{"$f":"'Quarter 1'!B151","v":0},{"$f":"'Quarter 1'!C151","v":0},{"$f":"'Quarter 1'!D151","v":0},{"$f":"'Quarter 1'!E151","v":0}]
[3,"Q1",{"$f":"'Quarter 1'!B152","v":0},{"$f":"'Quarter 1'!C152","v":0},{"$f":"'Quarter 1'!D152","v":0},{"$f":"'Quarter 1'!E152","v":0}]
[4,"Q1",{"$f":"'Quarter 1'!B153","v":0},{"$f":"'Quarter 1'!C153","v":0},{"$f":"'Quarter 1'!D153","v":0},{"$f":"'Quarter 1'!E153","v":0}]
[5,"Q1",{"$f":"'Quarter 1'!B154","v":0},{"$f":"'Quarter 1'!C154","v":0},{"$f":"'Quarter 1'!D154","v":0},{"$f":"'Quarter 1'!E154","v":0}]
[6,"Q1",{"$f":"'Quarter 1'!B155","v":0},{"$f":"'Quarter 1'!C155","v":0},{"$f":"'Quarter 1'!D155","v":0},{"$f":"'Quarter 1'!E155","v":0}]
[7,"Q1",{"$f":"'Quarter 1'!B156","v":0},{"$f":"'Quarter 1'!C156","v":0},{"$f":"'Quarter 1'!D156","v":0},{"$f":"'Quarter 1'!E156","v":0}]
[8,"Q1",{"$f":"'Quarter 1'!B157","v":0},{"$f":"'Quarter 1'!C157","v":0},{"$f":"'Quarter 1'!D157","v":0},{"$f":"'Quarter 1'!E157","v":0}]
[9,"Q1",{"$f":"'Quarter 1'!B158","v":0},{"$f":"'Quarter 1'!C158","v":0},{"$f":"'Quarter 1'!D158","v":0},{"$f":"'Quarter 1'!E158","v":0}]
[10,"Q1",{"$f":"'Quarter 1'!B159","v":0},{"$f":"'Quarter 1'!C159","v":0},{"$f":"'Quarter 1'!D159","v":0},{"$f":"'Quarter 1'!E159","v":0}]
[11,"Q1",{"$f":"'Quarter 1'!B160","v":0},{"$f":"'Quarter 1'!C160","v":0},{"$f":"'Quarter 1'!D160","v":0},{"$f":"'Quarter 1'!E160","v":0}]
[12,"Q1",{"$f":"'Quarter 1'!B161","v":0},{"$f":"'Quarter 1'!C161","v":0},{"$f":"'Quarter 1'!D161","v":0},{"$f":"'Quarter 1'!E161","v":0}]
[13,"Q1",{"$f":"'Quarter 1'!B162","v":0},{"$f":"'Quarter 1'!C162","v":0},{"$f":"'Quarter 1'!D162","v":0},{"$f":"'Quarter 1'!E162","v":0}]
[14,"Q1",{"$f":"'Quarter 1'!B163","v":0},{"$f":"'Quarter 1'!C163","v":0},{"$f":"'Quarter 1'!D163","v":0},{"$f":"'Quarter 1'!E163","v":0}]
[15,"Q1",{"$f":"'Quarter 1'!B164","v":0},{"$f":"'Quarter 1'!C164","v":0},{"$f":"'Quarter 1'!D164","v":0},{"$f":"'Quarter 1'!E164","v":0}]
[16,"Q1",{"$f":"'Quarter 1'!B165","v":0},{"$f":"'Quarter 1'!C165","v":0},{"$f":"'Quarter 1'!D165","v":0},{"$f":"'Quarter 1'!E165","v":0}]
[17,"Q1",{"$f":"'Quarter 1'!B166","v":0},{"$f":"'Quarter 1'!C166","v":0},{"$f":"'Quarter 1'!D166","v":0},{"$f":"'Quarter 1'!E166","v":0}]
[18,"Q1",{"$f":"'Quarter 1'!B167","v":0},{"$f":"'Quarter 1'!C167","v":0},{"$f":"'Quarter 1'!D167","v":0},{"$f":"'Quarter 1'!E167","v":0}]
[19,"Q1",{"$f":"'Quarter 1'!B168","v":0},{"$f":"'Quarter 1'!C168","v":0},{"$f":"'Quarter 1'!D168","v":0},{"$f":"'Quarter 1'!E168","v":0}]
[20,"Q1",{"$f":"'Quarter 1'!B169","v":0},{"$f":"'Quarter 1'!C169","v":0},{"$f":"'Quarter 1'!D169","v":0},{"$f":"'Quarter 1'!E169","v":0}]
[21,"Q1",{"$f":"'Quarter 1'!B170","v":0},{"$f":"'Quarter 1'!C170","v":0},{"$f":"'Quarter 1'!D170","v":0},{"$f":"'Quarter 1'!E170","v":0}]
[22,"Q1",{"$f":"'Quarter 1'!B171","v":0},{"$f":"'Quarter 1'!C171","v":0},{"$f":"'Quarter 1'!D171","v":0},{"$f":"'Quarter 1'!E171","v":0}]
[23,"Q1",{"$f":"'Quarter 1'!B172","v":0},{"$f":"'Quarter 1'!C172","v":0},{"$f":"'Quarter 1'!D172","v":0},{"$f":"'Quarter 1'!E172","v":0}]
[24,"Q1",{"$f":"'Quarter 1'!B173","v":0},{"$f":"'Quarter 1'!C173","v":0},{"$f":"'Quarter 1'!D173","v":0},{"$f":"'Quarter 1'!E173","v":0}]
[25,"Q1",{"$f":"'Quarter 1'!B174","v":0},{"$f":"'Quarter 1'!C174","v":0},{"$f":"'Quarter 1'!D174","v":0},{"$f":"'Quarter 1'!E174","v":0}]
[26,"Q1",{"$f":"'Quarter 1'!B175","v":0},{"$f":"'Quarter 1'!C175","v":0},{"$f":"'Quarter 1'!D175","v":0},{"$f":"'Quarter 1'!E175","v":0}]
[27,"Q1",{"$f":"'Quarter 1'!B176","v":0},{"$f":"'Quarter 1'!C176","v":0},{"$f":"'Quarter 1'!D176","v":0},{"$f":"'Quarter 1'!E176","v":0}]
[28,"Q1",{"$f":"'Quarter 1'!B177","v":0},{"$f":"'Quarter 1'!C177","v":0},{"$f":"'Quarter 1'!D177","v":0},{"$f":"'Quarter 1'!E177","v":0}]
[29,"Q1",{"$f":"'Quarter 1'!B178","v":0},{"$f":"'Quarter 1'!C178","v":0},{"$f":"'Quarter 1'!D178","v":0},{"$f":"'Quarter 1'!E178","v":0}]
[30,"Q1",{"$f":"'Quarter 1'!B179","v":0},{"$f":"'Quarter 1'!C179","v":0},{"$f":"'Quarter 1'!D179","v":0},{"$f":"'Quarter 1'!E179","v":0}]
[31,"Q2",{"$f":"'Quarter 2'!B150","v":0},{"$f":"'Quarter 2'!C150","v":0},{"$f":"'Quarter 2'!D150","v":0},{"$f":"'Quarter 2'!E150","v":0}]
[32,"Q2",{"$f":"'Quarter 2'!B151","v":0},{"$f":"'Quarter 2'!C151","v":0},{"$f":"'Quarter 2'!D151","v":0},{"$f":"'Quarter 2'!E151","v":0}]
[33,"Q2",{"$f":"'Quarter 2'!B152","v":0},{"$f":"'Quarter 2'!C152","v":0},{"$f":"'Quarter 2'!D152","v":0},{"$f":"'Quarter 2'!E152","v":0}]
[34,"Q2",{"$f":"'Quarter 2'!B153","v":0},{"$f":"'Quarter 2'!C153","v":0},{"$f":"'Quarter 2'!D153","v":0},{"$f":"'Quarter 2'!E153","v":0}]
[35,"Q2",{"$f":"'Quarter 2'!B154","v":0},{"$f":"'Quarter 2'!C154","v":0},{"$f":"'Quarter 2'!D154","v":0},{"$f":"'Quarter 2'!E154","v":0}]
[36,"Q2",{"$f":"'Quarter 2'!B155","v":0},{"$f":"'Quarter 2'!C155","v":0},{"$f":"'Quarter 2'!D155","v":0},{"$f":"'Quarter 2'!E155","v":0}]
[37,"Q2",{"$f":"'Quarter 2'!B156","v":0},{"$f":"'Quarter 2'!C156","v":0},{"$f":"'Quarter 2'!D156","v":0},{"$f":"'Quarter 2'!E156","v":0}]
[38,"Q2",{"$f":"'Quarter 2'!B157","v":0},{"$f":"'Quarter 2'!C157","v":0},{"$f":"'Quarter 2'!D157","v":0},{"$f":"'Quarter 2'!E157","v":0}]
[39,"Q2",{"$f":"'Quarter 2'!B158","v":0},{"$f":"'Quarter 2'!C158","v":0},{"$f":"'Quarter 2'!D158","v":0},{"$f":"'Quarter 2'!E158","v":0}]
[40,"Q2",{"$f":"'Quarter 2'!B159","v":0},{"$f":"'Quarter 2'!C159","v":0},{"$f":"'Quarter 2'!D159","v":0},{"$f":"'Quarter 2'!E159","v":0}]
[41,"Q2",{"$f":"'Quarter 2'!B160","v":0},{"$f":"'Quarter 2'!C160","v":0},{"$f":"'Quarter 2'!D160","v":0},{"$f":"'Quarter 2'!E160","v":0}]
[42,"Q2",{"$f":"'Quarter 2'!B161","v":0},{"$f":"'Quarter 2'!C161","v":0},{"$f":"'Quarter 2'!D161","v":0},{"$f":"'Quarter 2'!E161","v":0}]
[43,"Q2",{"$f":"'Quarter 2'!B162","v":0},{"$f":"'Quarter 2'!C162","v":0},{"$f":"'Quarter 2'!D162","v":0},{"$f":"'Quarter 2'!E162","v":0}]
[44,"Q2",{"$f":"'Quarter 2'!B163","v":0},{"$f":"'Quarter 2'!C163","v":0},{"$f":"'Quarter 2'!D163","v":0},{"$f":"'Quarter 2'!E163","v":0}]
[45,"Q2",{"$f":"'Quarter 2'!B164","v":0},{"$f":"'Quarter 2'!C164","v":0},{"$f":"'Quarter 2'!D164","v":0},{"$f":"'Quarter 2'!E164","v":0}]
[46,"Q2",{"$f":"'Quarter 2'!B165","v":0},{"$f":"'Quarter 2'!C165","v":0},{"$f":"'Quarter 2'!D165","v":0},{"$f":"'Quarter 2'!E165","v":0}]
[47,"Q2",{"$f":"'Quarter 2'!B166","v":0},{"$f":"'Quarter 2'!C166","v":0},{"$f":"'Quarter 2'!D166","v":0},{"$f":"'Quarter 2'!E166","v":0}]
[48,"Q2",{"$f":"'Quarter 2'!B167","v":0},{"$f":"'Quarter 2'!C167","v":0},{"$f":"'Quarter 2'!D167","v":0},{"$f":"'Quarter 2'!E167","v":0}]
[49,"Q2",{"$f":"'Quarter 2'!B168","v":0},{"$f":"'Quarter 2'!C168","v":0},{"$f":"'Quarter 2'!D168","v":0},{"$f":"'Quarter 2'!E168","v":0}]
[50,"Q2",{"$f":"'Quarter 2'!B169","v":0},{"$f":"'Quarter 2'!C169","v":0},{"$f":"'Quarter 2'!D169","v":0},{"$f":"'Quarter 2'!E169","v":0}]
[51,"Q2",{"$f":"'Quarter 2'!B170","v":0},{"$f":"'Quarter 2'!C170","v":0},{"$f":"'Quarter 2'!D170","v":0},{"$f":"'Quarter 2'!E170","v":0}]
[52,"Q2",{"$f":"'Quarter 2'!B171","v":0},{"$f":"'Quarter 2'!C171","v":0},{"$f":"'Quarter 2'!D171","v":0},{"$f":"'Quarter 2'!E171","v":0}]
[53,"Q2",{"$f":"'Quarter 2'!B172","v":0},{"$f":"'Quarter 2'!C172","v":0},{"$f":"'Quarter 2'!D172","v":0},{"$f":"'Quarter 2'!E172","v":0}]
[54,"Q2",{"$f":"'Quarter 2'!B173","v":0},{"$f":"'Quarter 2'!C173","v":0},{"$f":"'Quarter 2'!D173","v":0},{"$f":"'Quarter 2'!E173","v":0}]
[55,"Q2",{"$f":"'Quarter 2'!B174","v":0},{"$f":"'Quarter 2'!C174","v":0},{"$f":"'Quarter 2'!D174","v":0},{"$f":"'Quarter 2'!E174","v":0}]
[56,"Q2",{"$f":"'Quarter 2'!B175","v":0},{"$f":"'Quarter 2'!C175","v":0},{"$f":"'Quarter 2'!D175","v":0},{"$f":"'Quarter 2'!E175","v":0}]
[57,"Q2",{"$f":"'Quarter 2'!B176","v":0},{"$f":"'Quarter 2'!C176","v":0},{"$f":"'Quarter 2'!D176","v":0},{"$f":"'Quarter 2'!E176","v":0}]
[58,"Q2",{"$f":"'Quarter 2'!B177","v":0},{"$f":"'Quarter 2'!C177","v":0},{"$f":"'Quarter 2'!D177","v":0},{"$f":"'Quarter 2'!E177","v":0}]
[59,"Q2",{"$f":"'Quarter 2'!B178","v":0},{"$f":"'Quarter 2'!C178","v":0},{"$f":"'Quarter 2'!D178","v":0},{"$f":"'Quarter 2'!E178","v":0}]
[60,"Q2",{"$f":"'Quarter 2'!B179","v":0},{"$f":"'Quarter 2'!C179","v":0},{"$f":"'Quarter 2'!D179","v":0},{"$f":"'Quarter 2'!E179","v":0}]
[61,"Q3",{"$f":"'Quarter 3'!B150","v":0},{"$f":"'Quarter 3'!C150","v":0},{"$f":"'Quarter 3'!D150","v":0},{"$f":"'Quarter 3'!E150","v":0}]
[62,"Q3",{"$f":"'Quarter 3'!B151","v":0},{"$f":"'Quarter 3'!C151","v":0},{"$f":"'Quarter 3'!D151","v":0},{"$f":"'Quarter 3'!E151","v":0}]
[63,"Q3",{"$f":"'Quarter 3'!B152","v":0},{"$f":"'Quarter 3'!C152","v":0},{"$f":"'Quarter 3'!D152","v":0},{"$f":"'Quarter 3'!E152","v":0}]
[64,"Q3",{"$f":"'Quarter 3'!B153","v":0},{"$f":"'Quarter 3'!C153","v":0},{"$f":"'Quarter 3'!D153","v":0},{"$f":"'Quarter 3'!E153","v":0}]
[65,"Q3",{"$f":"'Quarter 3'!B154","v":0},{"$f":"'Quarter 3'!C154","v":0},{"$f":"'Quarter 3'!D154","v":0},{"$f":"'Quarter 3'!E154","v":0}]
[66,"Q3",{"$f":"'Quarter 3'!B155","v":0},{"$f":"'Quarter 3'!C155","v":0},{"$f":"'Quarter 3'!D155","v":0},{"$f":"'Quarter 3'!E155","v":0}]
[67,"Q3",{"$f":"'Quarter 3'!B156","v":0},{"$f":"'Quarter 3'!C156","v":0},{"$f":"'Quarter 3'!D156","v":0},{"$f":"'Quarter 3'!E156","v":0}]
[68,"Q3",{"$f":"'Quarter 3'!B157","v":0},{"$f":"'Quarter 3'!C157","v":0},{"$f":"'Quarter 3'!D157","v":0},{"$f":"'Quarter 3'!E157","v":0}]
[69,"Q3",{"$f":"'Quarter 3'!B158","v":0},{"$f":"'Quarter 3'!C158","v":0},{"$f":"'Quarter 3'!D158","v":0},{"$f":"'Quarter 3'!E158","v":0}]
[70,"Q3",{"$f":"'Quarter 3'!B159","v":0},{"$f":"'Quarter 3'!C159","v":0},{"$f":"'Quarter 3'!D159","v":0},{"$f":"'Quarter 3'!E159","v":0}]
[71,"Q3",{"$f":"'Quarter 3'!B160","v":0},{"$f":"'Quarter 3'!C160","v":0},{"$f":"'Quarter 3'!D160","v":0},{"$f":"'Quarter 3'!E160","v":0}]
[72,"Q3",{"$f":"'Quarter 3'!B161","v":0},{"$f":"'Quarter 3'!C161","v":0},{"$f":"'Quarter 3'!D161","v":0},{"$f":"'Quarter 3'!E161","v":0}]
[73,"Q3",{"$f":"'Quarter 3'!B162","v":0},{"$f":"'Quarter 3'!C162","v":0},{"$f":"'Quarter 3'!D162","v":0},{"$f":"'Quarter 3'!E162","v":0}]
[74,"Q3",{"$f":"'Quarter 3'!B163","v":0},{"$f":"'Quarter 3'!C163","v":0},{"$f":"'Quarter 3'!D163","v":0},{"$f":"'Quarter 3'!E163","v":0}]
[75,"Q3",{"$f":"'Quarter 3'!B164","v":0},{"$f":"'Quarter 3'!C164","v":0},{"$f":"'Quarter 3'!D164","v":0},{"$f":"'Quarter 3'!E164","v":0}]
[76,"Q3",{"$f":"'Quarter 3'!B165","v":0},{"$f":"'Quarter 3'!C165","v":0},{"$f":"'Quarter 3'!D165","v":0},{"$f":"'Quarter 3'!E165","v":0}]
[77,"Q3",{"$f":"'Quarter 3'!B166","v":0},{"$f":"'Quarter 3'!C166","v":0},{"$f":"'Quarter 3'!D166","v":0},{"$f":"'Quarter 3'!E166","v":0}]
[78,"Q3",{"$f":"'Quarter 3'!B167","v":0},{"$f":"'Quarter 3'!C167","v":0},{"$f":"'Quarter 3'!D167","v":0},{"$f":"'Quarter 3'!E167","v":0}]
[79,"Q3",{"$f":"'Quarter 3'!B168","v":0},{"$f":"'Quarter 3'!C168","v":0},{"$f":"'Quarter 3'!D168","v":0},{"$f":"'Quarter 3'!E168","v":0}]
[80,"Q3",{"$f":"'Quarter 3'!B169","v":0},{"$f":"'Quarter 3'!C169","v":0},{"$f":"'Quarter 3'!D169","v":0},{"$f":"'Quarter 3'!E169","v":0}]
[81,"Q3",{"$f":"'Quarter 3'!B170","v":0},{"$f":"'Quarter 3'!C170","v":0},{"$f":"'Quarter 3'!D170","v":0},{"$f":"'Quarter 3'!E170","v":0}]
[82,"Q3",{"$f":"'Quarter 3'!B171","v":0},{"$f":"'Quarter 3'!C171","v":0},{"$f":"'Quarter 3'!D171","v":0},{"$f":"'Quarter 3'!E171","v":0}]
[83,"Q3",{"$f":"'Quarter 3'!B172","v":0},{"$f":"'Quarter 3'!C172","v":0},{"$f":"'Quarter 3'!D172","v":0},{"$f":"'Quarter 3'!E172","v":0}]
[84,"Q3",{"$f":"'Quarter 3'!B173","v":0},{"$f":"'Quarter 3'!C173","v":0},{"$f":"'Quarter 3'!D173","v":0},{"$f":"'Quarter 3'!E173","v":0}]
[85,"Q3",{"$f":"'Quarter 3'!B174","v":0},{"$f":"'Quarter 3'!C174","v":0},{"$f":"'Quarter 3'!D174","v":0},{"$f":"'Quarter 3'!E174","v":0}]
[86,"Q3",{"$f":"'Quarter 3'!B175","v":0},{"$f":"'Quarter 3'!C175","v":0},{"$f":"'Quarter 3'!D175","v":0},{"$f":"'Quarter 3'!E175","v":0}]
[87,"Q3",{"$f":"'Quarter 3'!B176","v":0},{"$f":"'Quarter 3'!C176","v":0},{"$f":"'Quarter 3'!D176","v":0},{"$f":"'Quarter 3'!E176","v":0}]
[88,"Q3",{"$f":"'Quarter 3'!B177","v":0},{"$f":"'Quarter 3'!C177","v":0},{"$f":"'Quarter 3'!D177","v":0},{"$f":"'Quarter 3'!E177","v":0}]
[89,"Q3",{"$f":"'Quarter 3'!B178","v":0},{"$f":"'Quarter 3'!C178","v":0},{"$f":"'Quarter 3'!D178","v":0},{"$f":"'Quarter 3'!E178","v":0}]
[90,"Q3",{"$f":"'Quarter 3'!B179","v":0},{"$f":"'Quarter 3'!C179","v":0},{"$f":"'Quarter 3'!D179","v":0},{"$f":"'Quarter 3'!E179","v":0}]
[91,"Q4",{"$f":"'Quarter 4'!B150","v":0},{"$f":"'Quarter 4'!C150","v":0},{"$f":"'Quarter 4'!D150","v":0},{"$f":"'Quarter 4'!E150","v":0}]
[92,"Q4",{"$f":"'Quarter 4'!B151","v":0},{"$f":"'Quarter 4'!C151","v":0},{"$f":"'Quarter 4'!D151","v":0},{"$f":"'Quarter 4'!E151","v":0}]
[93,"Q4",{"$f":"'Quarter 4'!B152","v":0},{"$f":"'Quarter 4'!C152","v":0},{"$f":"'Quarter 4'!D152","v":0},{"$f":"'Quarter 4'!E152","v":0}]
[94,"Q4",{"$f":"'Quarter 4'!B153","v":0},{"$f":"'Quarter 4'!C153","v":0},{"$f":"'Quarter 4'!D153","v":0},{"$f":"'Quarter 4'!E153","v":0}]
[95,"Q4",{"$f":"'Quarter 4'!B154","v":0},{"$f":"'Quarter 4'!C154","v":0},{"$f":"'Quarter 4'!D154","v":0},{"$f":"'Quarter 4'!E154","v":0}]
[96,"Q4",{"$f":"'Quarter 4'!B155","v":0},{"$f":"'Quarter 4'!C155","v":0},{"$f":"'Quarter 4'!D155","v":0},{"$f":"'Quarter 4'!E155","v":0}]
[97,"Q4",{"$f":"'Quarter 4'!B156","v":0},{"$f":"'Quarter 4'!C156","v":0},{"$f":"'Quarter 4'!D156","v":0},{"$f":"'Quarter 4'!E156","v":0}]
[98,"Q4",{"$f":"'Quarter 4'!B157","v":0},{"$f":"'Quarter 4'!C157","v":0},{"$f":"'Quarter 4'!D157","v":0},{"$f":"'Quarter 4'!E157","v":0}]
[99,"Q4",{"$f":"'Quarter 4'!B158","v":0},{"$f":"'Quarter 4'!C158","v":0},{"$f":"'Quarter 4'!D158","v":0},{"$f":"'Quarter 4'!E158","v":0}]
[100,"Q4",{"$f":"'Quarter 4'!B159","v":0},{"$f":"'Quarter 4'!C159","v":0},{"$f":"'Quarter 4'!D159","v":0},{"$f":"'Quarter 4'!E159","v":0}]
[101,"Q4",{"$f":"'Quarter 4'!B160","v":0},{"$f":"'Quarter 4'!C160","v":0},{"$f":"'Quarter 4'!D160","v":0},{"$f":"'Quarter 4'!E160","v":0}]
[102,"Q4",{"$f":"'Quarter 4'!B161","v":0},{"$f":"'Quarter 4'!C161","v":0},{"$f":"'Quarter 4'!D161","v":0},{"$f":"'Quarter 4'!E161","v":0}]
[103,"Q4",{"$f":"'Quarter 4'!B162","v":0},{"$f":"'Quarter 4'!C162","v":0},{"$f":"'Quarter 4'!D162","v":0},{"$f":"'Quarter 4'!E162","v":0}]
[104,"Q4",{"$f":"'Quarter 4'!B163","v":0},{"$f":"'Quarter 4'!C163","v":0},{"$f":"'Quarter 4'!D163","v":0},{"$f":"'Quarter 4'!E163","v":0}]
[105,"Q4",{"$f":"'Quarter 4'!B164","v":0},{"$f":"'Quarter 4'!C164","v":0},{"$f":"'Quarter 4'!D164","v":0},{"$f":"'Quarter 4'!E164","v":0}]
[106,"Q4",{"$f":"'Quarter 4'!B165","v":0},{"$f":"'Quarter 4'!C165","v":0},{"$f":"'Quarter 4'!D165","v":0},{"$f":"'Quarter 4'!E165","v":0}]
[107,"Q4",{"$f":"'Quarter 4'!B166","v":0},{"$f":"'Quarter 4'!C166","v":0},{"$f":"'Quarter 4'!D166","v":0},{"$f":"'Quarter 4'!E166","v":0}]
[108,"Q4",{"$f":"'Quarter 4'!B167","v":0},{"$f":"'Quarter 4'!C167","v":0},{"$f":"'Quarter 4'!D167","v":0},{"$f":"'Quarter 4'!E167","v":0}]
[109,"Q4",{"$f":"'Quarter 4'!B168","v":0},{"$f":"'Quarter 4'!C168","v":0},{"$f":"'Quarter 4'!D168","v":0},{"$f":"'Quarter 4'!E168","v":0}]
[110,"Q4",{"$f":"'Quarter 4'!B169","v":0},{"$f":"'Quarter 4'!C169","v":0},{"$f":"'Quarter 4'!D169","v":0},{"$f":"'Quarter 4'!E169","v":0}]
[111,"Q4",{"$f":"'Quarter 4'!B170","v":0},{"$f":"'Quarter 4'!C170","v":0},{"$f":"'Quarter 4'!D170","v":0},{"$f":"'Quarter 4'!E170","v":0}]
[112,"Q4",{"$f":"'Quarter 4'!B171","v":0},{"$f":"'Quarter 4'!C171","v":0},{"$f":"'Quarter 4'!D171","v":0},{"$f":"'Quarter 4'!E171","v":0}]
[113,"Q4",{"$f":"'Quarter 4'!B172","v":0},{"$f":"'Quarter 4'!C172","v":0},{"$f":"'Quarter 4'!D172","v":0},{"$f":"'Quarter 4'!E172","v":0}]
[114,"Q4",{"$f":"'Quarter 4'!B173","v":0},{"$f":"'Quarter 4'!C173","v":0},{"$f":"'Quarter 4'!D173","v":0},{"$f":"'Quarter 4'!E173","v":0}]
[115,"Q4",{"$f":"'Quarter 4'!B174","v":0},{"$f":"'Quarter 4'!C174","v":0},{"$f":"'Quarter 4'!D174","v":0},{"$f":"'Quarter 4'!E174","v":0}]
[116,"Q4",{"$f":"'Quarter 4'!B175","v":0},{"$f":"'Quarter 4'!C175","v":0},{"$f":"'Quarter 4'!D175","v":0},{"$f":"'Quarter 4'!E175","v":0}]
[117,"Q4",{"$f":"'Quarter 4'!B176","v":0},{"$f":"'Quarter 4'!C176","v":0},{"$f":"'Quarter 4'!D176","v":0},{"$f":"'Quarter 4'!E176","v":0}]
[118,"Q4",{"$f":"'Quarter 4'!B177","v":0},{"$f":"'Quarter 4'!C177","v":0},{"$f":"'Quarter 4'!D177","v":0},{"$f":"'Quarter 4'!E177","v":0}]
[119,"Q4",{"$f":"'Quarter 4'!B178","v":0},{"$f":"'Quarter 4'!C178","v":0},{"$f":"'Quarter 4'!D178","v":0},{"$f":"'Quarter 4'!E178","v":0}]
[120,"Q4",{"$f":"'Quarter 4'!B179","v":0},{"$f":"'Quarter 4'!C179","v":0},{"$f":"'Quarter 4'!D179","v":0},{"$f":"'Quarter 4'!E179","v":0}]
[null,null,null,null,"Total:",{"$f":"SUM(F506:F625)","v":0}]
[]
["Watershed Planning or Strategy Development:"]
["F","Quarter","Watershed/Watershed Plan Name","Plan Name","Activity","Appx. Hours"]
[1,"Q1",{"$f":"'Quarter 1'!B185","v":0},{"$f":"'Quarter 1'!C185","v":0},{"$f":"'Quarter 1'!D185","v":0},{"$f":"'Quarter 1'!E185","v":0}]
[2,"Q1",{"$f":"'Quarter 1'!B186","v":0},{"$f":"'Quarter 1'!C186","v":0},{"$f":"'Quarter 1'!D186","v":0},{"$f":"'Quarter 1'!E186","v":0}]
[3,"Q1",{"$f":"'Quarter 1'!B187","v":0},{"$f":"'Quarter 1'!C187","v":0},{"$f":"'Quarter 1'!D187","v":0},{"$f":"'Quarter 1'!E187","v":0}]
[4,"Q1",{"$f":"'Quarter 1'!B188","v":0},{"$f":"'Quarter 1'!C188","v":0},{"$f":"'Quarter 1'!D188","v":0},{"$f":"'Quarter 1'!E188","v":0}]
[5,"Q1",{"$f":"'Quarter 1'!B189","v":0},{"$f":"'Quarter 1'!C189","v":0},{"$f":"'Quarter 1'!D189","v":0},{"$f":"'Quarter 1'!E189","v":0}]
[6,"Q1",{"$f":"'Quarter 1'!B190","v":0},{"$f":"'Quarter 1'!C190","v":0},{"$f":"'Quarter 1'!D190","v":0},{"$f":"'Quarter 1'!E190","v":0}]
[7,"Q1",{"$f":"'Quarter 1'!B191","v":0},{"$f":"'Quarter 1'!C191","v":0},{"$f":"'Quarter 1'!D191","v":0},{"$f":"'Quarter 1'!E191","v":0}]
[8,"Q1",{"$f":"'Quarter 1'!B192","v":0},{"$f":"'Quarter 1'!C192","v":0},{"$f":"'Quarter 1'!D192","v":0},{"$f":"'Quarter 1'!E192","v":0}]
[9,"Q1",{"$f":"'Quarter 1'!B193","v":0},{"$f":"'Quarter 1'!C193","v":0},{"$f":"'Quarter 1'!D193","v":0},{"$f":"'Quarter 1'!E193","v":0}]
[10,"Q1",{"$f":"'Quarter 1'!B194","v":0},{"$f":"'Quarter 1'!C194","v":0},{"$f":"'Quarter 1'!D194","v":0},{"$f":"'Quarter 1'!E194","v":0}]
[11,"Q1",{"$f":"'Quarter 1'!B195","v":0},{"$f":"'Quarter 1'!C195","v":0},{"$f":"'Quarter 1'!D195","v":0},{"$f":"'Quarter 1'!E195","v":0}]
[12,"Q1",{"$f":"'Quarter 1'!B196","v":0},{"$f":"'Quarter 1'!C196","v":0},{"$f":"'Quarter 1'!D196","v":0},{"$f":"'Quarter 1'!E196","v":0}]
[13,"Q1",{"$f":"'Quarter 1'!B197","v":0},{"$f":"'Quarter 1'!C197","v":0},{"$f":"'Quarter 1'!D197","v":0},{"$f":"'Quarter 1'!E197","v":0}]
[14,"Q1",{"$f":"'Quarter 1'!B198","v":0},{"$f":"'Quarter 1'!C198","v":0},{"$f":"'Quarter 1'!D198","v":0},{"$f":"'Quarter 1'!E198","v":0}]
[15,"Q1",{"$f":"'Quarter 1'!B199","v":0},{"$f":"'Quarter 1'!C199","v":0},{"$f":"'Quarter 1'!D199","v":0},{"$f":"'Quarter 1'!E199","v":0}]
[16,"Q1",{"$f":"'Quarter 1'!B200","v":0},{"$f":"'Quarter 1'!C200","v":0},{"$f":"'Quarter 1'!D200","v":0},{"$f":"'Quarter 1'!E200","v":0}]
[17,"Q1",{"$f":"'Quarter 1'!B201","v":0},{"$f":"'Quarter 1'!C201","v":0},{"$f":"'Quarter 1'!D201","v":0},{"$f":"'Quarter 1'!E201","v":0}]
[18,"Q1",{"$f":"'Quarter 1'!B202","v":0},{"$f":"'Quarter 1'!C202","v":0},{"$f":"'Quarter 1'!D202","v":0},{"$f":"'Quarter 1'!E202","v":0}]
[19,"Q1",{"$f":"'Quarter 1'!B203","v":0},{"$f":"'Quarter 1'!C203","v":0},{"$f":"'Quarter 1'!D203","v":0},{"$f":"'Quarter 1'!E203","v":0}]
[20,"Q1",{"$f":"'Quarter 1'!B204","v":0},{"$f":"'Quarter 1'!C204","v":0},{"$f":"'Quarter 1'!D204","v":0},{"$f":"'Quarter 1'!E204","v":0}]
[21,"Q1",{"$f":"'Quarter 1'!B205","v":0},{"$f":"'Quarter 1'!C205","v":0},{"$f":"'Quarter 1'!D205","v":0},{"$f":"'Quarter 1'!E205","v":0}]
[22,"Q1",{"$f":"'Quarter 1'!B206","v":0},{"$f":"'Quarter 1'!C206","v":0},{"$f":"'Quarter 1'!D206","v":0},{"$f":"'Quarter 1'!E206","v":0}]
[23,"Q1",{"$f":"'Quarter 1'!B207","v":0},{"$f":"'Quarter 1'!C207","v":0},{"$f":"'Quarter 1'!D207","v":0},{"$f":"'Quarter 1'!E207","v":0}]
[24,"Q1",{"$f":"'Quarter 1'!B208","v":0},{"$f":"'Quarter 1'!C208","v":0},{"$f":"'Quarter 1'!D208","v":0},{"$f":"'Quarter 1'!E208","v":0}]
[25,"Q1",{"$f":"'Quarter 1'!B209","v":0},{"$f":"'Quarter 1'!C209","v":0},{"$f":"'Quarter 1'!D209","v":0},{"$f":"'Quarter 1'!E209","v":0}]
[26,"Q1",{"$f":"'Quarter 1'!B210","v":0},{"$f":"'Quarter 1'!C210","v":0},{"$f":"'Quarter 1'!D210","v":0},{"$f":"'Quarter 1'!E210","v":0}]
[27,"Q1",{"$f":"'Quarter 1'!B211","v":0},{"$f":"'Quarter 1'!C211","v":0},{"$f":"'Quarter 1'!D211","v":0},{"$f":"'Quarter 1'!E211","v":0}]
[28,"Q1",{"$f":"'Quarter 1'!B212","v":0},{"$f":"'Quarter 1'!C212","v":0},{"$f":"'Quarter 1'!D212","v":0},{"$f":"'Quarter 1'!E212","v":0}]
[29,"Q1",{"$f":"'Quarter 1'!B213","v":0},{"$f":"'Quarter 1'!C213","v":0},{"$f":"'Quarter 1'!D213","v":0},{"$f":"'Quarter 1'!E213","v":0}]
[30,"Q1",{"$f":"'Quarter 1'!B214","v":0},{"$f":"'Quarter 1'!C214","v":0},{"$f":"'Quarter 1'!D214","v":0},{"$f":"'Quarter 1'!E214","v":0}]
[31,"Q2",{"$f":"'Quarter 2'!B185","v":0},{"$f":"'Quarter 2'!C185","v":0},{"$f":"'Quarter 2'!D185","v":0},{"$f":"'Quarter 2'!E185","v":0}]
[32,"Q2",{"$f":"'Quarter 2'!B186","v":0},{"$f":"'Quarter 2'!C186","v":0},{"$f":"'Quarter 2'!D186","v":0},{"$f":"'Quarter 2'!E186","v":0}]
[33,"Q2",{"$f":"'Quarter 2'!B187","v":0},{"$f":"'Quarter 2'!C187","v":0},{"$f":"'Quarter 2'!D187","v":0},{"$f":"'Quarter 2'!E187","v":0}]
[34,"Q2",{"$f":"'Quarter 2'!B188","v":0},{"$f":"'Quarter 2'!C188","v":0},{"$f":"'Quarter 2'!D188","v":0},{"$f":"'Quarter 2'!E188","v":0}]
[35,"Q2",{"$f":"'Quarter 2'!B189","v":0},{"$f":"'Quarter 2'!C189","v":0},{"$f":"'Quarter 2'!D189","v":0},{"$f":"'Quarter 2'!E189","v":0}]
[36,"Q2",{"$f":"'Quarter 2'!B190","v":0},{"$f":"'Quarter 2'!C190","v":0},{"$f":"'Quarter 2'!D190","v":0},{"$f":"'Quarter 2'!E190","v":0}]
[37,"Q2",{"$f":"'Quarter 2'!B191","v":0},{"$f":"'Quarter 2'!C191","v":0},{"$f":"'Quarter 2'!D191","v":0},{"$f":"'Quarter 2'!E191","v":0}]
[38,"Q2",{"$f":"'Quarter 2'!B192","v":0},{"$f":"'Quarter 2'!C192","v":0},{"$f":"'Quarter 2'!D192","v":0},{"$f":"'Quarter 2'!E192","v":0}]
[39,"Q2",{"$f":"'Quarter 2'!B193","v":0},{"$f":"'Quarter 2'!C193","v":0},{"$f":"'Quarter 2'!D193","v":0},{"$f":"'Quarter 2'!E193","v":0}]
[40,"Q2",{"$f":"'Quarter 2'!B194","v":0},{"$f":"'Quarter 2'!C194","v":0},{"$f":"'Quarter 2'!D194","v":0},{"$f":"'Quarter 2'!E194","v":0}]
[41,"Q2",{"$f":"'Quarter 2'!B195","v":0},{"$f":"'Quarter 2'!C195","v":0},{"$f":"'Quarter 2'!D195","v":0},{"$f":"'Quarter 2'!E195","v":0}]
[42,"Q2",{"$f":"'Quarter 2'!B196","v":0},{"$f":"'Quarter 2'!C196","v":0},{"$f":"'Quarter 2'!D196","v":0},{"$f":"'Quarter 2'!E196","v":0}]
[43,"Q2",{"$f":"'Quarter 2'!B197","v":0},{"$f":"'Quarter 2'!C197","v":0},{"$f":"'Quarter 2'!D197","v":0},{"$f":"'Quarter 2'!E197","v":0}]
[44,"Q2",{"$f":"'Quarter 2'!B198","v":0},{"$f":"'Quarter 2'!C198","v":0},{"$f":"'Quarter 2'!D198","v":0},{"$f":"'Quarter 2'!E198","v":0}]
[45,"Q2",{"$f":"'Quarter 2'!B199","v":0},{"$f":"'Quarter 2'!C199","v":0},{"$f":"'Quarter 2'!D199","v":0},{"$f":"'Quarter 2'!E199","v":0}]
[46,"Q2",{"$f":"'Quarter 2'!B200","v":0},{"$f":"'Quarter 2'!C200","v":0},{"$f":"'Quarter 2'!D200","v":0},{"$f":"'Quarter 2'!E200","v":0}]
[47,"Q2",{"$f":"'Quarter 2'!B201","v":0},{"$f":"'Quarter 2'!C201","v":0},{"$f":"'Quarter 2'!D201","v":0},{"$f":"'Quarter 2'!E201","v":0}]
[48,"Q2",{"$f":"'Quarter 2'!B202","v":0},{"$f":"'Quarter 2'!C202","v":0},{"$f":"'Quarter 2'!D202","v":0},{"$f":"'Quarter 2'!E202","v":0}]
[49,"Q2",{"$f":"'Quarter 2'!B203","v":0},{"$f":"'Quarter 2'!C203","v":0},{"$f":"'Quarter 2'!D203","v":0},{"$f":"'Quarter 2'!E203","v":0}]
[50,"Q2",{"$f":"'Quarter 2'!B204","v":0},{"$f":"'Quarter 2'!C204","v":0},{"$f":"'Quarter 2'!D204","v":0},{"$f":"'Quarter 2'!E204","v":0}]
[51,"Q2",{"$f":"'Quarter 2'!B205","v":0},{"$f":"'Quarter 2'!C205","v":0},{"$f":"'Quarter 2'!D205","v":0},{"$f":"'Quarter 2'!E205","v":0}]
[52,"Q2",{"$f":"'Quarter 2'!B206","v":0},{"$f":"'Quarter 2'!C206","v":0},{"$f":"'Quarter 2'!D206","v":0},{"$f":"'Quarter 2'!E206","v":0}]
[53,"Q2",{"$f":"'Quarter 2'!B207","v":0},{"$f":"'Quarter 2'!C207","v":0},{"$f":"'Quarter 2'!D207","v":0},{"$f":"'Quarter 2'!E207","v":0}]
[54,"Q2",{"$f":"'Quarter 2'!B208","v":0},{"$f":"'Quarter 2'!C208","v":0},{"$f":"'Quarter 2'!D208","v":0},{"$f":"'Quarter 2'!E208","v":0}]
[55,"Q2",{"$f":"'Quarter 2'!B209","v":0},{"$f":"'Quarter 2'!C209","v":0},{"$f":"'Quarter 2'!D209","v":0},{"$f":"'Quarter 2'!E209","v":0}]
[56,"Q2",{"$f":"'Quarter 2'!B210","v":0},{"$f":"'Quarter 2'!C210","v":0},{"$f":"'Quarter 2'!D210","v":0},{"$f":"'Quarter 2'!E210","v":0}]
[57,"Q2",{"$f":"'Quarter 2'!B211","v":0},{"$f":"'Quarter 2'!C211","v":0},{"$f":"'Quarter 2'!D211","v":0},{"$f":"'Quarter 2'!E211","v":0}]
[58,"Q2",{"$f":"'Quarter 2'!B212","v":0},{"$f":"'Quarter 2'!C212","v":0},{"$f":"'Quarter 2'!D212","v":0},{"$f":"'Quarter 2'!E212","v":0}]
[59,"Q2",{"$f":"'Quarter 2'!B213","v":0},{"$f":"'Quarter 2'!C213","v":0},{"$f":"'Quarter 2'!D213","v":0},{"$f":"'Quarter 2'!E213","v":0}]
[60,"Q2",{"$f":"'Quarter 2'!B214","v":0},{"$f":"'Quarter 2'!C214","v":0},{"$f":"'Quarter 2'!D214","v":0},{"$f":"'Quarter 2'!E214","v":0}]
[61,"Q3",{"$f":"'Quarter 3'!B185","v":0},{"$f":"'Quarter 3'!C185","v":0},{"$f":"'Quarter 3'!D185","v":0},{"$f":"'Quarter 3'!E185","v":0}]
[62,"Q3",{"$f":"'Quarter 3'!B186","v":0},{"$f":"'Quarter 3'!C186","v":0},{"$f":"'Quarter 3'!D186","v":0},{"$f":"'Quarter 3'!E186","v":0}]
[63,"Q3",{"$f":"'Quarter 3'!B187","v":0},{"$f":"'Quarter 3'!C187","v":0},{"$f":"'Quarter 3'!D187","v":0},{"$f":"'Quarter 3'!E187","v":0}]
[64,"Q3",{"$f":"'Quarter 3'!B188","v":0},{"$f":"'Quarter 3'!C188","v":0},{"$f":"'Quarter 3'!D188","v":0},{"$f":"'Quarter 3'!E188","v":0}]
[65,"Q3",{"$f":"'Quarter 3'!B189","v":0},{"$f":"'Quarter 3'!C189","v":0},{"$f":"'Quarter 3'!D189","v":0},{"$f":"'Quarter 3'!E189","v":0}]
[66,"Q3",{"$f":"'Quarter 3'!B190","v":0},{"$f":"'Quarter 3'!C190","v":0},{"$f":"'Quarter 3'!D190","v":0},{"$f":"'Quarter 3'!E190","v":0}]
[67,"Q3",{"$f":"'Quarter 3'!B191","v":0},{"$f":"'Quarter 3'!C191","v":0},{"$f":"'Quarter 3'!D191","v":0},{"$f":"'Quarter 3'!E191","v":0}]
[68,"Q3",{"$f":"'Quarter 3'!B192","v":0},{"$f":"'Quarter 3'!C192","v":0},{"$f":"'Quarter 3'!D192","v":0},{"$f":"'Quarter 3'!E192","v":0}]
[69,"Q3",{"$f":"'Quarter 3'!B193","v":0},{"$f":"'Quarter 3'!C193","v":0},{"$f":"'Quarter 3'!D193","v":0},{"$f":"'Quarter 3'!E193","v":0}]
[70,"Q3",{"$f":"'Quarter 3'!B194","v":0},{"$f":"'Quarter 3'!C194","v":0},{"$f":"'Quarter 3'!D194","v":0},{"$f":"'Quarter 3'!E194","v":0}]
[71,"Q3",{"$f":"'Quarter 3'!B195","v":0},{"$f":"'Quarter 3'!C195","v":0},{"$f":"'Quarter 3'!D195","v":0},{"$f":"'Quarter 3'!E195","v":0}]
[72,"Q3",{"$f":"'Quarter 3'!B196","v":0},{"$f":"'Quarter 3'!C196","v":0},{"$f":"'Quarter 3'!D196","v":0},{"$f":"'Quarter 3'!E196","v":0}]
[73,"Q3",{"$f":"'Quarter 3'!B197","v":0},{"$f":"'Quarter 3'!C197","v":0},{"$f":"'Quarter 3'!D197","v":0},{"$f":"'Quarter 3'!E197","v":0}]
[74,"Q3",{"$f":"'Quarter 3'!B198","v":0},{"$f":"'Quarter 3'!C198","v":0},{"$f":"'Quarter 3'!D198","v":0},{"$f":"'Quarter 3'!E198","v":0}]
[75,"Q3",{"$f":"'Quarter 3'!B199","v":0},{"$f":"'Quarter 3'!C199","v":0},{"$f":"'Quarter 3'!D199","v":0},{"$f":"'Quarter 3'!E199","v":0}]
[76,"Q3",{"$f":"'Quarter 3'!B200","v":0},{"$f":"'Quarter 3'!C200","v":0},{"$f":"'Quarter 3'!D200","v":0},{"$f":"'Quarter 3'!E200","v":0}]
[77,"Q3",{"$f":"'Quarter 3'!B201","v":0},{"$f":"'Quarter 3'!C201","v":0},{"$f":"'Quarter 3'!D201","v":0},{"$f":"'Quarter 3'!E201","v":0}]
[78,"Q3",{"$f":"'Quarter 3'!B202","v":0},{"$f":"'Quarter 3'!C202","v":0},{"$f":"'Quarter 3'!D202","v":0},{"$f":"'Quarter 3'!E202","v":0}]
[79,"Q3",{"$f":"'Quarter 3'!B203","v":0},{"$f":"'Quarter 3'!C203","v":0},{"$f":"'Quarter 3'!D203","v":0},{"$f":"'Quarter 3'!E203","v":0}]
[80,"Q3",{"$f":"'Quarter 3'!B204","v":0},{"$f":"'Quarter 3'!C204","v":0},{"$f":"'Quarter 3'!D204","v":0},{"$f":"'Quarter 3'!E204","v":0}]
[81,"Q3",{"$f":"'Quarter 3'!B205","v":0},{"$f":"'Quarter 3'!C205","v":0},{"$f":"'Quarter 3'!D205","v":0},{"$f":"'Quarter 3'!E205","v":0}]
[82,"Q3",{"$f":"'Quarter 3'!B206","v":0},{"$f":"'Quarter 3'!C206","v":0},{"$f":"'Quarter 3'!D206","v":0},{"$f":"'Quarter 3'!E206","v":0}]
[83,"Q3",{"$f":"'Quarter 3'!B207","v":0},{"$f":"'Quarter 3'!C207","v":0},{"$f":"'Quarter 3'!D207","v":0},{"$f":"'Quarter 3'!E207","v":0}]
[84,"Q3",{"$f":"'Quarter 3'!B208","v":0},{"$f":"'Quarter 3'!C208","v":0},{"$f":"'Quarter 3'!D208","v":0},{"$f":"'Quarter 3'!E208","v":0}]
[85,"Q3",{"$f":"'Quarter 3'!B209","v":0},{"$f":"'Quarter 3'!C209","v":0},{"$f":"'Quarter 3'!D209","v":0},{"$f":"'Quarter 3'!E209","v":0}]
[86,"Q3",{"$f":"'Quarter 3'!B210","v":0},{"$f":"'Quarter 3'!C210","v":0},{"$f":"'Quarter 3'!D210","v":0},{"$f":"'Quarter 3'!E210","v":0}]
[87,"Q3",{"$f":"'Quarter 3'!B211","v":0},{"$f":"'Quarter 3'!C211","v":0},{"$f":"'Quarter 3'!D211","v":0},{"$f":"'Quarter 3'!E211","v":0}]
[88,"Q3",{"$f":"'Quarter 3'!B212","v":0},{"$f":"'Quarter 3'!C212","v":0},{"$f":"'Quarter 3'!D212","v":0},{"$f":"'Quarter 3'!E212","v":0}]
[89,"Q3",{"$f":"'Quarter 3'!B213","v":0},{"$f":"'Quarter 3'!C213","v":0},{"$f":"'Quarter 3'!D213","v":0},{"$f":"'Quarter 3'!E213","v":0}]
[90,"Q3",{"$f":"'Quarter 3'!B214","v":0},{"$f":"'Quarter 3'!C214","v":0},{"$f":"'Quarter 3'!D214","v":0},{"$f":"'Quarter 3'!E214","v":0}]
[91,"Q4",{"$f":"'Quarter 4'!B185","v":0},{"$f":"'Quarter 4'!C185","v":0},{"$f":"'Quarter 4'!D185","v":0},{"$f":"'Quarter 4'!E185","v":0}]
[92,"Q4",{"$f":"'Quarter 4'!B186","v":0},{"$f":"'Quarter 4'!C186","v":0},{"$f":"'Quarter 4'!D186","v":0},{"$f":"'Quarter 4'!E186","v":0}]
[93,"Q4",{"$f":"'Quarter 4'!B187","v":0},{"$f":"'Quarter 4'!C187","v":0},{"$f":"'Quarter 4'!D187","v":0},{"$f":"'Quarter 4'!E187","v":0}]
[94,"Q4",{"$f":"'Quarter 4'!B188","v":0},{"$f":"'Quarter 4'!C188","v":0},{"$f":"'Quarter 4'!D188","v":0},{"$f":"'Quarter 4'!E188","v":0}]
[95,"Q4",{"$f":"'Quarter 4'!B189","v":0},{"$f":"'Quarter 4'!C189","v":0},{"$f":"'Quarter 4'!D189","v":0},{"$f":"'Quarter 4'!E189","v":0}]
[96,"Q4",{"$f":"'Quarter 4'!B190","v":0},{"$f":"'Quarter 4'!C190","v":0},{"$f":"'Quarter 4'!D190","v":0},{"$f":"'Quarter 4'!E190","v":0}]
[97,"Q4",{"$f":"'Quarter 4'!B191","v":0},{"$f":"'Quarter 4'!C191","v":0},{"$f":"'Quarter 4'!D191","v":0},{"$f":"'Quarter 4'!E191","v":0}]
[98,"Q4",{"$f":"'Quarter 4'!B192","v":0},{"$f":"'Quarter 4'!C192","v":0},{"$f":"'Quarter 4'!D192","v":0},{"$f":"'Quarter 4'!E192","v":0}]
[99,"Q4",{"$f":"'Quarter 4'!B193","v":0},{"$f":"'Quarter 4'!C193","v":0},{"$f":"'Quarter 4'!D193","v":0},{"$f":"'Quarter 4'!E193","v":0}]
[100,"Q4",{"$f":"'Quarter 4'!B194","v":0},{"$f":"'Quarter 4'!C194","v":0},{"$f":"'Quarter 4'!D194","v":0},{"$f":"'Quarter 4'!E194","v":0}]
[101,"Q4",{"$f":"'Quarter 4'!B195","v":0},{"$f":"'Quarter 4'!C195","v":0},{"$f":"'Quarter 4'!D195","v":0},{"$f":"'Quarter 4'!E195","v":0}]
[102,"Q4",{"$f":"'Quarter 4'!B196","v":0},{"$f":"'Quarter 4'!C196","v":0},{"$f":"'Quarter 4'!D196","v":0},{"$f":"'Quarter 4'!E196","v":0}]
[103,"Q4",{"$f":"'Quarter 4'!B197","v":0},{"$f":"'Quarter 4'!C197","v":0},{"$f":"'Quarter 4'!D197","v":0},{"$f":"'Quarter 4'!E197","v":0}]
[104,"Q4",{"$f":"'Quarter 4'!B198","v":0},{"$f":"'Quarter 4'!C198","v":0},{"$f":"'Quarter 4'!D198","v":0},{"$f":"'Quarter 4'!E198","v":0}]
[105,"Q4",{"$f":"'Quarter 4'!B199","v":0},{"$f":"'Quarter 4'!C199","v":0},{"$f":"'Quarter 4'!D199","v":0},{"$f":"'Quarter 4'!E199","v":0}]
[106,"Q4",{"$f":"'Quarter 4'!B200","v":0},{"$f":"'Quarter 4'!C200","v":0},{"$f":"'Quarter 4'!D200","v":0},{"$f":"'Quarter 4'!E200","v":0}]
[107,"Q4",{"$f":"'Quarter 4'!B201","v":0},{"$f":"'Quarter 4'!C201","v":0},{"$f":"'Quarter 4'!D201","v":0},{"$f":"'Quarter 4'!E201","v":0}]
[108,"Q4",{"$f":"'Quarter 4'!B202","v":0},{"$f":"'Quarter 4'!C202","v":0},{"$f":"'Quarter 4'!D202","v":0},{"$f":"'Quarter 4'!E202","v":0}]
[109,"Q4",{"$f":"'Quarter 4'!B203","v":0},{"$f":"'Quarter 4'!C203","v":0},{"$f":"'Quarter 4'!D203","v":0},{"$f":"'Quarter 4'!E203","v":0}]
[110,"Q4",{"$f":"'Quarter 4'!B204","v":0},{"$f":"'Quarter 4'!C204","v":0},{"$f":"'Quarter 4'!D204","v":0},{"$f":"'Quarter 4'!E204","v":0}]
[111,"Q4",{"$f":"'Quarter 4'!B205","v":0},{"$f":"'Quarter 4'!C205","v":0},{"$f":"'Quarter 4'!D205","v":0},{"$f":"'Quarter 4'!E205","v":0}]
[112,"Q4",{"$f":"'Quarter 4'!B206","v":0},{"$f":"'Quarter 4'!C206","v":0},{"$f":"'Quarter 4'!D206","v":0},{"$f":"'Quarter 4'!E206","v":0}]
[113,"Q4",{"$f":"'Quarter 4'!B207","v":0},{"$f":"'Quarter 4'!C207","v":0},{"$f":"'Quarter 4'!D207","v":0},{"$f":"'Quarter 4'!E207","v":0}]
[114,"Q4",{"$f":"'Quarter 4'!B208","v":0},{"$f":"'Quarter 4'!C208","v":0},{"$f":"'Quarter 4'!D208","v":0},{"$f":"'Quarter 4'!E208","v":0}]
[115,"Q4",{"$f":"'Quarter 4'!B209","v":0},{"$f":"'Quarter 4'!C209","v":0},{"$f":"'Quarter 4'!D209","v":0},{"$f":"'Quarter 4'!E209","v":0}]
[116,"Q4",{"$f":"'Quarter 4'!B210","v":0},{"$f":"'Quarter 4'!C210","v":0},{"$f":"'Quarter 4'!D210","v":0},{"$f":"'Quarter 4'!E210","v":0}]
[117,"Q4",{"$f":"'Quarter 4'!B211","v":0},{"$f":"'Quarter 4'!C211","v":0},{"$f":"'Quarter 4'!D211","v":0},{"$f":"'Quarter 4'!E211","v":0}]
[118,"Q4",{"$f":"'Quarter 4'!B212","v":0},{"$f":"'Quarter 4'!C212","v":0},{"$f":"'Quarter 4'!D212","v":0},{"$f":"'Quarter 4'!E212","v":0}]
[119,"Q4",{"$f":"'Quarter 4'!B213","v":0},{"$f":"'Quarter 4'!C213","v":0},{"$f":"'Quarter 4'!D213","v":0},{"$f":"'Quarter 4'!E213","v":0}]
[120,"Q4",{"$f":"'Quarter 4'!B214","v":0},{"$f":"'Quarter 4'!C214","v":0},{"$f":"'Quarter 4'!D214","v":0},{"$f":"'Quarter 4'!E214","v":0}]
[null,null,null,null,"TOTAL:",{"$f":"SUM(F630:F749)","v":0}]
[]
["Local Watershed Association and other NGO activities (Routine meetings, fundraisers, outreach activities etc.):  "]
["G","Quarter","Watershed Association","Activity","No. in Attendance"]
[1,"Q1",{"$f":"'Quarter 1'!B220","v":0},{"$f":"'Quarter 1'!C220","v":0},{"$f":"'Quarter 1'!D220","v":0}]
[2,"Q1",{"$f":"'Quarter 1'!B221","v":0},{"$f":"'Quarter 1'!C221","v":0},{"$f":"'Quarter 1'!D221","v":0}]
[3,"Q1",{"$f":"'Quarter 1'!B222","v":0},{"$f":"'Quarter 1'!C222","v":0},{"$f":"'Quarter 1'!D222","v":0}]
[4,"Q1",{"$f":"'Quarter 1'!B223","v":0},{"$f":"'Quarter 1'!C223","v":0},{"$f":"'Quarter 1'!D223","v":0}]
[5,"Q1",{"$f":"'Quarter 1'!B224","v":0},{"$f":"'Quarter 1'!C224","v":0},{"$f":"'Quarter 1'!D224","v":0}]
[6,"Q1",{"$f":"'Quarter 1'!B225","v":0},{"$f":"'Quarter 1'!C225","v":0},{"$f":"'Quarter 1'!D225","v":0}]
[7,"Q1",{"$f":"'Quarter 1'!B226","v":0},{"$f":"'Quarter 1'!C226","v":0},{"$f":"'Quarter 1'!D226","v":0}]
[8,"Q1",{"$f":"'Quarter 1'!B227","v":0},{"$f":"'Quarter 1'!C227","v":0},{"$f":"'Quarter 1'!D227","v":0}]
[9,"Q1",{"$f":"'Quarter 1'!B228","v":0},{"$f":"'Quarter 1'!C228","v":0},{"$f":"'Quarter 1'!D228","v":0}]
[10,"Q1",{"$f":"'Quarter 1'!B229","v":0},{"$f":"'Quarter 1'!C229","v":0},{"$f":"'Quarter 1'!D229","v":0}]
[11,"Q1",{"$f":"'Quarter 1'!B230","v":0},{"$f":"'Quarter 1'!C230","v":0},{"$f":"'Quarter 1'!D230","v":0}]
[12,"Q1",{"$f":"'Quarter 1'!B231","v":0},{"$f":"'Quarter 1'!C231","v":0},{"$f":"'Quarter 1'!D231","v":0}]
[13,"Q1",{"$f":"'Quarter 1'!B232","v":0},{"$f":"'Quarter 1'!C232","v":0},{"$f":"'Quarter 1'!D232","v":0}]
[14,"Q1",{"$f":"'Quarter 1'!B233","v":0},{"$f":"'Quarter 1'!C233","v":0},{"$f":"'Quarter 1'!D233","v":0}]
[15,"Q1",{"$f":"'Quarter 1'!B234","v":0},{"$f":"'Quarter 1'!C234","v":0},{"$f":"'Quarter 1'!D234","v":0}]
[16,"Q1",{"$f":"'Quarter 1'!B235","v":0},{"$f":"'Quarter 1'!C235","v":0},{"$f":"'Quarter 1'!D235","v":0}]
[17,"Q1",{"$f":"'Quarter 1'!B236","v":0},{"$f":"'Quarter 1'!C236","v":0},{"$f":"'Quarter 1'!D236","v":0}]
[18,"Q1",{"$f":"'Quarter 1'!B237","v":0},{"$f":"'Quarter 1'!C237","v":0},{"$f":"'Quarter 1'!D237","v":0}]
[19,"Q1",{"$f":"'Quarter 1'!B238","v":0},{"$f":"'Quarter 1'!C238","v":0},{"$f":"'Quarter 1'!D238","v":0}]
[20,"Q1",{"$f":"'Quarter 1'!B239","v":0},{"$f":"'Quarter 1'!C239","v":0},{"$f":"'Quarter 1'!D239","v":0}]
[21,"Q1",{"$f":"'Quarter 1'!B240","v":0},{"$f":"'Quarter 1'!C240","v":0},{"$f":"'Quarter 1'!D240","v":0}]
[22,"Q1",{"$f":"'Quarter 1'!B241","v":0},{"$f":"'Quarter 1'!C241","v":0},{"$f":"'Quarter 1'!D241","v":0}]
[23,"Q1",{"$f":"'Quarter 1'!B242","v":0},{"$f":"'Quarter 1'!C242","v":0},{"$f":"'Quarter 1'!D242","v":0}]
[24,"Q1",{"$f":"'Quarter 1'!B243","v":0},{"$f":"'Quarter 1'!C243","v":0},{"$f":"'Quarter 1'!D243","v":0}]
[25,"Q1",{"$f":"'Quarter 1'!B244","v":0},{"$f":"'Quarter 1'!C244","v":0},{"$f":"'Quarter 1'!D244","v":0}]
[26,"Q1",{"$f":"'Quarter 1'!B245","v":0},{"$f":"'Quarter 1'!C245","v":0},{"$f":"'Quarter 1'!D245","v":0}]
[27,"Q1",{"$f":"'Quarter 1'!B246","v":0},{"$f":"'Quarter 1'!C246","v":0},{"$f":"'Quarter 1'!D246","v":0}]
[28,"Q1",{"$f":"'Quarter 1'!B247","v":0},{"$f":"'Quarter 1'!C247","v":0},{"$f":"'Quarter 1'!D247","v":0}]
[29,"Q1",{"$f":"'Quarter 1'!B248","v":0},{"$f":"'Quarter 1'!C248","v":0},{"$f":"'Quarter 1'!D248","v":0}]
[30,"Q1",{"$f":"'Quarter 1'!B249","v":0},{"$f":"'Quarter 1'!C249","v":0},{"$f":"'Quarter 1'!D249","v":0}]
[31,"Q2",{"$f":"'Quarter 2'!B220","v":0},{"$f":"'Quarter 2'!C220","v":0},{"$f":"'Quarter 2'!D220","v":0}]
[32,"Q2",{"$f":"'Quarter 2'!B221","v":0},{"$f":"'Quarter 2'!C221","v":0},{"$f":"'Quarter 2'!D221","v":0}]
[33,"Q2",{"$f":"'Quarter 2'!B222","v":0},{"$f":"'Quarter 2'!C222","v":0},{"$f":"'Quarter 2'!D222","v":0}]
[34,"Q2",{"$f":"'Quarter 2'!B223","v":0},{"$f":"'Quarter 2'!C223","v":0},{"$f":"'Quarter 2'!D223","v":0}]
[35,"Q2",{"$f":"'Quarter 2'!B224","v":0},{"$f":"'Quarter 2'!C224","v":0},{"$f":"'Quarter 2'!D224","v":0}]
[36,"Q2",{"$f":"'Quarter 2'!B225","v":0},{"$f":"'Quarter 2'!C225","v":0},{"$f":"'Quarter 2'!D225","v":0}]
[37,"Q2",{"$f":"'Quarter 2'!B226","v":0},{"$f":"'Quarter 2'!C226","v":0},{"$f":"'Quarter 2'!D226","v":0}]
[38,"Q2",{"$f":"'Quarter 2'!B227","v":0},{"$f":"'Quarter 2'!C227","v":0},{"$f":"'Quarter 2'!D227","v":0}]
[39,"Q2",{"$f":"'Quarter 2'!B228","v":0},{"$f":"'Quarter 2'!C228","v":0},{"$f":"'Quarter 2'!D228","v":0}]
[40,"Q2",{"$f":"'Quarter 2'!B229","v":0},{"$f":"'Quarter 2'!C229","v":0},{"$f":"'Quarter 2'!D229","v":0}]
[41,"Q2",{"$f":"'Quarter 2'!B230","v":0},{"$f":"'Quarter 2'!C230","v":0},{"$f":"'Quarter 2'!D230","v":0}]
[42,"Q2",{"$f":"'Quarter 2'!B231","v":0},{"$f":"'Quarter 2'!C231","v":0},{"$f":"'Quarter 2'!D231","v":0}]
[43,"Q2",{"$f":"'Quarter 2'!B232","v":0},{"$f":"'Quarter 2'!C232","v":0},{"$f":"'Quarter 2'!D232","v":0}]
[44,"Q2",{"$f":"'Quarter 2'!B233","v":0},{"$f":"'Quarter 2'!C233","v":0},{"$f":"'Quarter 2'!D233","v":0}]
[45,"Q2",{"$f":"'Quarter 2'!B234","v":0},{"$f":"'Quarter 2'!C234","v":0},{"$f":"'Quarter 2'!D234","v":0}]
[46,"Q2",{"$f":"'Quarter 2'!B235","v":0},{"$f":"'Quarter 2'!C235","v":0},{"$f":"'Quarter 2'!D235","v":0}]
[47,"Q2",{"$f":"'Quarter 2'!B236","v":0},{"$f":"'Quarter 2'!C236","v":0},{"$f":"'Quarter 2'!D236","v":0}]
[48,"Q2",{"$f":"'Quarter 2'!B237","v":0},{"$f":"'Quarter 2'!C237","v":0},{"$f":"'Quarter 2'!D237","v":0}]
[49,"Q2",{"$f":"'Quarter 2'!B238","v":0},{"$f":"'Quarter 2'!C238","v":0},{"$f":"'Quarter 2'!D238","v":0}]
[50,"Q2",{"$f":"'Quarter 2'!B239","v":0},{"$f":"'Quarter 2'!C239","v":0},{"$f":"'Quarter 2'!D239","v":0}]
[51,"Q2",{"$f":"'Quarter 2'!B240","v":0},{"$f":"'Quarter 2'!C240","v":0},{"$f":"'Quarter 2'!D240","v":0}]
[52,"Q2",{"$f":"'Quarter 2'!B241","v":0},{"$f":"'Quarter 2'!C241","v":0},{"$f":"'Quarter 2'!D241","v":0}]
[53,"Q2",{"$f":"'Quarter 2'!B242","v":0},{"$f":"'Quarter 2'!C242","v":0},{"$f":"'Quarter 2'!D242","v":0}]
[54,"Q2",{"$f":"'Quarter 2'!B243","v":0},{"$f":"'Quarter 2'!C243","v":0},{"$f":"'Quarter 2'!D243","v":0}]
[55,"Q2",{"$f":"'Quarter 2'!B244","v":0},{"$f":"'Quarter 2'!C244","v":0},{"$f":"'Quarter 2'!D244","v":0}]
[56,"Q2",{"$f":"'Quarter 2'!B245","v":0},{"$f":"'Quarter 2'!C245","v":0},{"$f":"'Quarter 2'!D245","v":0}]
[57,"Q2",{"$f":"'Quarter 2'!B246","v":0},{"$f":"'Quarter 2'!C246","v":0},{"$f":"'Quarter 2'!D246","v":0}]
[58,"Q2",{"$f":"'Quarter 2'!B247","v":0},{"$f":"'Quarter 2'!C247","v":0},{"$f":"'Quarter 2'!D247","v":0}]
[59,"Q2",{"$f":"'Quarter 2'!B248","v":0},{"$f":"'Quarter 2'!C248","v":0},{"$f":"'Quarter 2'!D248","v":0}]
[60,"Q2",{"$f":"'Quarter 2'!B249","v":0},{"$f":"'Quarter 2'!C249","v":0},{"$f":"'Quarter 2'!D249","v":0}]
[61,"Q3",{"$f":"'Quarter 3'!B220","v":0},{"$f":"'Quarter 3'!C220","v":0},{"$f":"'Quarter 3'!D220","v":0}]
[62,"Q3",{"$f":"'Quarter 3'!B221","v":0},{"$f":"'Quarter 3'!C221","v":0},{"$f":"'Quarter 3'!D221","v":0}]
[63,"Q3",{"$f":"'Quarter 3'!B222","v":0},{"$f":"'Quarter 3'!C222","v":0},{"$f":"'Quarter 3'!D222","v":0}]
[64,"Q3",{"$f":"'Quarter 3'!B223","v":0},{"$f":"'Quarter 3'!C223","v":0},{"$f":"'Quarter 3'!D223","v":0}]
[65,"Q3",{"$f":"'Quarter 3'!B224","v":0},{"$f":"'Quarter 3'!C224","v":0},{"$f":"'Quarter 3'!D224","v":0}]
[66,"Q3",{"$f":"'Quarter 3'!B225","v":0},{"$f":"'Quarter 3'!C225","v":0},{"$f":"'Quarter 3'!D225","v":0}]
[67,"Q3",{"$f":"'Quarter 3'!B226","v":0},{"$f":"'Quarter 3'!C226","v":0},{"$f":"'Quarter 3'!D226","v":0}]
[68,"Q3",{"$f":"'Quarter 3'!B227","v":0},{"$f":"'Quarter 3'!C227","v":0},{"$f":"'Quarter 3'!D227","v":0}]
[69,"Q3",{"$f":"'Quarter 3'!B228","v":0},{"$f":"'Quarter 3'!C228","v":0},{"$f":"'Quarter 3'!D228","v":0}]
[70,"Q3",{"$f":"'Quarter 3'!B229","v":0},{"$f":"'Quarter 3'!C229","v":0},{"$f":"'Quarter 3'!D229","v":0}]
[71,"Q3",{"$f":"'Quarter 3'!B230","v":0},{"$f":"'Quarter 3'!C230","v":0},{"$f":"'Quarter 3'!D230","v":0}]
[72,"Q3",{"$f":"'Quarter 3'!B231","v":0},{"$f":"'Quarter 3'!C231","v":0},{"$f":"'Quarter 3'!D231","v":0}]
[73,"Q3",{"$f":"'Quarter 3'!B232","v":0},{"$f":"'Quarter 3'!C232","v":0},{"$f":"'Quarter 3'!D232","v":0}]
[74,"Q3",{"$f":"'Quarter 3'!B233","v":0},{"$f":"'Quarter 3'!C233","v":0},{"$f":"'Quarter 3'!D233","v":0}]
[75,"Q3",{"$f":"'Quarter 3'!B234","v":0},{"$f":"'Quarter 3'!C234","v":0},{"$f":"'Quarter 3'!D234","v":0}]
[76,"Q3",{"$f":"'Quarter 3'!B235","v":0},{"$f":"'Quarter 3'!C235","v":0},{"$f":"'Quarter 3'!D235","v":0}]
[77,"Q3",{"$f":"'Quarter 3'!B236","v":0},{"$f":"'Quarter 3'!C236","v":0},{"$f":"'Quarter 3'!D236","v":0}]
[78,"Q3",{"$f":"'Quarter 3'!B237","v":0},{"$f":"'Quarter 3'!C237","v":0},{"$f":"'Quarter 3'!D237","v":0}]
[79,"Q3",{"$f":"'Quarter 3'!B238","v":0},{"$f":"'Quarter 3'!C238","v":0},{"$f":"'Quarter 3'!D238","v":0}]
[80,"Q3",{"$f":"'Quarter 3'!B239","v":0},{"$f":"'Quarter 3'!C239","v":0},{"$f":"'Quarter 3'!D239","v":0}]
[81,"Q3",{"$f":"'Quarter 3'!B240","v":0},{"$f":"'Quarter 3'!C240","v":0},{"$f":"'Quarter 3'!D240","v":0}]
[82,"Q3",{"$f":"'Quarter 3'!B241","v":0},{"$f":"'Quarter 3'!C241","v":0},{"$f":"'Quarter 3'!D241","v":0}]
[83,"Q3",{"$f":"'Quarter 3'!B242","v":0},{"$f":"'Quarter 3'!C242","v":0},{"$f":"'Quarter 3'!D242","v":0}]
[84,"Q3",{"$f":"'Quarter 3'!B243","v":0},{"$f":"'Quarter 3'!C243","v":0},{"$f":"'Quarter 3'!D243","v":0}]
[85,"Q3",{"$f":"'Quarter 3'!B244","v":0},{"$f":"'Quarter 3'!C244","v":0},{"$f":"'Quarter 3'!D244","v":0}]
[86,"Q3",{"$f":"'Quarter 3'!B245","v":0},{"$f":"'Quarter 3'!C245","v":0},{"$f":"'Quarter 3'!D245","v":0}]
[87,"Q3",{"$f":"'Quarter 3'!B246","v":0},{"$f":"'Quarter 3'!C246","v":0},{"$f":"'Quarter 3'!D246","v":0}]
[88,"Q3",{"$f":"'Quarter 3'!B247","v":0},{"$f":"'Quarter 3'!C247","v":0},{"$f":"'Quarter 3'!D247","v":0}]
[89,"Q3",{"$f":"'Quarter 3'!B248","v":0},{"$f":"'Quarter 3'!C248","v":0},{"$f":"'Quarter 3'!D248","v":0}]
[90,"Q3",{"$f":"'Quarter 3'!B249","v":0},{"$f":"'Quarter 3'!C249","v":0},{"$f":"'Quarter 3'!D249","v":0}]
[91,"Q4",{"$f":"'Quarter 4'!B220","v":0},{"$f":"'Quarter 4'!C220","v":0},{"$f":"'Quarter 4'!D220","v":0}]
[92,"Q4",{"$f":"'Quarter 4'!B221","v":0},{"$f":"'Quarter 4'!C221","v":0},{"$f":"'Quarter 4'!D221","v":0}]
[93,"Q4",{"$f":"'Quarter 4'!B222","v":0},{"$f":"'Quarter 4'!C222","v":0},{"$f":"'Quarter 4'!D222","v":0}]
[94,"Q4",{"$f":"'Quarter 4'!B223","v":0},{"$f":"'Quarter 4'!C223","v":0},{"$f":"'Quarter 4'!D223","v":0}]
[95,"Q4",{"$f":"'Quarter 4'!B224","v":0},{"$f":"'Quarter 4'!C224","v":0},{"$f":"'Quarter 4'!D224","v":0}]
[96,"Q4",{"$f":"'Quarter 4'!B225","v":0},{"$f":"'Quarter 4'!C225","v":0},{"$f":"'Quarter 4'!D225","v":0}]
[97,"Q4",{"$f":"'Quarter 4'!B226","v":0},{"$f":"'Quarter 4'!C226","v":0},{"$f":"'Quarter 4'!D226","v":0}]
[98,"Q4",{"$f":"'Quarter 4'!B227","v":0},{"$f":"'Quarter 4'!C227","v":0},{"$f":"'Quarter 4'!D227","v":0}]
[99,"Q4",{"$f":"'Quarter 4'!B228","v":0},{"$f":"'Quarter 4'!C228","v":0},{"$f":"'Quarter 4'!D228","v":0}]
[100,"Q4",{"$f":"'Quarter 4'!B229","v":0},{"$f":"'Quarter 4'!C229","v":0},{"$f":"'Quarter 4'!D229","v":0}]
[101,"Q4",{"$f":"'Quarter 4'!B230","v":0},{"$f":"'Quarter 4'!C230","v":0},{"$f":"'Quarter 4'!D230","v":0}]
[102,"Q4",{"$f":"'Quarter 4'!B231","v":0},{"$f":"'Quarter 4'!C231","v":0},{"$f":"'Quarter 4'!D231","v":0}]
[103,"Q4",{"$f":"'Quarter 4'!B232","v":0},{"$f":"'Quarter 4'!C232","v":0},{"$f":"'Quarter 4'!D232","v":0}]
[104,"Q4",{"$f":"'Quarter 4'!B233","v":0},{"$f":"'Quarter 4'!C233","v":0},{"$f":"'Quarter 4'!D233","v":0}]
[105,"Q4",{"$f":"'Quarter 4'!B234","v":0},{"$f":"'Quarter 4'!C234","v":0},{"$f":"'Quarter 4'!D234","v":0}]
[106,"Q4",{"$f":"'Quarter 4'!B235","v":0},{"$f":"'Quarter 4'!C235","v":0},{"$f":"'Quarter 4'!D235","v":0}]
[107,"Q4",{"$f":"'Quarter 4'!B236","v":0},{"$f":"'Quarter 4'!C236","v":0},{"$f":"'Quarter 4'!D236","v":0}]
[108,"Q4",{"$f":"'Quarter 4'!B237","v":0},{"$f":"'Quarter 4'!C237","v":0},{"$f":"'Quarter 4'!D237","v":0}]
[109,"Q4",{"$f":"'Quarter 4'!B238","v":0},{"$f":"'Quarter 4'!C238","v":0},{"$f":"'Quarter 4'!D238","v":0}]
[110,"Q4",{"$f":"'Quarter 4'!B239","v":0},{"$f":"'Quarter 4'!C239","v":0},{"$f":"'Quarter 4'!D239","v":0}]
[111,"Q4",{"$f":"'Quarter 4'!B240","v":0},{"$f":"'Quarter 4'!C240","v":0},{"$f":"'Quarter 4'!D240","v":0}]
[112,"Q4",{"$f":"'Quarter 4'!B241","v":0},{"$f":"'Quarter 4'!C241","v":0},{"$f":"'Quarter 4'!D241","v":0}]
[113,"Q4",{"$f":"'Quarter 4'!B242","v":0},{"$f":"'Quarter 4'!C242","v":0},{"$f":"'Quarter 4'!D242","v":0}]
[114,"Q4",{"$f":"'Quarter 4'!B243","v":0},{"$f":"'Quarter 4'!C243","v":0},{"$f":"'Quarter 4'!D243","v":0}]
[115,"Q4",{"$f":"'Quarter 4'!B244","v":0},{"$f":"'Quarter 4'!C244","v":0},{"$f":"'Quarter 4'!D244","v":0}]
[116,"Q4",{"$f":"'Quarter 4'!B245","v":0},{"$f":"'Quarter 4'!C245","v":0},{"$f":"'Quarter 4'!D245","v":0}]
[117,"Q4",{"$f":"'Quarter 4'!B246","v":0},{"$f":"'Quarter 4'!C246","v":0},{"$f":"'Quarter 4'!D246","v":0}]
[118,"Q4",{"$f":"'Quarter 4'!B247","v":0},{"$f":"'Quarter 4'!C247","v":0},{"$f":"'Quarter 4'!D247","v":0}]
[119,"Q4",{"$f":"'Quarter 4'!B248","v":0},{"$f":"'Quarter 4'!C248","v":0},{"$f":"'Quarter 4'!D248","v":0}]
[120,"Q4",{"$f":"'Quarter 4'!B249","v":0},{"$f":"'Quarter 4'!C249","v":0},{"$f":"'Quarter 4'!D249","v":0}]
[null,null,null,"TOTAL:",{"$f":"SUM(E754:E873)","v":0}]
[]
["Technical Assistance (Providing technical information to citizens on watershed related problem solving):   "]
["H","Quarter","Program","Watershed/Watershed Plan Name","Activity","Appx. Hours"]
[1,"Q1",{"$f":"'Quarter 1'!B255","v":0},{"$f":"'Quarter 1'!C255","v":0},{"$f":"'Quarter 1'!D255","v":0},{"$f":"'Quarter 1'!E255","v":0}]
[2,"Q1",{"$f":"'Quarter 1'!B256","v":0},{"$f":"'Quarter 1'!C256","v":0},{"$f":"'Quarter 1'!D256","v":0},{"$f":"'Quarter 1'!E256","v":0}]
[3,"Q1",{"$f":"'Quarter 1'!B257","v":0},{"$f":"'Quarter 1'!C257","v":0},{"$f":"'Quarter 1'!D257","v":0},{"$f":"'Quarter 1'!E257","v":0}]
[4,"Q1",{"$f":"'Quarter 1'!B258","v":0},{"$f":"'Quarter 1'!C258","v":0},{"$f":"'Quarter 1'!D258","v":0},{"$f":"'Quarter 1'!E258","v":0}]
[5,"Q1",{"$f":"'Quarter 1'!B259","v":0},{"$f":"'Quarter 1'!C259","v":0},{"$f":"'Quarter 1'!D259","v":0},{"$f":"'Quarter 1'!E259","v":0}]
[6,"Q1",{"$f":"'Quarter 1'!B260","v":0},{"$f":"'Quarter 1'!C260","v":0},{"$f":"'Quarter 1'!D260","v":0},{"$f":"'Quarter 1'!E260","v":0}]
[7,"Q1",{"$f":"'Quarter 1'!B261","v":0},{"$f":"'Quarter 1'!C261","v":0},{"$f":"'Quarter 1'!D261","v":0},{"$f":"'Quarter 1'!E261","v":0}]
[8,"Q1",{"$f":"'Quarter 1'!B262","v":0},{"$f":"'Quarter 1'!C262","v":0},{"$f":"'Quarter 1'!D262","v":0},{"$f":"'Quarter 1'!E262","v":0}]
[9,"Q1",{"$f":"'Quarter 1'!B263","v":0},{"$f":"'Quarter 1'!C263","v":0},{"$f":"'Quarter 1'!D263","v":0},{"$f":"'Quarter 1'!E263","v":0}]
[10,"Q1",{"$f":"'Quarter 1'!B264","v":0},{"$f":"'Quarter 1'!C264","v":0},{"$f":"'Quarter 1'!D264","v":0},{"$f":"'Quarter 1'!E264","v":0}]
[11,"Q1",{"$f":"'Quarter 1'!B265","v":0},{"$f":"'Quarter 1'!C265","v":0},{"$f":"'Quarter 1'!D265","v":0},{"$f":"'Quarter 1'!E265","v":0}]
[12,"Q1",{"$f":"'Quarter 1'!B266","v":0},{"$f":"'Quarter 1'!C266","v":0},{"$f":"'Quarter 1'!D266","v":0},{"$f":"'Quarter 1'!E266","v":0}]
[13,"Q1",{"$f":"'Quarter 1'!B267","v":0},{"$f":"'Quarter 1'!C267","v":0},{"$f":"'Quarter 1'!D267","v":0},{"$f":"'Quarter 1'!E267","v":0}]
[14,"Q1",{"$f":"'Quarter 1'!B268","v":0},{"$f":"'Quarter 1'!C268","v":0},{"$f":"'Quarter 1'!D268","v":0},{"$f":"'Quarter 1'!E268","v":0}]
[15,"Q1",{"$f":"'Quarter 1'!B269","v":0},{"$f":"'Quarter 1'!C269","v":0},{"$f":"'Quarter 1'!D269","v":0},{"$f":"'Quarter 1'!E269","v":0}]
[16,"Q1",{"$f":"'Quarter 1'!B270","v":0},{"$f":"'Quarter 1'!C270","v":0},{"$f":"'Quarter 1'!D270","v":0},{"$f":"'Quarter 1'!E270","v":0}]
[17,"Q1",{"$f":"'Quarter 1'!B271","v":0},{"$f":"'Quarter 1'!C271","v":0},{"$f":"'Quarter 1'!D271","v":0},{"$f":"'Quarter 1'!E271","v":0}]
[18,"Q1",{"$f":"'Quarter 1'!B272","v":0},{"$f":"'Quarter 1'!C272","v":0},{"$f":"'Quarter 1'!D272","v":0},{"$f":"'Quarter 1'!E272","v":0}]
[19,"Q1",{"$f":"'Quarter 1'!B273","v":0},{"$f":"'Quarter 1'!C273","v":0},{"$f":"'Quarter 1'!D273","v":0},{"$f":"'Quarter 1'!E273","v":0}]
[20,"Q1",{"$f":"'Quarter 1'!B274","v":0},{"$f":"'Quarter 1'!C274","v":0},{"$f":"'Quarter 1'!D274","v":0},{"$f":"'Quarter 1'!E274","v":0}]
[21,"Q1",{"$f":"'Quarter 1'!B275","v":0},{"$f":"'Quarter 1'!C275","v":0},{"$f":"'Quarter 1'!D275","v":0},{"$f":"'Quarter 1'!E275","v":0}]
[22,"Q1",{"$f":"'Quarter 1'!B276","v":0},{"$f":"'Quarter 1'!C276","v":0},{"$f":"'Quarter 1'!D276","v":0},{"$f":"'Quarter 1'!E276","v":0}]
[23,"Q1",{"$f":"'Quarter 1'!B277","v":0},{"$f":"'Quarter 1'!C277","v":0},{"$f":"'Quarter 1'!D277","v":0},{"$f":"'Quarter 1'!E277","v":0}]
[24,"Q1",{"$f":"'Quarter 1'!B278","v":0},{"$f":"'Quarter 1'!C278","v":0},{"$f":"'Quarter 1'!D278","v":0},{"$f":"'Quarter 1'!E278","v":0}]
[25,"Q1",{"$f":"'Quarter 1'!B279","v":0},{"$f":"'Quarter 1'!C279","v":0},{"$f":"'Quarter 1'!D279","v":0},{"$f":"'Quarter 1'!E279","v":0}]
[26,"Q1",{"$f":"'Quarter 1'!B280","v":0},{"$f":"'Quarter 1'!C280","v":0},{"$f":"'Quarter 1'!D280","v":0},{"$f":"'Quarter 1'!E280","v":0}]
[27,"Q1",{"$f":"'Quarter 1'!B281","v":0},{"$f":"'Quarter 1'!C281","v":0},{"$f":"'Quarter 1'!D281","v":0},{"$f":"'Quarter 1'!E281","v":0}]
[28,"Q1",{"$f":"'Quarter 1'!B282","v":0},{"$f":"'Quarter 1'!C282","v":0},{"$f":"'Quarter 1'!D282","v":0},{"$f":"'Quarter 1'!E282","v":0}]
[29,"Q1",{"$f":"'Quarter 1'!B283","v":0},{"$f":"'Quarter 1'!C283","v":0},{"$f":"'Quarter 1'!D283","v":0},{"$f":"'Quarter 1'!E283","v":0}]
[30,"Q1",{"$f":"'Quarter 1'!B284","v":0},{"$f":"'Quarter 1'!C284","v":0},{"$f":"'Quarter 1'!D284","v":0},{"$f":"'Quarter 1'!E284","v":0}]
[31,"Q2",{"$f":"'Quarter 2'!B255","v":0},{"$f":"'Quarter 2'!C255","v":0},{"$f":"'Quarter 2'!D255","v":0},{"$f":"'Quarter 2'!E255","v":0}]
[32,"Q2",{"$f":"'Quarter 2'!B256","v":0},{"$f":"'Quarter 2'!C256","v":0},{"$f":"'Quarter 2'!D256","v":0},{"$f":"'Quarter 2'!E256","v":0}]
[33,"Q2",{"$f":"'Quarter 2'!B257","v":0},{"$f":"'Quarter 2'!C257","v":0},{"$f":"'Quarter 2'!D257","v":0},{"$f":"'Quarter 2'!E257","v":0}]
[34,"Q2",{"$f":"'Quarter 2'!B258","v":0},{"$f":"'Quarter 2'!C258","v":0},{"$f":"'Quarter 2'!D258","v":0},{"$f":"'Quarter 2'!E258","v":0}]
[35,"Q2",{"$f":"'Quarter 2'!B259","v":0},{"$f":"'Quarter 2'!C259","v":0},{"$f":"'Quarter 2'!D259","v":0},{"$f":"'Quarter 2'!E259","v":0}]
[36,"Q2",{"$f":"'Quarter 2'!B260","v":0},{"$f":"'Quarter 2'!C260","v":0},{"$f":"'Quarter 2'!D260","v":0},{"$f":"'Quarter 2'!E260","v":0}]
[37,"Q2",{"$f":"'Quarter 2'!B261","v":0},{"$f":"'Quarter 2'!C261","v":0},{"$f":"'Quarter 2'!D261","v":0},{"$f":"'Quarter 2'!E261","v":0}]
[38,"Q2",{"$f":"'Quarter 2'!B262","v":0},{"$f":"'Quarter 2'!C262","v":0},{"$f":"'Quarter 2'!D262","v":0},{"$f":"'Quarter 2'!E262","v":0}]
[39,"Q2",{"$f":"'Quarter 2'!B263","v":0},{"$f":"'Quarter 2'!C263","v":0},{"$f":"'Quarter 2'!D263","v":0},{"$f":"'Quarter 2'!E263","v":0}]
[40,"Q2",{"$f":"'Quarter 2'!B264","v":0},{"$f":"'Quarter 2'!C264","v":0},{"$f":"'Quarter 2'!D264","v":0},{"$f":"'Quarter 2'!E264","v":0}]
[41,"Q2",{"$f":"'Quarter 2'!B265","v":0},{"$f":"'Quarter 2'!C265","v":0},{"$f":"'Quarter 2'!D265","v":0},{"$f":"'Quarter 2'!E265","v":0}]
[42,"Q2",{"$f":"'Quarter 2'!B266","v":0},{"$f":"'Quarter 2'!C266","v":0},{"$f":"'Quarter 2'!D266","v":0},{"$f":"'Quarter 2'!E266","v":0}]
[43,"Q2",{"$f":"'Quarter 2'!B267","v":0},{"$f":"'Quarter 2'!C267","v":0},{"$f":"'Quarter 2'!D267","v":0},{"$f":"'Quarter 2'!E267","v":0}]
[44,"Q2",{"$f":"'Quarter 2'!B268","v":0},{"$f":"'Quarter 2'!C268","v":0},{"$f":"'Quarter 2'!D268","v":0},{"$f":"'Quarter 2'!E268","v":0}]
[45,"Q2",{"$f":"'Quarter 2'!B269","v":0},{"$f":"'Quarter 2'!C269","v":0},{"$f":"'Quarter 2'!D269","v":0},{"$f":"'Quarter 2'!E269","v":0}]
[46,"Q2",{"$f":"'Quarter 2'!B270","v":0},{"$f":"'Quarter 2'!C270","v":0},{"$f":"'Quarter 2'!D270","v":0},{"$f":"'Quarter 2'!E270","v":0}]
[47,"Q2",{"$f":"'Quarter 2'!B271","v":0},{"$f":"'Quarter 2'!C271","v":0},{"$f":"'Quarter 2'!D271","v":0},{"$f":"'Quarter 2'!E271","v":0}]
[48,"Q2",{"$f":"'Quarter 2'!B272","v":0},{"$f":"'Quarter 2'!C272","v":0},{"$f":"'Quarter 2'!D272","v":0},{"$f":"'Quarter 2'!E272","v":0}]
[49,"Q2",{"$f":"'Quarter 2'!B273","v":0},{"$f":"'Quarter 2'!C273","v":0},{"$f":"'Quarter 2'!D273","v":0},{"$f":"'Quarter 2'!E273","v":0}]
[50,"Q2",{"$f":"'Quarter 2'!B274","v":0},{"$f":"'Quarter 2'!C274","v":0},{"$f":"'Quarter 2'!D274","v":0},{"$f":"'Quarter 2'!E274","v":0}]
[51,"Q2",{"$f":"'Quarter 2'!B275","v":0},{"$f":"'Quarter 2'!C275","v":0},{"$f":"'Quarter 2'!D275","v":0},{"$f":"'Quarter 2'!E275","v":0}]
[52,"Q2",{"$f":"'Quarter 2'!B276","v":0},{"$f":"'Quarter 2'!C276","v":0},{"$f":"'Quarter 2'!D276","v":0},{"$f":"'Quarter 2'!E276","v":0}]
[53,"Q2",{"$f":"'Quarter 2'!B277","v":0},{"$f":"'Quarter 2'!C277","v":0},{"$f":"'Quarter 2'!D277","v":0},{"$f":"'Quarter 2'!E277","v":0}]
[54,"Q2",{"$f":"'Quarter 2'!B278","v":0},{"$f":"'Quarter 2'!C278","v":0},{"$f":"'Quarter 2'!D278","v":0},{"$f":"'Quarter 2'!E278","v":0}]
[55,"Q2",{"$f":"'Quarter 2'!B279","v":0},{"$f":"'Quarter 2'!C279","v":0},{"$f":"'Quarter 2'!D279","v":0},{"$f":"'Quarter 2'!E279","v":0}]
[56,"Q2",{"$f":"'Quarter 2'!B280","v":0},{"$f":"'Quarter 2'!C280","v":0},{"$f":"'Quarter 2'!D280","v":0},{"$f":"'Quarter 2'!E280","v":0}]
[57,"Q2",{"$f":"'Quarter 2'!B281","v":0},{"$f":"'Quarter 2'!C281","v":0},{"$f":"'Quarter 2'!D281","v":0},{"$f":"'Quarter 2'!E281","v":0}]
[58,"Q2",{"$f":"'Quarter 2'!B282","v":0},{"$f":"'Quarter 2'!C282","v":0},{"$f":"'Quarter 2'!D282","v":0},{"$f":"'Quarter 2'!E282","v":0}]
[59,"Q2",{"$f":"'Quarter 2'!B283","v":0},{"$f":"'Quarter 2'!C283","v":0},{"$f":"'Quarter 2'!D283","v":0},{"$f":"'Quarter 2'!E283","v":0}]
[60,"Q2",{"$f":"'Quarter 2'!B284","v":0},{"$f":"'Quarter 2'!C284","v":0},{"$f":"'Quarter 2'!D284","v":0},{"$f":"'Quarter 2'!E284","v":0}]
[61,"Q3",{"$f":"'Quarter 3'!B255","v":0},{"$f":"'Quarter 3'!C255","v":0},{"$f":"'Quarter 3'!D255","v":0},{"$f":"'Quarter 3'!E255","v":0}]
[62,"Q3",{"$f":"'Quarter 3'!B256","v":0},{"$f":"'Quarter 3'!C256","v":0},{"$f":"'Quarter 3'!D256","v":0},{"$f":"'Quarter 3'!E256","v":0}]
[63,"Q3",{"$f":"'Quarter 3'!B257","v":0},{"$f":"'Quarter 3'!C257","v":0},{"$f":"'Quarter 3'!D257","v":0},{"$f":"'Quarter 3'!E257","v":0}]
[64,"Q3",{"$f":"'Quarter 3'!B258","v":0},{"$f":"'Quarter 3'!C258","v":0},{"$f":"'Quarter 3'!D258","v":0},{"$f":"'Quarter 3'!E258","v":0}]
[65,"Q3",{"$f":"'Quarter 3'!B259","v":0},{"$f":"'Quarter 3'!C259","v":0},{"$f":"'Quarter 3'!D259","v":0},{"$f":"'Quarter 3'!E259","v":0}]
[66,"Q3",{"$f":"'Quarter 3'!B260","v":0},{"$f":"'Quarter 3'!C260","v":0},{"$f":"'Quarter 3'!D260","v":0},{"$f":"'Quarter 3'!E260","v":0}]
[67,"Q3",{"$f":"'Quarter 3'!B261","v":0},{"$f":"'Quarter 3'!C261","v":0},{"$f":"'Quarter 3'!D261","v":0},{"$f":"'Quarter 3'!E261","v":0}]
[68,"Q3",{"$f":"'Quarter 3'!B262","v":0},{"$f":"'Quarter 3'!C262","v":0},{"$f":"'Quarter 3'!D262","v":0},{"$f":"'Quarter 3'!E262","v":0}]
[69,"Q3",{"$f":"'Quarter 3'!B263","v":0},{"$f":"'Quarter 3'!C263","v":0},{"$f":"'Quarter 3'!D263","v":0},{"$f":"'Quarter 3'!E263","v":0}]
[70,"Q3",{"$f":"'Quarter 3'!B264","v":0},{"$f":"'Quarter 3'!C264","v":0},{"$f":"'Quarter 3'!D264","v":0},{"$f":"'Quarter 3'!E264","v":0}]
[71,"Q3",{"$f":"'Quarter 3'!B265","v":0},{"$f":"'Quarter 3'!C265","v":0},{"$f":"'Quarter 3'!D265","v":0},{"$f":"'Quarter 3'!E265","v":0}]
[72,"Q3",{"$f":"'Quarter 3'!B266","v":0},{"$f":"'Quarter 3'!C266","v":0},{"$f":"'Quarter 3'!D266","v":0},{"$f":"'Quarter 3'!E266","v":0}]
[73,"Q3",{"$f":"'Quarter 3'!B267","v":0},{"$f":"'Quarter 3'!C267","v":0},{"$f":"'Quarter 3'!D267","v":0},{"$f":"'Quarter 3'!E267","v":0}]
[74,"Q3",{"$f":"'Quarter 3'!B268","v":0},{"$f":"'Quarter 3'!C268","v":0},{"$f":"'Quarter 3'!D268","v":0},{"$f":"'Quarter 3'!E268","v":0}]
[75,"Q3",{"$f":"'Quarter 3'!B269","v":0},{"$f":"'Quarter 3'!C269","v":0},{"$f":"'Quarter 3'!D269","v":0},{"$f":"'Quarter 3'!E269","v":0}]
[76,"Q3",{"$f":"'Quarter 3'!B270","v":0},{"$f":"'Quarter 3'!C270","v":0},{"$f":"'Quarter 3'!D270","v":0},{"$f":"'Quarter 3'!E270","v":0}]
[77,"Q3",{"$f":"'Quarter 3'!B271","v":0},{"$f":"'Quarter 3'!C271","v":0},{"$f":"'Quarter 3'!D271","v":0},{"$f":"'Quarter 3'!E271","v":0}]
[78,"Q3",{"$f":"'Quarter 3'!B272","v":0},{"$f":"'Quarter 3'!C272","v":0},{"$f":"'Quarter 3'!D272","v":0},{"$f":"'Quarter 3'!E272","v":0}]
[79,"Q3",{"$f":"'Quarter 3'!B273","v":0},{"$f":"'Quarter 3'!C273","v":0},{"$f":"'Quarter 3'!D273","v":0},{"$f":"'Quarter 3'!E273","v":0}]
[80,"Q3",{"$f":"'Quarter 3'!B274","v":0},{"$f":"'Quarter 3'!C274","v":0},{"$f":"'Quarter 3'!D274","v":0},{"$f":"'Quarter 3'!E274","v":0}]
[81,"Q3",{"$f":"'Quarter 3'!B275","v":0},{"$f":"'Quarter 3'!C275","v":0},{"$f":"'Quarter 3'!D275","v":0},{"$f":"'Quarter 3'!E275","v":0}]
[82,"Q3",{"$f":"'Quarter 3'!B276","v":0},{"$f":"'Quarter 3'!C276","v":0},{"$f":"'Quarter 3'!D276","v":0},{"$f":"'Quarter 3'!E276","v":0}]
[83,"Q3",{"$f":"'Quarter 3'!B277","v":0},{"$f":"'Quarter 3'!C277","v":0},{"$f":"'Quarter 3'!D277","v":0},{"$f":"'Quarter 3'!E277","v":0}]
[84,"Q3",{"$f":"'Quarter 3'!B278","v":0},{"$f":"'Quarter 3'!C278","v":0},{"$f":"'Quarter 3'!D278","v":0},{"$f":"'Quarter 3'!E278","v":0}]
[85,"Q3",{"$f":"'Quarter 3'!B279","v":0},{"$f":"'Quarter 3'!C279","v":0},{"$f":"'Quarter 3'!D279","v":0},{"$f":"'Quarter 3'!E279","v":0}]
[86,"Q3",{"$f":"'Quarter 3'!B280","v":0},{"$f":"'Quarter 3'!C280","v":0},{"$f":"'Quarter 3'!D280","v":0},{"$f":"'Quarter 3'!E280","v":0}]
[87,"Q3",{"$f":"'Quarter 3'!B281","v":0},{"$f":"'Quarter 3'!C281","v":0},{"$f":"'Quarter 3'!D281","v":0},{"$f":"'Quarter 3'!E281","v":0}]
[88,"Q3",{"$f":"'Quarter 3'!B282","v":0},{"$f":"'Quarter 3'!C282","v":0},{"$f":"'Quarter 3'!D282","v":0},{"$f":"'Quarter 3'!E282","v":0}]
[89,"Q3",{"$f":"'Quarter 3'!B283","v":0},{"$f":"'Quarter 3'!C283","v":0},{"$f":"'Quarter 3'!D283","v":0},{"$f":"'Quarter 3'!E283","v":0}]
[90,"Q3",{"$f":"'Quarter 3'!B284","v":0},{"$f":"'Quarter 3'!C284","v":0},{"$f":"'Quarter 3'!D284","v":0},{"$f":"'Quarter 3'!E284","v":0}]
[91,"Q4",{"$f":"'Quarter 4'!B255","v":0},{"$f":"'Quarter 4'!C255","v":0},{"$f":"'Quarter 4'!D255","v":0},{"$f":"'Quarter 4'!E255","v":0}]
[92,"Q4",{"$f":"'Quarter 4'!B256","v":0},{"$f":"'Quarter 4'!C256","v":0},{"$f":"'Quarter 4'!D256","v":0},{"$f":"'Quarter 4'!E256","v":0}]
[93,"Q4",{"$f":"'Quarter 4'!B257","v":0},{"$f":"'Quarter 4'!C257","v":0},{"$f":"'Quarter 4'!D257","v":0},{"$f":"'Quarter 4'!E257","v":0}]
[94,"Q4",{"$f":"'Quarter 4'!B258","v":0},{"$f":"'Quarter 4'!C258","v":0},{"$f":"'Quarter 4'!D258","v":0},{"$f":"'Quarter 4'!E258","v":0}]
[95,"Q4",{"$f":"'Quarter 4'!B259","v":0},{"$f":"'Quarter 4'!C259","v":0},{"$f":"'Quarter 4'!D259","v":0},{"$f":"'Quarter 4'!E259","v":0}]
[96,"Q4",{"$f":"'Quarter 4'!B260","v":0},{"$f":"'Quarter 4'!C260","v":0},{"$f":"'Quarter 4'!D260","v":0},{"$f":"'Quarter 4'!E260","v":0}]
[97,"Q4",{"$f":"'Quarter 4'!B261","v":0},{"$f":"'Quarter 4'!C261","v":0},{"$f":"'Quarter 4'!D261","v":0},{"$f":"'Quarter 4'!E261","v":0}]
[98,"Q4",{"$f":"'Quarter 4'!B262","v":0},{"$f":"'Quarter 4'!C262","v":0},{"$f":"'Quarter 4'!D262","v":0},{"$f":"'Quarter 4'!E262","v":0}]
[99,"Q4",{"$f":"'Quarter 4'!B263","v":0},{"$f":"'Quarter 4'!C263","v":0},{"$f":"'Quarter 4'!D263","v":0},{"$f":"'Quarter 4'!E263","v":0}]
[100,"Q4",{"$f":"'Quarter 4'!B264","v":0},{"$f":"'Quarter 4'!C264","v":0},{"$f":"'Quarter 4'!D264","v":0},{"$f":"'Quarter 4'!E264","v":0}]
[101,"Q4",{"$f":"'Quarter 4'!B265","v":0},{"$f":"'Quarter 4'!C265","v":0},{"$f":"'Quarter 4'!D265","v":0},{"$f":"'Quarter 4'!E265","v":0}]
[102,"Q4",{"$f":"'Quarter 4'!B266","v":0},{"$f":"'Quarter 4'!C266","v":0},{"$f":"'Quarter 4'!D266","v":0},{"$f":"'Quarter 4'!E266","v":0}]
[103,"Q4",{"$f":"'Quarter 4'!B267","v":0},{"$f":"'Quarter 4'!C267","v":0},{"$f":"'Quarter 4'!D267","v":0},{"$f":"'Quarter 4'!E267","v":0}]
[104,"Q4",{"$f":"'Quarter 4'!B268","v":0},{"$f":"'Quarter 4'!C268","v":0},{"$f":"'Quarter 4'!D268","v":0},{"$f":"'Quarter 4'!E268","v":0}]
[105,"Q4",{"$f":"'Quarter 4'!B269","v":0},{"$f":"'Quarter 4'!C269","v":0},{"$f":"'Quarter 4'!D269","v":0},{"$f":"'Quarter 4'!E269","v":0}]
[106,"Q4",{"$f":"'Quarter 4'!B270","v":0},{"$f":"'Quarter 4'!C270","v":0},{"$f":"'Quarter 4'!D270","v":0},{"$f":"'Quarter 4'!E270","v":0}]
[107,"Q4",{"$f":"'Quarter 4'!B271","v":0},{"$f":"'Quarter 4'!C271","v":0},{"$f":"'Quarter 4'!D271","v":0},{"$f":"'Quarter 4'!E271","v":0}]
[108,"Q4",{"$f":"'Quarter 4'!B272","v":0},{"$f":"'Quarter 4'!C272","v":0},{"$f":"'Quarter 4'!D272","v":0},{"$f":"'Quarter 4'!E272","v":0}]
[109,"Q4",{"$f":"'Quarter 4'!B273","v":0},{"$f":"'Quarter 4'!C273","v":0},{"$f":"'Quarter 4'!D273","v":0},{"$f":"'Quarter 4'!E273","v":0}]
[110,"Q4",{"$f":"'Quarter 4'!B274","v":0},{"$f":"'Quarter 4'!C274","v":0},{"$f":"'Quarter 4'!D274","v":0},{"$f":"'Quarter 4'!E274","v":0}]
[111,"Q4",{"$f":"'Quarter 4'!B275","v":0},{"$f":"'Quarter 4'!C275","v":0},{"$f":"'Quarter 4'!D275","v":0},{"$f":"'Quarter 4'!E275","v":0}]
[112,"Q4",{"$f":"'Quarter 4'!B276","v":0},{"$f":"'Quarter 4'!C276","v":0},{"$f":"'Quarter 4'!D276","v":0},{"$f":"'Quarter 4'!E276","v":0}]
[113,"Q4",{"$f":"'Quarter 4'!B277","v":0},{"$f":"'Quarter 4'!C277","v":0},{"$f":"'Quarter 4'!D277","v":0},{"$f":"'Quarter 4'!E277","v":0}]
[114,"Q4",{"$f":"'Quarter 4'!B278","v":0},{"$f":"'Quarter 4'!C278","v":0},{"$f":"'Quarter 4'!D278","v":0},{"$f":"'Quarter 4'!E278","v":0}]
[115,"Q4",{"$f":"'Quarter 4'!B279","v":0},{"$f":"'Quarter 4'!C279","v":0},{"$f":"'Quarter 4'!D279","v":0},{"$f":"'Quarter 4'!E279","v":0}]
[116,"Q4",{"$f":"'Quarter 4'!B280","v":0},{"$f":"'Quarter 4'!C280","v":0},{"$f":"'Quarter 4'!D280","v":0},{"$f":"'Quarter 4'!E280","v":0}]
[117,"Q4",{"$f":"'Quarter 4'!B281","v":0},{"$f":"'Quarter 4'!C281","v":0},{"$f":"'Quarter 4'!D281","v":0},{"$f":"'Quarter 4'!E281","v":0}]
[118,"Q4",{"$f":"'Quarter 4'!B282","v":0},{"$f":"'Quarter 4'!C282","v":0},{"$f":"'Quarter 4'!D282","v":0},{"$f":"'Quarter 4'!E282","v":0}]
[119,"Q4",{"$f":"'Quarter 4'!B283","v":0},{"$f":"'Quarter 4'!C283","v":0},{"$f":"'Quarter 4'!D283","v":0},{"$f":"'Quarter 4'!E283","v":0}]
[120,"Q4",{"$f":"'Quarter 4'!B284","v":0},{"$f":"'Quarter 4'!C284","v":0},{"$f":"'Quarter 4'!D284","v":0},{"$f":"'Quarter 4'!E284","v":0}]
[null,null,null,null,"Total:",{"$f":"SUM(F878:F997)","v":0}]
[]
["Auxiliary Program Activities. (MS4, Act 167, Chapter 102, Chapter 105, DGLV, etc.):   "]
["I","Quarter","Program","Watershed/Watershed Plan Name","Activity","Appx. Hours"]
[1,"Q1",{"$f":"'Quarter 1'!B290","v":0},{"$f":"'Quarter 1'!C290","v":0},{"$f":"'Quarter 1'!D290","v":0},{"$f":"'Quarter 1'!E290","v":0}]
[2,"Q1",{"$f":"'Quarter 1'!B291","v":0},{"$f":"'Quarter 1'!C291","v":0},{"$f":"'Quarter 1'!D291","v":0},{"$f":"'Quarter 1'!E291","v":0}]
[3,"Q1",{"$f":"'Quarter 1'!B292","v":0},{"$f":"'Quarter 1'!C292","v":0},{"$f":"'Quarter 1'!D292","v":0},{"$f":"'Quarter 1'!E292","v":0}]
[4,"Q1",{"$f":"'Quarter 1'!B293","v":0},{"$f":"'Quarter 1'!C293","v":0},{"$f":"'Quarter 1'!D293","v":0},{"$f":"'Quarter 1'!E293","v":0}]
[5,"Q1",{"$f":"'Quarter 1'!B294","v":0},{"$f":"'Quarter 1'!C294","v":0},{"$f":"'Quarter 1'!D294","v":0},{"$f":"'Quarter 1'!E294","v":0}]
[6,"Q1",{"$f":"'Quarter 1'!B295","v":0},{"$f":"'Quarter 1'!C295","v":0},{"$f":"'Quarter 1'!D295","v":0},{"$f":"'Quarter 1'!E295","v":0}]
[7,"Q1",{"$f":"'Quarter 1'!B296","v":0},{"$f":"'Quarter 1'!C296","v":0},{"$f":"'Quarter 1'!D296","v":0},{"$f":"'Quarter 1'!E296","v":0}]
[8,"Q1",{"$f":"'Quarter 1'!B297","v":0},{"$f":"'Quarter 1'!C297","v":0},{"$f":"'Quarter 1'!D297","v":0},{"$f":"'Quarter 1'!E297","v":0}]
[9,"Q1",{"$f":"'Quarter 1'!B298","v":0},{"$f":"'Quarter 1'!C298","v":0},{"$f":"'Quarter 1'!D298","v":0},{"$f":"'Quarter 1'!E298","v":0}]
[10,"Q1",{"$f":"'Quarter 1'!B299","v":0},{"$f":"'Quarter 1'!C299","v":0},{"$f":"'Quarter 1'!D299","v":0},{"$f":"'Quarter 1'!E299","v":0}]
[11,"Q1",{"$f":"'Quarter 1'!B300","v":0},{"$f":"'Quarter 1'!C300","v":0},{"$f":"'Quarter 1'!D300","v":0},{"$f":"'Quarter 1'!E300","v":0}]
[12,"Q1",{"$f":"'Quarter 1'!B301","v":0},{"$f":"'Quarter 1'!C301","v":0},{"$f":"'Quarter 1'!D301","v":0},{"$f":"'Quarter 1'!E301","v":0}]
[13,"Q1",{"$f":"'Quarter 1'!B302","v":0},{"$f":"'Quarter 1'!C302","v":0},{"$f":"'Quarter 1'!D302","v":0},{"$f":"'Quarter 1'!E302","v":0}]
[14,"Q1",{"$f":"'Quarter 1'!B303","v":0},{"$f":"'Quarter 1'!C303","v":0},{"$f":"'Quarter 1'!D303","v":0},{"$f":"'Quarter 1'!E303","v":0}]
[15,"Q1",{"$f":"'Quarter 1'!B304","v":0},{"$f":"'Quarter 1'!C304","v":0},{"$f":"'Quarter 1'!D304","v":0},{"$f":"'Quarter 1'!E304","v":0}]
[16,"Q1",{"$f":"'Quarter 1'!B305","v":0},{"$f":"'Quarter 1'!C305","v":0},{"$f":"'Quarter 1'!D305","v":0},{"$f":"'Quarter 1'!E305","v":0}]
[17,"Q1",{"$f":"'Quarter 1'!B306","v":0},{"$f":"'Quarter 1'!C306","v":0},{"$f":"'Quarter 1'!D306","v":0},{"$f":"'Quarter 1'!E306","v":0}]
[18,"Q1",{"$f":"'Quarter 1'!B307","v":0},{"$f":"'Quarter 1'!C307","v":0},{"$f":"'Quarter 1'!D307","v":0},{"$f":"'Quarter 1'!E307","v":0}]
[19,"Q1",{"$f":"'Quarter 1'!B308","v":0},{"$f":"'Quarter 1'!C308","v":0},{"$f":"'Quarter 1'!D308","v":0},{"$f":"'Quarter 1'!E308","v":0}]
[20,"Q1",{"$f":"'Quarter 1'!B309","v":0},{"$f":"'Quarter 1'!C309","v":0},{"$f":"'Quarter 1'!D309","v":0},{"$f":"'Quarter 1'!E309","v":0}]
[21,"Q1",{"$f":"'Quarter 1'!B310","v":0},{"$f":"'Quarter 1'!C310","v":0},{"$f":"'Quarter 1'!D310","v":0},{"$f":"'Quarter 1'!E310","v":0}]
[22,"Q1",{"$f":"'Quarter 1'!B311","v":0},{"$f":"'Quarter 1'!C311","v":0},{"$f":"'Quarter 1'!D311","v":0},{"$f":"'Quarter 1'!E311","v":0}]
[23,"Q1",{"$f":"'Quarter 1'!B312","v":0},{"$f":"'Quarter 1'!C312","v":0},{"$f":"'Quarter 1'!D312","v":0},{"$f":"'Quarter 1'!E312","v":0}]
[24,"Q1",{"$f":"'Quarter 1'!B313","v":0},{"$f":"'Quarter 1'!C313","v":0},{"$f":"'Quarter 1'!D313","v":0},{"$f":"'Quarter 1'!E313","v":0}]
[25,"Q1",{"$f":"'Quarter 1'!B314","v":0},{"$f":"'Quarter 1'!C314","v":0},{"$f":"'Quarter 1'!D314","v":0},{"$f":"'Quarter 1'!E314","v":0}]
[26,"Q1",{"$f":"'Quarter 1'!B315","v":0},{"$f":"'Quarter 1'!C315","v":0},{"$f":"'Quarter 1'!D315","v":0},{"$f":"'Quarter 1'!E315","v":0}]
[27,"Q1",{"$f":"'Quarter 1'!B316","v":0},{"$f":"'Quarter 1'!C316","v":0},{"$f":"'Quarter 1'!D316","v":0},{"$f":"'Quarter 1'!E316","v":0}]
[28,"Q1",{"$f":"'Quarter 1'!B317","v":0},{"$f":"'Quarter 1'!C317","v":0},{"$f":"'Quarter 1'!D317","v":0},{"$f":"'Quarter 1'!E317","v":0}]
[29,"Q1",{"$f":"'Quarter 1'!B318","v":0},{"$f":"'Quarter 1'!C318","v":0},{"$f":"'Quarter 1'!D318","v":0},{"$f":"'Quarter 1'!E318","v":0}]
[30,"Q1",{"$f":"'Quarter 1'!B319","v":0},{"$f":"'Quarter 1'!C319","v":0},{"$f":"'Quarter 1'!D319","v":0},{"$f":"'Quarter 1'!E319","v":0}]
[31,"Q2",{"$f":"'Quarter 2'!B290","v":0},{"$f":"'Quarter 2'!C290","v":0},{"$f":"'Quarter 2'!D290","v":0},{"$f":"'Quarter 2'!E290","v":0}]
[32,"Q2",{"$f":"'Quarter 2'!B291","v":0},{"$f":"'Quarter 2'!C291","v":0},{"$f":"'Quarter 2'!D291","v":0},{"$f":"'Quarter 2'!E291","v":0}]
[33,"Q2",{"$f":"'Quarter 2'!B292","v":0},{"$f":"'Quarter 2'!C292","v":0},{"$f":"'Quarter 2'!D292","v":0},{"$f":"'Quarter 2'!E292","v":0}]
[34,"Q2",{"$f":"'Quarter 2'!B293","v":0},{"$f":"'Quarter 2'!C293","v":0},{"$f":"'Quarter 2'!D293","v":0},{"$f":"'Quarter 2'!E293","v":0}]
[35,"Q2",{"$f":"'Quarter 2'!B294","v":0},{"$f":"'Quarter 2'!C294","v":0},{"$f":"'Quarter 2'!D294","v":0},{"$f":"'Quarter 2'!E294","v":0}]
[36,"Q2",{"$f":"'Quarter 2'!B295","v":0},{"$f":"'Quarter 2'!C295","v":0},{"$f":"'Quarter 2'!D295","v":0},{"$f":"'Quarter 2'!E295","v":0}]
[37,"Q2",{"$f":"'Quarter 2'!B296","v":0},{"$f":"'Quarter 2'!C296","v":0},{"$f":"'Quarter 2'!D296","v":0},{"$f":"'Quarter 2'!E296","v":0}]
[38,"Q2",{"$f":"'Quarter 2'!B297","v":0},{"$f":"'Quarter 2'!C297","v":0},{"$f":"'Quarter 2'!D297","v":0},{"$f":"'Quarter 2'!E297","v":0}]
[39,"Q2",{"$f":"'Quarter 2'!B298","v":0},{"$f":"'Quarter 2'!C298","v":0},{"$f":"'Quarter 2'!D298","v":0},{"$f":"'Quarter 2'!E298","v":0}]
[40,"Q2",{"$f":"'Quarter 2'!B299","v":0},{"$f":"'Quarter 2'!C299","v":0},{"$f":"'Quarter 2'!D299","v":0},{"$f":"'Quarter 2'!E299","v":0}]
[41,"Q2",{"$f":"'Quarter 2'!B300","v":0},{"$f":"'Quarter 2'!C300","v":0},{"$f":"'Quarter 2'!D300","v":0},{"$f":"'Quarter 2'!E300","v":0}]
[42,"Q2",{"$f":"'Quarter 2'!B301","v":0},{"$f":"'Quarter 2'!C301","v":0},{"$f":"'Quarter 2'!D301","v":0},{"$f":"'Quarter 2'!E301","v":0}]
[43,"Q2",{"$f":"'Quarter 2'!B302","v":0},{"$f":"'Quarter 2'!C302","v":0},{"$f":"'Quarter 2'!D302","v":0},{"$f":"'Quarter 2'!E302","v":0}]
[44,"Q2",{"$f":"'Quarter 2'!B303","v":0},{"$f":"'Quarter 2'!C303","v":0},{"$f":"'Quarter 2'!D303","v":0},{"$f":"'Quarter 2'!E303","v":0}]
[45,"Q2",{"$f":"'Quarter 2'!B304","v":0},{"$f":"'Quarter 2'!C304","v":0},{"$f":"'Quarter 2'!D304","v":0},{"$f":"'Quarter 2'!E304","v":0}]
[46,"Q2",{"$f":"'Quarter 2'!B305","v":0},{"$f":"'Quarter 2'!C305","v":0},{"$f":"'Quarter 2'!D305","v":0},{"$f":"'Quarter 2'!E305","v":0}]
[47,"Q2",{"$f":"'Quarter 2'!B306","v":0},{"$f":"'Quarter 2'!C306","v":0},{"$f":"'Quarter 2'!D306","v":0},{"$f":"'Quarter 2'!E306","v":0}]
[48,"Q2",{"$f":"'Quarter 2'!B307","v":0},{"$f":"'Quarter 2'!C307","v":0},{"$f":"'Quarter 2'!D307","v":0},{"$f":"'Quarter 2'!E307","v":0}]
[49,"Q2",{"$f":"'Quarter 2'!B308","v":0},{"$f":"'Quarter 2'!C308","v":0},{"$f":"'Quarter 2'!D308","v":0},{"$f":"'Quarter 2'!E308","v":0}]
[50,"Q2",{"$f":"'Quarter 2'!B309","v":0},{"$f":"'Quarter 2'!C309","v":0},{"$f":"'Quarter 2'!D309","v":0},{"$f":"'Quarter 2'!E309","v":0}]
[51,"Q2",{"$f":"'Quarter 2'!B310","v":0},{"$f":"'Quarter 2'!C310","v":0},{"$f":"'Quarter 2'!D310","v":0},{"$f":"'Quarter 2'!E310","v":0}]
[52,"Q2",{"$f":"'Quarter 2'!B311","v":0},{"$f":"'Quarter 2'!C311","v":0},{"$f":"'Quarter 2'!D311","v":0},{"$f":"'Quarter 2'!E311","v":0}]
[53,"Q2",{"$f":"'Quarter 2'!B312","v":0},{"$f":"'Quarter 2'!C312","v":0},{"$f":"'Quarter 2'!D312","v":0},{"$f":"'Quarter 2'!E312","v":0}]
[54,"Q2",{"$f":"'Quarter 2'!B313","v":0},{"$f":"'Quarter 2'!C313","v":0},{"$f":"'Quarter 2'!D313","v":0},{"$f":"'Quarter 2'!E313","v":0}]
[55,"Q2",{"$f":"'Quarter 2'!B314","v":0},{"$f":"'Quarter 2'!C314","v":0},{"$f":"'Quarter 2'!D314","v":0},{"$f":"'Quarter 2'!E314","v":0}]
[56,"Q2",{"$f":"'Quarter 2'!B315","v":0},{"$f":"'Quarter 2'!C315","v":0},{"$f":"'Quarter 2'!D315","v":0},{"$f":"'Quarter 2'!E315","v":0}]
[57,"Q2",{"$f":"'Quarter 2'!B316","v":0},{"$f":"'Quarter 2'!C316","v":0},{"$f":"'Quarter 2'!D316","v":0},{"$f":"'Quarter 2'!E316","v":0}]
[58,"Q2",{"$f":"'Quarter 2'!B317","v":0},{"$f":"'Quarter 2'!C317","v":0},{"$f":"'Quarter 2'!D317","v":0},{"$f":"'Quarter 2'!E317","v":0}]
[59,"Q2",{"$f":"'Quarter 2'!B318","v":0},{"$f":"'Quarter 2'!C318","v":0},{"$f":"'Quarter 2'!D318","v":0},{"$f":"'Quarter 2'!E318","v":0}]
[60,"Q2",{"$f":"'Quarter 2'!B319","v":0},{"$f":"'Quarter 2'!C319","v":0},{"$f":"'Quarter 2'!D319","v":0},{"$f":"'Quarter 2'!E319","v":0}]
[61,"Q3",{"$f":"'Quarter 3'!B290","v":0},{"$f":"'Quarter 3'!C290","v":0},{"$f":"'Quarter 3'!D290","v":0},{"$f":"'Quarter 3'!E290","v":0}]
[62,"Q3",{"$f":"'Quarter 3'!B291","v":0},{"$f":"'Quarter 3'!C291","v":0},{"$f":"'Quarter 3'!D291","v":0},{"$f":"'Quarter 3'!E291","v":0}]
[63,"Q3",{"$f":"'Quarter 3'!B292","v":0},{"$f":"'Quarter 3'!C292","v":0},{"$f":"'Quarter 3'!D292","v":0},{"$f":"'Quarter 3'!E292","v":0}]
[64,"Q3",{"$f":"'Quarter 3'!B293","v":0},{"$f":"'Quarter 3'!C293","v":0},{"$f":"'Quarter 3'!D293","v":0},{"$f":"'Quarter 3'!E293","v":0}]
[65,"Q3",{"$f":"'Quarter 3'!B294","v":0},{"$f":"'Quarter 3'!C294","v":0},{"$f":"'Quarter 3'!D294","v":0},{"$f":"'Quarter 3'!E294","v":0}]
[66,"Q3",{"$f":"'Quarter 3'!B295","v":0},{"$f":"'Quarter 3'!C295","v":0},{"$f":"'Quarter 3'!D295","v":0},{"$f":"'Quarter 3'!E295","v":0}]
[67,"Q3",{"$f":"'Quarter 3'!B296","v":0},{"$f":"'Quarter 3'!C296","v":0},{"$f":"'Quarter 3'!D296","v":0},{"$f":"'Quarter 3'!E296","v":0}]
[68,"Q3",{"$f":"'Quarter 3'!B297","v":0},{"$f":"'Quarter 3'!C297","v":0},{"$f":"'Quarter 3'!D297","v":0},{"$f":"'Quarter 3'!E297","v":0}]
[69,"Q3",{"$f":"'Quarter 3'!B298","v":0},{"$f":"'Quarter 3'!C298","v":0},{"$f":"'Quarter 3'!D298","v":0},{"$f":"'Quarter 3'!E298","v":0}]
[70,"Q3",{"$f":"'Quarter 3'!B299","v":0},{"$f":"'Quarter 3'!C299","v":0},{"$f":"'Quarter 3'!D299","v":0},{"$f":"'Quarter 3'!E299","v":0}]
[71,"Q3",{"$f":"'Quarter 3'!B300","v":0},{"$f":"'Quarter 3'!C300","v":0},{"$f":"'Quarter 3'!D300","v":0},{"$f":"'Quarter 3'!E300","v":0}]
[72,"Q3",{"$f":"'Quarter 3'!B301","v":0},{"$f":"'Quarter 3'!C301","v":0},{"$f":"'Quarter 3'!D301","v":0},{"$f":"'Quarter 3'!E301","v":0}]
[73,"Q3",{"$f":"'Quarter 3'!B302","v":0},{"$f":"'Quarter 3'!C302","v":0},{"$f":"'Quarter 3'!D302","v":0},{"$f":"'Quarter 3'!E302","v":0}]
[74,"Q3",{"$f":"'Quarter 3'!B303","v":0},{"$f":"'Quarter 3'!C303","v":0},{"$f":"'Quarter 3'!D303","v":0},{"$f":"'Quarter 3'!E303","v":0}]
[75,"Q3",{"$f":"'Quarter 3'!B304","v":0},{"$f":"'Quarter 3'!C304","v":0},{"$f":"'Quarter 3'!D304","v":0},{"$f":"'Quarter 3'!E304","v":0}]
[76,"Q3",{"$f":"'Quarter 3'!B305","v":0},{"$f":"'Quarter 3'!C305","v":0},{"$f":"'Quarter 3'!D305","v":0},{"$f":"'Quarter 3'!E305","v":0}]
[77,"Q3",{"$f":"'Quarter 3'!B306","v":0},{"$f":"'Quarter 3'!C306","v":0},{"$f":"'Quarter 3'!D306","v":0},{"$f":"'Quarter 3'!E306","v":0}]
[78,"Q3",{"$f":"'Quarter 3'!B307","v":0},{"$f":"'Quarter 3'!C307","v":0},{"$f":"'Quarter 3'!D307","v":0},{"$f":"'Quarter 3'!E307","v":0}]
[79,"Q3",{"$f":"'Quarter 3'!B308","v":0},{"$f":"'Quarter 3'!C308","v":0},{"$f":"'Quarter 3'!D308","v":0},{"$f":"'Quarter 3'!E308","v":0}]
[80,"Q3",{"$f":"'Quarter 3'!B309","v":0},{"$f":"'Quarter 3'!C309","v":0},{"$f":"'Quarter 3'!D309","v":0},{"$f":"'Quarter 3'!E309","v":0}]
[81,"Q3",{"$f":"'Quarter 3'!B310","v":0},{"$f":"'Quarter 3'!C310","v":0},{"$f":"'Quarter 3'!D310","v":0},{"$f":"'Quarter 3'!E310","v":0}]
[82,"Q3",{"$f":"'Quarter 3'!B311","v":0},{"$f":"'Quarter 3'!C311","v":0},{"$f":"'Quarter 3'!D311","v":0},{"$f":"'Quarter 3'!E311","v":0}]
[83,"Q3",{"$f":"'Quarter 3'!B312","v":0},{"$f":"'Quarter 3'!C312","v":0},{"$f":"'Quarter 3'!D312","v":0},{"$f":"'Quarter 3'!E312","v":0}]
[84,"Q3",{"$f":"'Quarter 3'!B313","v":0},{"$f":"'Quarter 3'!C313","v":0},{"$f":"'Quarter 3'!D313","v":0},{"$f":"'Quarter 3'!E313","v":0}]
[85,"Q3",{"$f":"'Quarter 3'!B314","v":0},{"$f":"'Quarter 3'!C314","v":0},{"$f":"'Quarter 3'!D314","v":0},{"$f":"'Quarter 3'!E314","v":0}]
[86,"Q3",{"$f":"'Quarter 3'!B315","v":0},{"$f":"'Quarter 3'!C315","v":0},{"$f":"'Quarter 3'!D315","v":0},{"$f":"'Quarter 3'!E315","v":0}]
[87,"Q3",{"$f":"'Quarter 3'!B316","v":0},{"$f":"'Quarter 3'!C316","v":0},{"$f":"'Quarter 3'!D316","v":0},{"$f":"'Quarter 3'!E316","v":0}]
[88,"Q3",{"$f":"'Quarter 3'!B317","v":0},{"$f":"'Quarter 3'!C317","v":0},{"$f":"'Quarter 3'!D317","v":0},{"$f":"'Quarter 3'!E317","v":0}]
[89,"Q3",{"$f":"'Quarter 3'!B318","v":0},{"$f":"'Quarter 3'!C318","v":0},{"$f":"'Quarter 3'!D318","v":0},{"$f":"'Quarter 3'!E318","v":0}]
[90,"Q3",{"$f":"'Quarter 3'!B319","v":0},{"$f":"'Quarter 3'!C319","v":0},{"$f":"'Quarter 3'!D319","v":0},{"$f":"'Quarter 3'!E319","v":0}]
[91,"Q4",{"$f":"'Quarter 4'!B290","v":0},{"$f":"'Quarter 4'!C290","v":0},{"$f":"'Quarter 4'!D290","v":0},{"$f":"'Quarter 4'!E290","v":0}]
[92,"Q4",{"$f":"'Quarter 4'!B291","v":0},{"$f":"'Quarter 4'!C291","v":0},{"$f":"'Quarter 4'!D291","v":0},{"$f":"'Quarter 4'!E291","v":0}]
[93,"Q4",{"$f":"'Quarter 4'!B292","v":0},{"$f":"'Quarter 4'!C292","v":0},{"$f":"'Quarter 4'!D292","v":0},{"$f":"'Quarter 4'!E292","v":0}]
[94,"Q4",{"$f":"'Quarter 4'!B293","v":0},{"$f":"'Quarter 4'!C293","v":0},{"$f":"'Quarter 4'!D293","v":0},{"$f":"'Quarter 4'!E293","v":0}]
[95,"Q4",{"$f":"'Quarter 4'!B294","v":0},{"$f":"'Quarter 4'!C294","v":0},{"$f":"'Quarter 4'!D294","v":0},{"$f":"'Quarter 4'!E294","v":0}]
[96,"Q4",{"$f":"'Quarter 4'!B295","v":0},{"$f":"'Quarter 4'!C295","v":0},{"$f":"'Quarter 4'!D295","v":0},{"$f":"'Quarter 4'!E295","v":0}]
[97,"Q4",{"$f":"'Quarter 4'!B296","v":0},{"$f":"'Quarter 4'!C296","v":0},{"$f":"'Quarter 4'!D296","v":0},{"$f":"'Quarter 4'!E296","v":0}]
[98,"Q4",{"$f":"'Quarter 4'!B297","v":0},{"$f":"'Quarter 4'!C297","v":0},{"$f":"'Quarter 4'!D297","v":0},{"$f":"'Quarter 4'!E297","v":0}]
[99,"Q4",{"$f":"'Quarter 4'!B298","v":0},{"$f":"'Quarter 4'!C298","v":0},{"$f":"'Quarter 4'!D298","v":0},{"$f":"'Quarter 4'!E298","v":0}]
[100,"Q4",{"$f":"'Quarter 4'!B299","v":0},{"$f":"'Quarter 4'!C299","v":0},{"$f":"'Quarter 4'!D299","v":0},{"$f":"'Quarter 4'!E299","v":0}]
[101,"Q4",{"$f":"'Quarter 4'!B300","v":0},{"$f":"'Quarter 4'!C300","v":0},{"$f":"'Quarter 4'!D300","v":0},{"$f":"'Quarter 4'!E300","v":0}]
[102,"Q4",{"$f":"'Quarter 4'!B301","v":0},{"$f":"'Quarter 4'!C301","v":0},{"$f":"'Quarter 4'!D301","v":0},{"$f":"'Quarter 4'!E301","v":0}]
[103,"Q4",{"$f":"'Quarter 4'!B302","v":0},{"$f":"'Quarter 4'!C302","v":0},{"$f":"'Quarter 4'!D302","v":0},{"$f":"'Quarter 4'!E302","v":0}]
[104,"Q4",{"$f":"'Quarter 4'!B303","v":0},{"$f":"'Quarter 4'!C303","v":0},{"$f":"'Quarter 4'!D303","v":0},{"$f":"'Quarter 4'!E303","v":0}]
[105,"Q4",{"$f":"'Quarter 4'!B304","v":0},{"$f":"'Quarter 4'!C304","v":0},{"$f":"'Quarter 4'!D304","v":0},{"$f":"'Quarter 4'!E304","v":0}]
[106,"Q4",{"$f":"'Quarter 4'!B305","v":0},{"$f":"'Quarter 4'!C305","v":0},{"$f":"'Quarter 4'!D305","v":0},{"$f":"'Quarter 4'!E305","v":0}]
[107,"Q4",{"$f":"'Quarter 4'!B306","v":0},{"$f":"'Quarter 4'!C306","v":0},{"$f":"'Quarter 4'!D306","v":0},{"$f":"'Quarter 4'!E306","v":0}]
[108,"Q4",{"$f":"'Quarter 4'!B307","v":0},{"$f":"'Quarter 4'!C307","v":0},{"$f":"'Quarter 4'!D307","v":0},{"$f":"'Quarter 4'!E307","v":0}]
[109,"Q4",{"$f":"'Quarter 4'!B308","v":0},{"$f":"'Quarter 4'!C308","v":0},{"$f":"'Quarter 4'!D308","v":0},{"$f":"'Quarter 4'!E308","v":0}]
[110,"Q4",{"$f":"'Quarter 4'!B309","v":0},{"$f":"'Quarter 4'!C309","v":0},{"$f":"'Quarter 4'!D309","v":0},{"$f":"'Quarter 4'!E309","v":0}]
[111,"Q4",{"$f":"'Quarter 4'!B310","v":0},{"$f":"'Quarter 4'!C310","v":0},{"$f":"'Quarter 4'!D310","v":0},{"$f":"'Quarter 4'!E310","v":0}]
[112,"Q4",{"$f":"'Quarter 4'!B311","v":0},{"$f":"'Quarter 4'!C311","v":0},{"$f":"'Quarter 4'!D311","v":0},{"$f":"'Quarter 4'!E311","v":0}]
[113,"Q4",{"$f":"'Quarter 4'!B312","v":0},{"$f":"'Quarter 4'!C312","v":0},{"$f":"'Quarter 4'!D312","v":0},{"$f":"'Quarter 4'!E312","v":0}]
[114,"Q4",{"$f":"'Quarter 4'!B313","v":0},{"$f":"'Quarter 4'!C313","v":0},{"$f":"'Quarter 4'!D313","v":0},{"$f":"'Quarter 4'!E313","v":0}]
[115,"Q4",{"$f":"'Quarter 4'!B314","v":0},{"$f":"'Quarter 4'!C314","v":0},{"$f":"'Quarter 4'!D314","v":0},{"$f":"'Quarter 4'!E314","v":0}]
[116,"Q4",{"$f":"'Quarter 4'!B315","v":0},{"$f":"'Quarter 4'!C315","v":0},{"$f":"'Quarter 4'!D315","v":0},{"$f":"'Quarter 4'!E315","v":0}]
[117,"Q4",{"$f":"'Quarter 4'!B316","v":0},{"$f":"'Quarter 4'!C316","v":0},{"$f":"'Quarter 4'!D316","v":0},{"$f":"'Quarter 4'!E316","v":0}]
[118,"Q4",{"$f":"'Quarter 4'!B317","v":0},{"$f":"'Quarter 4'!C317","v":0},{"$f":"'Quarter 4'!D317","v":0},{"$f":"'Quarter 4'!E317","v":0}]
[119,"Q4",{"$f":"'Quarter 4'!B318","v":0},{"$f":"'Quarter 4'!C318","v":0},{"$f":"'Quarter 4'!D318","v":0},{"$f":"'Quarter 4'!E318","v":0}]
[120,"Q4",{"$f":"'Quarter 4'!B319","v":0},{"$f":"'Quarter 4'!C319","v":0},{"$f":"'Quarter 4'!D319","v":0},{"$f":"'Quarter 4'!E319","v":0}]
[null,null,null,null,"Total:",{"$f":"SUM(F1002:F1121)","v":0}]
[]
[]
[]
[]
[]
[]
["Watershed Projects/Proposals (WPP)",null,null,null,"Approximate Time Commitment:",null,{"$f":"('Quarter 1'!F326+'Quarter 2'!F326+'Quarter 3'!F326+'Quarter 4'!F326)/4","v":0},"%"]
[]
["Grants applied for during this quarter:"]
["J","Quarter","Grant Source","Project Name","Grant Amount Requested"]
[1,"Q1",{"$f":"'Quarter 1'!B330","v":0},{"$f":"'Quarter 1'!C330","v":0},{"$f":"'Quarter 1'!D330","v":0}]
[2,"Q1",{"$f":"'Quarter 1'!B331","v":0},{"$f":"'Quarter 1'!C331","v":0},{"$f":"'Quarter 1'!D331","v":0}]
[3,"Q1",{"$f":"'Quarter 1'!B332","v":0},{"$f":"'Quarter 1'!C332","v":0},{"$f":"'Quarter 1'!D332","v":0}]
[4,"Q1",{"$f":"'Quarter 1'!B333","v":0},{"$f":"'Quarter 1'!C333","v":0},{"$f":"'Quarter 1'!D333","v":0}]
[5,"Q1",{"$f":"'Quarter 1'!B334","v":0},{"$f":"'Quarter 1'!C334","v":0},{"$f":"'Quarter 1'!D334","v":0}]
[6,"Q1",{"$f":"'Quarter 1'!B335","v":0},{"$f":"'Quarter 1'!C335","v":0},{"$f":"'Quarter 1'!D335","v":0}]
[7,"Q1",{"$f":"'Quarter 1'!B336","v":0},{"$f":"'Quarter 1'!C336","v":0},{"$f":"'Quarter 1'!D336","v":0}]
[8,"Q1",{"$f":"'Quarter 1'!B337","v":0},{"$f":"'Quarter 1'!C337","v":0},{"$f":"'Quarter 1'!D337","v":0}]
[9,"Q1",{"$f":"'Quarter 1'!B338","v":0},{"$f":"'Quarter 1'!C338","v":0},{"$f":"'Quarter 1'!D338","v":0}]
[10,"Q1",{"$f":"'Quarter 1'!B339","v":0},{"$f":"'Quarter 1'!C339","v":0},{"$f":"'Quarter 1'!D339","v":0}]
[11,"Q1",{"$f":"'Quarter 1'!B340","v":0},{"$f":"'Quarter 1'!C340","v":0},{"$f":"'Quarter 1'!D340","v":0}]
[12,"Q1",{"$f":"'Quarter 1'!B341","v":0},{"$f":"'Quarter 1'!C341","v":0},{"$f":"'Quarter 1'!D341","v":0}]
[13,"Q1",{"$f":"'Quarter 1'!B342","v":0},{"$f":"'Quarter 1'!C342","v":0},{"$f":"'Quarter 1'!D342","v":0}]
[14,"Q1",{"$f":"'Quarter 1'!B343","v":0},{"$f":"'Quarter 1'!C343","v":0},{"$f":"'Quarter 1'!D343","v":0}]
[15,"Q1",{"$f":"'Quarter 1'!B344","v":0},{"$f":"'Quarter 1'!C344","v":0},{"$f":"'Quarter 1'!D344","v":0}]
[16,"Q1",{"$f":"'Quarter 1'!B345","v":0},{"$f":"'Quarter 1'!C345","v":0},{"$f":"'Quarter 1'!D345","v":0}]
[17,"Q1",{"$f":"'Quarter 1'!B346","v":0},{"$f":"'Quarter 1'!C346","v":0},{"$f":"'Quarter 1'!D346","v":0}]
[18,"Q1",{"$f":"'Quarter 1'!B347","v":0},{"$f":"'Quarter 1'!C347","v":0},{"$f":"'Quarter 1'!D347","v":0}]
[19,"Q1",{"$f":"'Quarter 1'!B348","v":0},{"$f":"'Quarter 1'!C348","v":0},{"$f":"'Quarter 1'!D348","v":0}]
[20,"Q1",{"$f":"'Quarter 1'!B349","v":0},{"$f":"'Quarter 1'!C349","v":0},{"$f":"'Quarter 1'!D349","v":0}]
[21,"Q1",{"$f":"'Quarter 1'!B350","v":0},{"$f":"'Quarter 1'!C350","v":0},{"$f":"'Quarter 1'!D350","v":0}]
[22,"Q1",{"$f":"'Quarter 1'!B351","v":0},{"$f":"'Quarter 1'!C351","v":0},{"$f":"'Quarter 1'!D351","v":0}]
[23,"Q1",{"$f":"'Quarter 1'!B352","v":0},{"$f":"'Quarter 1'!C352","v":0},{"$f":"'Quarter 1'!D352","v":0}]
[24,"Q1",{"$f":"'Quarter 1'!B353","v":0},{"$f":"'Quarter 1'!C353","v":0},{"$f":"'Quarter 1'!D353","v":0}]
[25,"Q1",{"$f":"'Quarter 1'!B354","v":0},{"$f":"'Quarter 1'!C354","v":0},{"$f":"'Quarter 1'!D354","v":0}]
[26,"Q1",{"$f":"'Quarter 1'!B355","v":0},{"$f":"'Quarter 1'!C355","v":0},{"$f":"'Quarter 1'!D355","v":0}]
[27,"Q1",{"$f":"'Quarter 1'!B356","v":0},{"$f":"'Quarter 1'!C356","v":0},{"$f":"'Quarter 1'!D356","v":0}]
[28,"Q1",{"$f":"'Quarter 1'!B357","v":0},{"$f":"'Quarter 1'!C357","v":0},{"$f":"'Quarter 1'!D357","v":0}]
[29,"Q1",{"$f":"'Quarter 1'!B358","v":0},{"$f":"'Quarter 1'!C358","v":0},{"$f":"'Quarter 1'!D358","v":0}]
[30,"Q1",{"$f":"'Quarter 1'!B359","v":0},{"$f":"'Quarter 1'!C359","v":0},{"$f":"'Quarter 1'!D359","v":0}]
[31,"Q2",{"$f":"'Quarter 2'!B330","v":0},{"$f":"'Quarter 2'!C330","v":0},{"$f":"'Quarter 2'!D330","v":0}]
[32,"Q2",{"$f":"'Quarter 2'!B331","v":0},{"$f":"'Quarter 2'!C331","v":0},{"$f":"'Quarter 2'!D331","v":0}]
[33,"Q2",{"$f":"'Quarter 2'!B332","v":0},{"$f":"'Quarter 2'!C332","v":0},{"$f":"'Quarter 2'!D332","v":0}]
[34,"Q2",{"$f":"'Quarter 2'!B333","v":0},{"$f":"'Quarter 2'!C333","v":0},{"$f":"'Quarter 2'!D333","v":0}]
[35,"Q2",{"$f":"'Quarter 2'!B334","v":0},{"$f":"'Quarter 2'!C334","v":0},{"$f":"'Quarter 2'!D334","v":0}]
[36,"Q2",{"$f":"'Quarter 2'!B335","v":0},{"$f":"'Quarter 2'!C335","v":0},{"$f":"'Quarter 2'!D335","v":0}]
[37,"Q2",{"$f":"'Quarter 2'!B336","v":0},{"$f":"'Quarter 2'!C336","v":0},{"$f":"'Quarter 2'!D336","v":0}]
[38,"Q2",{"$f":"'Quarter 2'!B337","v":0},{"$f":"'Quarter 2'!C337","v":0},{"$f":"'Quarter 2'!D337","v":0}]
[39,"Q2",{"$f":"'Quarter 2'!B338","v":0},{"$f":"'Quarter 2'!C338","v":0},{"$f":"'Quarter 2'!D338","v":0}]
[40,"Q2",{"$f":"'Quarter 2'!B339","v":0},{"$f":"'Quarter 2'!C339","v":0},{"$f":"'Quarter 2'!D339","v":0}]
[41,"Q2",{"$f":"'Quarter 2'!B340","v":0},{"$f":"'Quarter 2'!C340","v":0},{"$f":"'Quarter 2'!D340","v":0}]
[42,"Q2",{"$f":"'Quarter 2'!B341","v":0},{"$f":"'Quarter 2'!C341","v":0},{"$f":"'Quarter 2'!D341","v":0}]
[43,"Q2",{"$f":"'Quarter 2'!B342","v":0},{"$f":"'Quarter 2'!C342","v":0},{"$f":"'Quarter 2'!D342","v":0}]
[44,"Q2",{"$f":"'Quarter 2'!B343","v":0},{"$f":"'Quarter 2'!C343","v":0},{"$f":"'Quarter 2'!D343","v":0}]
[45,"Q2",{"$f":"'Quarter 2'!B344","v":0},{"$f":"'Quarter 2'!C344","v":0},{"$f":"'Quarter 2'!D344","v":0}]
[46,"Q2",{"$f":"'Quarter 2'!B345","v":0},{"$f":"'Quarter 2'!C345","v":0},{"$f":"'Quarter 2'!D345","v":0}]
[47,"Q2",{"$f":"'Quarter 2'!B346","v":0},{"$f":"'Quarter 2'!C346","v":0},{"$f":"'Quarter 2'!D346","v":0}]
[48,"Q2",{"$f":"'Quarter 2'!B347","v":0},{"$f":"'Quarter 2'!C347","v":0},{"$f":"'Quarter 2'!D347","v":0}]
[49,"Q2",{"$f":"'Quarter 2'!B348","v":0},{"$f":"'Quarter 2'!C348","v":0},{"$f":"'Quarter 2'!D348","v":0}]
[50,"Q2",{"$f":"'Quarter 2'!B349","v":0},{"$f":"'Quarter 2'!C349","v":0},{"$f":"'Quarter 2'!D349","v":0}]
[51,"Q2",{"$f":"'Quarter 2'!B350","v":0},{"$f":"'Quarter 2'!C350","v":0},{"$f":"'Quarter 2'!D350","v":0}]
[52,"Q2",{"$f":"'Quarter 2'!B351","v":0},{"$f":"'Quarter 2'!C351","v":0},{"$f":"'Quarter 2'!D351","v":0}]
[53,"Q2",{"$f":"'Quarter 2'!B352","v":0},{"$f":"'Quarter 2'!C352","v":0},{"$f":"'Quarter 2'!D352","v":0}]
[54,"Q2",{"$f":"'Quarter 2'!B353","v":0},{"$f":"'Quarter 2'!C353","v":0},{"$f":"'Quarter 2'!D353","v":0}]
[55,"Q2",{"$f":"'Quarter 2'!B354","v":0},{"$f":"'Quarter 2'!C354","v":0},{"$f":"'Quarter 2'!D354","v":0}]
[56,"Q2",{"$f":"'Quarter 2'!B355","v":0},{"$f":"'Quarter 2'!C355","v":0},{"$f":"'Quarter 2'!D355","v":0}]
[57,"Q2",{"$f":"'Quarter 2'!B356","v":0},{"$f":"'Quarter 2'!C356","v":0},{"$f":"'Quarter 2'!D356","v":0}]
[58,"Q2",{"$f":"'Quarter 2'!B357","v":0},{"$f":"'Quarter 2'!C357","v":0},{"$f":"'Quarter 2'!D357","v":0}]
[59,"Q2",{"$f":"'Quarter 2'!B358","v":0},{"$f":"'Quarter 2'!C358","v":0},{"$f":"'Quarter 2'!D358","v":0}]
[60,"Q2",{"$f":"'Quarter 2'!B359","v":0},{"$f":"'Quarter 2'!C359","v":0},{"$f":"'Quarter 2'!D359","v":0}]
[61,"Q3",{"$f":"'Quarter 3'!B330","v":0},{"$f":"'Quarter 3'!C330","v":0},{"$f":"'Quarter 3'!D330","v":0}]
[62,"Q3",{"$f":"'Quarter 3'!B331","v":0},{"$f":"'Quarter 3'!C331","v":0},{"$f":"'Quarter 3'!D331","v":0}]
[63,"Q3",{"$f":"'Quarter 3'!B332","v":0},{"$f":"'Quarter 3'!C332","v":0},{"$f":"'Quarter 3'!D332","v":0}]
[64,"Q3",{"$f":"'Quarter 3'!B333","v":0},{"$f":"'Quarter 3'!C333","v":0},{"$f":"'Quarter 3'!D333","v":0}]
[65,"Q3",{"$f":"'Quarter 3'!B334","v":0},{"$f":"'Quarter 3'!C334","v":0},{"$f":"'Quarter 3'!D334","v":0}]
[66,"Q3",{"$f":"'Quarter 3'!B335","v":0},{"$f":"'Quarter 3'!C335","v":0},{"$f":"'Quarter 3'!D335","v":0}]
[67,"Q3",{"$f":"'Quarter 3'!B336","v":0},{"$f":"'Quarter 3'!C336","v":0},{"$f":"'Quarter 3'!D336","v":0}]
[68,"Q3",{"$f":"'Quarter 3'!B337","v":0},{"$f":"'Quarter 3'!C337","v":0},{"$f":"'Quarter 3'!D337","v":0}]
[69,"Q3",{"$f":"'Quarter 3'!B338","v":0},{"$f":"'Quarter 3'!C338","v":0},{"$f":"'Quarter 3'!D338","v":0}]
[70,"Q3",{"$f":"'Quarter 3'!B339","v":0},{"$f":"'Quarter 3'!C339","v":0},{"$f":"'Quarter 3'!D339","v":0}]
[71,"Q3",{"$f":"'Quarter 3'!B340","v":0},{"$f":"'Quarter 3'!C340","v":0},{"$f":"'Quarter 3'!D340","v":0}]
[72,"Q3",{"$f":"'Quarter 3'!B341","v":0},{"$f":"'Quarter 3'!C341","v":0},{"$f":"'Quarter 3'!D341","v":0}]
[73,"Q3",{"$f":"'Quarter 3'!B342","v":0},{"$f":"'Quarter 3'!C342","v":0},{"$f":"'Quarter 3'!D342","v":0}]
[74,"Q3",{"$f":"'Quarter 3'!B343","v":0},{"$f":"'Quarter 3'!C343","v":0},{"$f":"'Quarter 3'!D343","v":0}]
[75,"Q3",{"$f":"'Quarter 3'!B344","v":0},{"$f":"'Quarter 3'!C344","v":0},{"$f":"'Quarter 3'!D344","v":0}]
[76,"Q3",{"$f":"'Quarter 3'!B345","v":0},{"$f":"'Quarter 3'!C345","v":0},{"$f":"'Quarter 3'!D345","v":0}]
[77,"Q3",{"$f":"'Quarter 3'!B346","v":0},{"$f":"'Quarter 3'!C346","v":0},{"$f":"'Quarter 3'!D346","v":0}]
[78,"Q3",{"$f":"'Quarter 3'!B347","v":0},{"$f":"'Quarter 3'!C347","v":0},{"$f":"'Quarter 3'!D347","v":0}]
[79,"Q3",{"$f":"'Quarter 3'!B348","v":0},{"$f":"'Quarter 3'!C348","v":0},{"$f":"'Quarter 3'!D348","v":0}]
[80,"Q3",{"$f":"'Quarter 3'!B349","v":0},{"$f":"'Quarter 3'!C349","v":0},{"$f":"'Quarter 3'!D349","v":0}]
[81,"Q3",{"$f":"'Quarter 3'!B350","v":0},{"$f":"'Quarter 3'!C350","v":0},{"$f":"'Quarter 3'!D350","v":0}]
[82,"Q3",{"$f":"'Quarter 3'!B351","v":0},{"$f":"'Quarter 3'!C351","v":0},{"$f":"'Quarter 3'!D351","v":0}]
[83,"Q3",{"$f":"'Quarter 3'!B352","v":0},{"$f":"'Quarter 3'!C352","v":0},{"$f":"'Quarter 3'!D352","v":0}]
[84,"Q3",{"$f":"'Quarter 3'!B353","v":0},{"$f":"'Quarter 3'!C353","v":0},{"$f":"'Quarter 3'!D353","v":0}]
[85,"Q3",{"$f":"'Quarter 3'!B354","v":0},{"$f":"'Quarter 3'!C354","v":0},{"$f":"'Quarter 3'!D354","v":0}]
[86,"Q3",{"$f":"'Quarter 3'!B355","v":0},{"$f":"'Quarter 3'!C355","v":0},{"$f":"'Quarter 3'!D355","v":0}]
[87,"Q3",{"$f":"'Quarter 3'!B356","v":0},{"$f":"'Quarter 3'!C356","v":0},{"$f":"'Quarter 3'!D356","v":0}]
[88,"Q3",{"$f":"'Quarter 3'!B357","v":0},{"$f":"'Quarter 3'!C357","v":0},{"$f":"'Quarter 3'!D357","v":0}]
[89,"Q3",{"$f":"'Quarter 3'!B358","v":0},{"$f":"'Quarter 3'!C358","v":0},{"$f":"'Quarter 3'!D358","v":0}]
[90,"Q3",{"$f":"'Quarter 3'!B359","v":0},{"$f":"'Quarter 3'!C359","v":0},{"$f":"'Quarter 3'!D359","v":0}]
[91,"Q4",{"$f":"'Quarter 4'!B330","v":0},{"$f":"'Quarter 4'!C330","v":0},{"$f":"'Quarter 4'!D330","v":0}]
[92,"Q4",{"$f":"'Quarter 4'!B331","v":0},{"$f":"'Quarter 4'!C331","v":0},{"$f":"'Quarter 4'!D331","v":0}]
[93,"Q4",{"$f":"'Quarter 4'!B332","v":0},{"$f":"'Quarter 4'!C332","v":0},{"$f":"'Quarter 4'!D332","v":0}]
[94,"Q4",{"$f":"'Quarter 4'!B333","v":0},{"$f":"'Quarter 4'!C333","v":0},{"$f":"'Quarter 4'!D333","v":0}]
[95,"Q4",{"$f":"'Quarter 4'!B334","v":0},{"$f":"'Quarter 4'!C334","v":0},{"$f":"'Quarter 4'!D334","v":0}]
[96,"Q4",{"$f":"'Quarter 4'!B335","v":0},{"$f":"'Quarter 4'!C335","v":0},{"$f":"'Quarter 4'!D335","v":0}]
[97,"Q4",{"$f":"'Quarter 4'!B336","v":0},{"$f":"'Quarter 4'!C336","v":0},{"$f":"'Quarter 4'!D336","v":0}]
[98,"Q4",{"$f":"'Quarter 4'!B337","v":0},{"$f":"'Quarter 4'!C337","v":0},{"$f":"'Quarter 4'!D337","v":0}]
[99,"Q4",{"$f":"'Quarter 4'!B338","v":0},{"$f":"'Quarter 4'!C338","v":0},{"$f":"'Quarter 4'!D338","v":0}]
[100,"Q4",{"$f":"'Quarter 4'!B339","v":0},{"$f":"'Quarter 4'!C339","v":0},{"$f":"'Quarter 4'!D339","v":0}]
[101,"Q4",{"$f":"'Quarter 4'!B340","v":0},{"$f":"'Quarter 4'!C340","v":0},{"$f":"'Quarter 4'!D340","v":0}]
[102,"Q4",{"$f":"'Quarter 4'!B341","v":0},{"$f":"'Quarter 4'!C341","v":0},{"$f":"'Quarter 4'!D341","v":0}]
[103,"Q4",{"$f":"'Quarter 4'!B342","v":0},{"$f":"'Quarter 4'!C342","v":0},{"$f":"'Quarter 4'!D342","v":0}]
[104,"Q4",{"$f":"'Quarter 4'!B343","v":0},{"$f":"'Quarter 4'!C343","v":0},{"$f":"'Quarter 4'!D343","v":0}]
[105,"Q4",{"$f":"'Quarter 4'!B344","v":0},{"$f":"'Quarter 4'!C344","v":0},{"$f":"'Quarter 4'!D344","v":0}]
[106,"Q4",{"$f":"'Quarter 4'!B345","v":0},{"$f":"'Quarter 4'!C345","v":0},{"$f":"'Quarter 4'!D345","v":0}]
[107,"Q4",{"$f":"'Quarter 4'!B346","v":0},{"$f":"'Quarter 4'!C346","v":0},{"$f":"'Quarter 4'!D346","v":0}]
[108,"Q4",{"$f":"'Quarter 4'!B347","v":0},{"$f":"'Quarter 4'!C347","v":0},{"$f":"'Quarter 4'!D347","v":0}]
[109,"Q4",{"$f":"'Quarter 4'!B348","v":0},{"$f":"'Quarter 4'!C348","v":0},{"$f":"'Quarter 4'!D348","v":0}]
[110,"Q4",{"$f":"'Quarter 4'!B349","v":0},{"$f":"'Quarter 4'!C349","v":0},{"$f":"'Quarter 4'!D349","v":0}]
[111,"Q4",{"$f":"'Quarter 4'!B350","v":0},{"$f":"'Quarter 4'!C350","v":0},{"$f":"'Quarter 4'!D350","v":0}]
[112,"Q4",{"$f":"'Quarter 4'!B351","v":0},{"$f":"'Quarter 4'!C351","v":0},{"$f":"'Quarter 4'!D351","v":0}]
[113,"Q4",{"$f":"'Quarter 4'!B352","v":0},{"$f":"'Quarter 4'!C352","v":0},{"$f":"'Quarter 4'!D352","v":0}]
[114,"Q4",{"$f":"'Quarter 4'!B353","v":0},{"$f":"'Quarter 4'!C353","v":0},{"$f":"'Quarter 4'!D353","v":0}]
[115,"Q4",{"$f":"'Quarter 4'!B354","v":0},{"$f":"'Quarter 4'!C354","v":0},{"$f":"'Quarter 4'!D354","v":0}]
[116,"Q4",{"$f":"'Quarter 4'!B355","v":0},{"$f":"'Quarter 4'!C355","v":0},{"$f":"'Quarter 4'!D355","v":0}]
[117,"Q4",{"$f":"'Quarter 4'!B356","v":0},{"$f":"'Quarter 4'!C356","v":0},{"$f":"'Quarter 4'!D356","v":0}]
[118,"Q4",{"$f":"'Quarter 4'!B357","v":0},{"$f":"'Quarter 4'!C357","v":0},{"$f":"'Quarter 4'!D357","v":0}]
[119,"Q4",{"$f":"'Quarter 4'!B358","v":0},{"$f":"'Quarter 4'!C358","v":0},{"$f":"'Quarter 4'!D358","v":0}]
[120,"Q4",{"$f":"'Quarter 4'!B359","v":0},{"$f":"'Quarter 4'!C359","v":0},{"$f":"'Quarter 4'!D359","v":0}]
[null,null,null,"TOTAL:",{"$f":"SUM(E1133:E1252)","v":0}]
[]
["Grants awarded during this quarter:"]
["K","Quarter","Grant Source","Project Name","Grant Amount Awarded"]
[1,"Q1",{"$f":"'Quarter 1'!B365","v":0},{"$f":"'Quarter 1'!C365","v":0},{"$f":"'Quarter 1'!D365","v":0}]
[2,"Q1",{"$f":"'Quarter 1'!B366","v":0},{"$f":"'Quarter 1'!C366","v":0},{"$f":"'Quarter 1'!D366","v":0}]
[3,"Q1",{"$f":"'Quarter 1'!B367","v":0},{"$f":"'Quarter 1'!C367","v":0},{"$f":"'Quarter 1'!D367","v":0}]
[4,"Q1",{"$f":"'Quarter 1'!B368","v":0},{"$f":"'Quarter 1'!C368","v":0},{"$f":"'Quarter 1'!D368","v":0}]
[5,"Q1",{"$f":"'Quarter 1'!B369","v":0},{"$f":"'Quarter 1'!C369","v":0},{"$f":"'Quarter 1'!D369","v":0}]
[6,"Q1",{"$f":"'Quarter 1'!B370","v":0},{"$f":"'Quarter 1'!C370","v":0},{"$f":"'Quarter 1'!D370","v":0}]
[7,"Q1",{"$f":"'Quarter 1'!B371","v":0},{"$f":"'Quarter 1'!C371","v":0},{"$f":"'Quarter 1'!D371","v":0}]
[8,"Q1",{"$f":"'Quarter 1'!B372","v":0},{"$f":"'Quarter 1'!C372","v":0},{"$f":"'Quarter 1'!D372","v":0}]
[9,"Q1",{"$f":"'Quarter 1'!B373","v":0},{"$f":"'Quarter 1'!C373","v":0},{"$f":"'Quarter 1'!D373","v":0}]
[10,"Q1",{"$f":"'Quarter 1'!B374","v":0},{"$f":"'Quarter 1'!C374","v":0},{"$f":"'Quarter 1'!D374","v":0}]
[11,"Q1",{"$f":"'Quarter 1'!B375","v":0},{"$f":"'Quarter 1'!C375","v":0},{"$f":"'Quarter 1'!D375","v":0}]
[12,"Q1",{"$f":"'Quarter 1'!B376","v":0},{"$f":"'Quarter 1'!C376","v":0},{"$f":"'Quarter 1'!D376","v":0}]
[13,"Q1",{"$f":"'Quarter 1'!B377","v":0},{"$f":"'Quarter 1'!C377","v":0},{"$f":"'Quarter 1'!D377","v":0}]
[14,"Q1",{"$f":"'Quarter 1'!B378","v":0},{"$f":"'Quarter 1'!C378","v":0},{"$f":"'Quarter 1'!D378","v":0}]
[15,"Q1",{"$f":"'Quarter 1'!B379","v":0},{"$f":"'Quarter 1'!C379","v":0},{"$f":"'Quarter 1'!D379","v":0}]
[16,"Q1",{"$f":"'Quarter 1'!B380","v":0},{"$f":"'Quarter 1'!C380","v":0},{"$f":"'Quarter 1'!D380","v":0}]
[17,"Q1",{"$f":"'Quarter 1'!B381","v":0},{"$f":"'Quarter 1'!C381","v":0},{"$f":"'Quarter 1'!D381","v":0}]
[18,"Q1",{"$f":"'Quarter 1'!B382","v":0},{"$f":"'Quarter 1'!C382","v":0},{"$f":"'Quarter 1'!D382","v":0}]
[19,"Q1",{"$f":"'Quarter 1'!B383","v":0},{"$f":"'Quarter 1'!C383","v":0},{"$f":"'Quarter 1'!D383","v":0}]
[20,"Q1",{"$f":"'Quarter 1'!B384","v":0},{"$f":"'Quarter 1'!C384","v":0},{"$f":"'Quarter 1'!D384","v":0}]
[21,"Q1",{"$f":"'Quarter 1'!B385","v":0},{"$f":"'Quarter 1'!C385","v":0},{"$f":"'Quarter 1'!D385","v":0}]
[22,"Q1",{"$f":"'Quarter 1'!B386","v":0},{"$f":"'Quarter 1'!C386","v":0},{"$f":"'Quarter 1'!D386","v":0}]
[23,"Q1",{"$f":"'Quarter 1'!B387","v":0},{"$f":"'Quarter 1'!C387","v":0},{"$f":"'Quarter 1'!D387","v":0}]
[24,"Q1",{"$f":"'Quarter 1'!B388","v":0},{"$f":"'Quarter 1'!C388","v":0},{"$f":"'Quarter 1'!D388","v":0}]
[25,"Q1",{"$f":"'Quarter 1'!B389","v":0},{"$f":"'Quarter 1'!C389","v":0},{"$f":"'Quarter 1'!D389","v":0}]
[26,"Q1",{"$f":"'Quarter 1'!B390","v":0},{"$f":"'Quarter 1'!C390","v":0},{"$f":"'Quarter 1'!D390","v":0}]
[27,"Q1",{"$f":"'Quarter 1'!B391","v":0},{"$f":"'Quarter 1'!C391","v":0},{"$f":"'Quarter 1'!D391","v":0}]
[28,"Q1",{"$f":"'Quarter 1'!B392","v":0},{"$f":"'Quarter 1'!C392","v":0},{"$f":"'Quarter 1'!D392","v":0}]
[29,"Q1",{"$f":"'Quarter 1'!B393","v":0},{"$f":"'Quarter 1'!C393","v":0},{"$f":"'Quarter 1'!D393","v":0}]
[30,"Q1",{"$f":"'Quarter 1'!B394","v":0},{"$f":"'Quarter 1'!C394","v":0},{"$f":"'Quarter 1'!D394","v":0}]
[31,"Q2",{"$f":"'Quarter 2'!B365","v":0},{"$f":"'Quarter 2'!C365","v":0},{"$f":"'Quarter 2'!D365","v":0}]
[32,"Q2",{"$f":"'Quarter 2'!B366","v":0},{"$f":"'Quarter 2'!C366","v":0},{"$f":"'Quarter 2'!D366","v":0}]
[33,"Q2",{"$f":"'Quarter 2'!B367","v":0},{"$f":"'Quarter 2'!C367","v":0},{"$f":"'Quarter 2'!D367","v":0}]
[34,"Q2",{"$f":"'Quarter 2'!B368","v":0},{"$f":"'Quarter 2'!C368","v":0},{"$f":"'Quarter 2'!D368","v":0}]
[35,"Q2",{"$f":"'Quarter 2'!B369","v":0},{"$f":"'Quarter 2'!C369","v":0},{"$f":"'Quarter 2'!D369","v":0}]
[36,"Q2",{"$f":"'Quarter 2'!B370","v":0},{"$f":"'Quarter 2'!C370","v":0},{"$f":"'Quarter 2'!D370","v":0}]
[37,"Q2",{"$f":"'Quarter 2'!B371","v":0},{"$f":"'Quarter 2'!C371","v":0},{"$f":"'Quarter 2'!D371","v":0}]
[38,"Q2",{"$f":"'Quarter 2'!B372","v":0},{"$f":"'Quarter 2'!C372","v":0},{"$f":"'Quarter 2'!D372","v":0}]
[39,"Q2",{"$f":"'Quarter 2'!B373","v":0},{"$f":"'Quarter 2'!C373","v":0},{"$f":"'Quarter 2'!D373","v":0}]
[40,"Q2",{"$f":"'Quarter 2'!B374","v":0},{"$f":"'Quarter 2'!C374","v":0},{"$f":"'Quarter 2'!D374","v":0}]
[41,"Q2",{"$f":"'Quarter 2'!B375","v":0},{"$f":"'Quarter 2'!C375","v":0},{"$f":"'Quarter 2'!D375","v":0}]
[42,"Q2",{"$f":"'Quarter 2'!B376","v":0},{"$f":"'Quarter 2'!C376","v":0},{"$f":"'Quarter 2'!D376","v":0}]
[43,"Q2",{"$f":"'Quarter 2'!B377","v":0},{"$f":"'Quarter 2'!C377","v":0},{"$f":"'Quarter 2'!D377","v":0}]
[44,"Q2",{"$f":"'Quarter 2'!B378","v":0},{"$f":"'Quarter 2'!C378","v":0},{"$f":"'Quarter 2'!D378","v":0}]
[45,"Q2",{"$f":"'Quarter 2'!B379","v":0},{"$f":"'Quarter 2'!C379","v":0},{"$f":"'Quarter 2'!D379","v":0}]
[46,"Q2",{"$f":"'Quarter 2'!B380","v":0},{"$f":"'Quarter 2'!C380","v":0},{"$f":"'Quarter 2'!D380","v":0}]
[47,"Q2",{"$f":"'Quarter 2'!B381","v":0},{"$f":"'Quarter 2'!C381","v":0},{"$f":"'Quarter 2'!D381","v":0}]
[48,"Q2",{"$f":"'Quarter 2'!B382","v":0},{"$f":"'Quarter 2'!C382","v":0},{"$f":"'Quarter 2'!D382","v":0}]
[49,"Q2",{"$f":"'Quarter 2'!B383","v":0},{"$f":"'Quarter 2'!C383","v":0},{"$f":"'Quarter 2'!D383","v":0}]
[50,"Q2",{"$f":"'Quarter 2'!B384","v":0},{"$f":"'Quarter 2'!C384","v":0},{"$f":"'Quarter 2'!D384","v":0}]
[51,"Q2",{"$f":"'Quarter 2'!B385","v":0},{"$f":"'Quarter 2'!C385","v":0},{"$f":"'Quarter 2'!D385","v":0}]
[52,"Q2",{"$f":"'Quarter 2'!B386","v":0},{"$f":"'Quarter 2'!C386","v":0},{"$f":"'Quarter 2'!D386","v":0}]
[53,"Q2",{"$f":"'Quarter 2'!B387","v":0},{"$f":"'Quarter 2'!C387","v":0},{"$f":"'Quarter 2'!D387","v":0}]
[54,"Q2",{"$f":"'Quarter 2'!B388","v":0},{"$f":"'Quarter 2'!C388","v":0},{"$f":"'Quarter 2'!D388","v":0}]
[55,"Q2",{"$f":"'Quarter 2'!B389","v":0},{"$f":"'Quarter 2'!C389","v":0},{"$f":"'Quarter 2'!D389","v":0}]
[56,"Q2",{"$f":"'Quarter 2'!B390","v":0},{"$f":"'Quarter 2'!C390","v":0},{"$f":"'Quarter 2'!D390","v":0}]
[57,"Q2",{"$f":"'Quarter 2'!B391","v":0},{"$f":"'Quarter 2'!C391","v":0},{"$f":"'Quarter 2'!D391","v":0}]
[58,"Q2",{"$f":"'Quarter 2'!B392","v":0},{"$f":"'Quarter 2'!C392","v":0},{"$f":"'Quarter 2'!D392","v":0}]
[59,"Q2",{"$f":"'Quarter 2'!B393","v":0},{"$f":"'Quarter 2'!C393","v":0},{"$f":"'Quarter 2'!D393","v":0}]
[60,"Q2",{"$f":"'Quarter 2'!B394","v":0},{"$f":"'Quarter 2'!C394","v":0},{"$f":"'Quarter 2'!D394","v":0}]
[61,"Q3",{"$f":"'Quarter 3'!B365","v":0},{"$f":"'Quarter 3'!C365","v":0},{"$f":"'Quarter 3'!D365","v":0}]
[62,"Q3",{"$f":"'Quarter 3'!B366","v":0},{"$f":"'Quarter 3'!C366","v":0},{"$f":"'Quarter 3'!D366","v":0}]
[63,"Q3",{"$f":"'Quarter 3'!B367","v":0},{"$f":"'Quarter 3'!C367","v":0},{"$f":"'Quarter 3'!D367","v":0}]
[64,"Q3",{"$f":"'Quarter 3'!B368","v":0},{"$f":"'Quarter 3'!C368","v":0},{"$f":"'Quarter 3'!D368","v":0}]
[65,"Q3",{"$f":"'Quarter 3'!B369","v":0},{"$f":"'Quarter 3'!C369","v":0},{"$f":"'Quarter 3'!D369","v":0}]
[66,"Q3",{"$f":"'Quarter 3'!B370","v":0},{"$f":"'Quarter 3'!C370","v":0},{"$f":"'Quarter 3'!D370","v":0}]
[67,"Q3",{"$f":"'Quarter 3'!B371","v":0},{"$f":"'Quarter 3'!C371","v":0},{"$f":"'Quarter 3'!D371","v":0}]
[68,"Q3",{"$f":"'Quarter 3'!B372","v":0},{"$f":"'Quarter 3'!C372","v":0},{"$f":"'Quarter 3'!D372","v":0}]
[69,"Q3",{"$f":"'Quarter 3'!B373","v":0},{"$f":"'Quarter 3'!C373","v":0},{"$f":"'Quarter 3'!D373","v":0}]
[70,"Q3",{"$f":"'Quarter 3'!B374","v":0},{"$f":"'Quarter 3'!C374","v":0},{"$f":"'Quarter 3'!D374","v":0}]
[71,"Q3",{"$f":"'Quarter 3'!B375","v":0},{"$f":"'Quarter 3'!C375","v":0},{"$f":"'Quarter 3'!D375","v":0}]
[72,"Q3",{"$f":"'Quarter 3'!B376","v":0},{"$f":"'Quarter 3'!C376","v":0},{"$f":"'Quarter 3'!D376","v":0}]
[73,"Q3",{"$f":"'Quarter 3'!B377","v":0},{"$f":"'Quarter 3'!C377","v":0},{"$f":"'Quarter 3'!D377","v":0}]
[74,"Q3",{"$f":"'Quarter 3'!B378","v":0},{"$f":"'Quarter 3'!C378","v":0},{"$f":"'Quarter 3'!D378","v":0}]
[75,"Q3",{"$f":"'Quarter 3'!B379","v":0},{"$f":"'Quarter 3'!C379","v":0},{"$f":"'Quarter 3'!D379","v":0}]
[76,"Q3",{"$f":"'Quarter 3'!B380","v":0},{"$f":"'Quarter 3'!C380","v":0},{"$f":"'Quarter 3'!D380","v":0}]
[77,"Q3",{"$f":"'Quarter 3'!B381","v":0},{"$f":"'Quarter 3'!C381","v":0},{"$f":"'Quarter 3'!D381","v":0}]
[78,"Q3",{"$f":"'Quarter 3'!B382","v":0},{"$f":"'Quarter 3'!C382","v":0},{"$f":"'Quarter 3'!D382","v":0}]
[79,"Q3",{"$f":"'Quarter 3'!B383","v":0},{"$f":"'Quarter 3'!C383","v":0},{"$f":"'Quarter 3'!D383","v":0}]
[80,"Q3",{"$f":"'Quarter 3'!B384","v":0},{"$f":"'Quarter 3'!C384","v":0},{"$f":"'Quarter 3'!D384","v":0}]
[81,"Q3",{"$f":"'Quarter 3'!B385","v":0},{"$f":"'Quarter 3'!C385","v":0},{"$f":"'Quarter 3'!D385","v":0}]
[82,"Q3",{"$f":"'Quarter 3'!B386","v":0},{"$f":"'Quarter 3'!C386","v":0},{"$f":"'Quarter 3'!D386","v":0}]
[83,"Q3",{"$f":"'Quarter 3'!B387","v":0},{"$f":"'Quarter 3'!C387","v":0},{"$f":"'Quarter 3'!D387","v":0}]
[84,"Q3",{"$f":"'Quarter 3'!B388","v":0},{"$f":"'Quarter 3'!C388","v":0},{"$f":"'Quarter 3'!D388","v":0}]
[85,"Q3",{"$f":"'Quarter 3'!B389","v":0},{"$f":"'Quarter 3'!C389","v":0},{"$f":"'Quarter 3'!D389","v":0}]
[86,"Q3",{"$f":"'Quarter 3'!B390","v":0},{"$f":"'Quarter 3'!C390","v":0},{"$f":"'Quarter 3'!D390","v":0}]
[87,"Q3",{"$f":"'Quarter 3'!B391","v":0},{"$f":"'Quarter 3'!C391","v":0},{"$f":"'Quarter 3'!D391","v":0}]
[88,"Q3",{"$f":"'Quarter 3'!B392","v":0},{"$f":"'Quarter 3'!C392","v":0},{"$f":"'Quarter 3'!D392","v":0}]
[89,"Q3",{"$f":"'Quarter 3'!B393","v":0},{"$f":"'Quarter 3'!C393","v":0},{"$f":"'Quarter 3'!D393","v":0}]
[90,"Q3",{"$f":"'Quarter 3'!B394","v":0},{"$f":"'Quarter 3'!C394","v":0},{"$f":"'Quarter 3'!D394","v":0}]
[91,"Q4",{"$f":"'Quarter 4'!B365","v":0},{"$f":"'Quarter 4'!C365","v":0},{"$f":"'Quarter 4'!D365","v":0}]
[92,"Q4",{"$f":"'Quarter 4'!B366","v":0},{"$f":"'Quarter 4'!C366","v":0},{"$f":"'Quarter 4'!D366","v":0}]
[93,"Q4",{"$f":"'Quarter 4'!B367","v":0},{"$f":"'Quarter 4'!C367","v":0},{"$f":"'Quarter 4'!D367","v":0}]
[94,"Q4",{"$f":"'Quarter 4'!B368","v":0},{"$f":"'Quarter 4'!C368","v":0},{"$f":"'Quarter 4'!D368","v":0}]
[95,"Q4",{"$f":"'Quarter 4'!B369","v":0},{"$f":"'Quarter 4'!C369","v":0},{"$f":"'Quarter 4'!D369","v":0}]
[96,"Q4",{"$f":"'Quarter 4'!B370","v":0},{"$f":"'Quarter 4'!C370","v":0},{"$f":"'Quarter 4'!D370","v":0}]
[97,"Q4",{"$f":"'Quarter 4'!B371","v":0},{"$f":"'Quarter 4'!C371","v":0},{"$f":"'Quarter 4'!D371","v":0}]
[98,"Q4",{"$f":"'Quarter 4'!B372","v":0},{"$f":"'Quarter 4'!C372","v":0},{"$f":"'Quarter 4'!D372","v":0}]
[99,"Q4",{"$f":"'Quarter 4'!B373","v":0},{"$f":"'Quarter 4'!C373","v":0},{"$f":"'Quarter 4'!D373","v":0}]
[100,"Q4",{"$f":"'Quarter 4'!B374","v":0},{"$f":"'Quarter 4'!C374","v":0},{"$f":"'Quarter 4'!D374","v":0}]
[101,"Q4",{"$f":"'Quarter 4'!B375","v":0},{"$f":"'Quarter 4'!C375","v":0},{"$f":"'Quarter 4'!D375","v":0}]
[102,"Q4",{"$f":"'Quarter 4'!B376","v":0},{"$f":"'Quarter 4'!C376","v":0},{"$f":"'Quarter 4'!D376","v":0}]
[103,"Q4",{"$f":"'Quarter 4'!B377","v":0},{"$f":"'Quarter 4'!C377","v":0},{"$f":"'Quarter 4'!D377","v":0}]
[104,"Q4",{"$f":"'Quarter 4'!B378","v":0},{"$f":"'Quarter 4'!C378","v":0},{"$f":"'Quarter 4'!D378","v":0}]
[105,"Q4",{"$f":"'Quarter 4'!B379","v":0},{"$f":"'Quarter 4'!C379","v":0},{"$f":"'Quarter 4'!D379","v":0}]
[106,"Q4",{"$f":"'Quarter 4'!B380","v":0},{"$f":"'Quarter 4'!C380","v":0},{"$f":"'Quarter 4'!D380","v":0}]
[107,"Q4",{"$f":"'Quarter 4'!B381","v":0},{"$f":"'Quarter 4'!C381","v":0},{"$f":"'Quarter 4'!D381","v":0}]
[108,"Q4",{"$f":"'Quarter 4'!B382","v":0},{"$f":"'Quarter 4'!C382","v":0},{"$f":"'Quarter 4'!D382","v":0}]
[109,"Q4",{"$f":"'Quarter 4'!B383","v":0},{"$f":"'Quarter 4'!C383","v":0},{"$f":"'Quarter 4'!D383","v":0}]
[110,"Q4",{"$f":"'Quarter 4'!B384","v":0},{"$f":"'Quarter 4'!C384","v":0},{"$f":"'Quarter 4'!D384","v":0}]
[111,"Q4",{"$f":"'Quarter 4'!B385","v":0},{"$f":"'Quarter 4'!C385","v":0},{"$f":"'Quarter 4'!D385","v":0}]
[112,"Q4",{"$f":"'Quarter 4'!B386","v":0},{"$f":"'Quarter 4'!C386","v":0},{"$f":"'Quarter 4'!D386","v":0}]
[113,"Q4",{"$f":"'Quarter 4'!B387","v":0},{"$f":"'Quarter 4'!C387","v":0},{"$f":"'Quarter 4'!D387","v":0}]
[114,"Q4",{"$f":"'Quarter 4'!B388","v":0},{"$f":"'Quarter 4'!C388","v":0},{"$f":"'Quarter 4'!D388","v":0}]
[115,"Q4",{"$f":"'Quarter 4'!B389","v":0},{"$f":"'Quarter 4'!C389","v":0},{"$f":"'Quarter 4'!D389","v":0}]
[116,"Q4",{"$f":"'Quarter 4'!B390","v":0},{"$f":"'Quarter 4'!C390","v":0},{"$f":"'Quarter 4'!D390","v":0}]
[117,"Q4",{"$f":"'Quarter 4'!B391","v":0},{"$f":"'Quarter 4'!C391","v":0},{"$f":"'Quarter 4'!D391","v":0}]
[118,"Q4",{"$f":"'Quarter 4'!B392","v":0},{"$f":"'Quarter 4'!C392","v":0},{"$f":"'Quarter 4'!D392","v":0}]
[119,"Q4",{"$f":"'Quarter 4'!B393","v":0},{"$f":"'Quarter 4'!C393","v":0},{"$f":"'Quarter 4'!D393","v":0}]
[120,"Q4",{"$f":"'Quarter 4'!B394","v":0},{"$f":"'Quarter 4'!C394","v":0},{"$f":"'Quarter 4'!D394","v":0}]
[null,null,null,"TOTAL:",{"$f":"SUM(E1257:E1376)","v":0}]
[]
["On-going grant funded projects:"]
["L","Quarter","Grant Source","Project Name","Intended Results"]
[1,"Q1",{"$f":"'Quarter 1'!B400","v":0},{"$f":"'Quarter 1'!C400","v":0},{"$f":"'Quarter 1'!D400","v":0}]
[2,"Q1",{"$f":"'Quarter 1'!B401","v":0},{"$f":"'Quarter 1'!C401","v":0},{"$f":"'Quarter 1'!D401","v":0}]
[3,"Q1",{"$f":"'Quarter 1'!B402","v":0},{"$f":"'Quarter 1'!C402","v":0},{"$f":"'Quarter 1'!D402","v":0}]
[4,"Q1",{"$f":"'Quarter 1'!B403","v":0},{"$f":"'Quarter 1'!C403","v":0},{"$f":"'Quarter 1'!D403","v":0}]
[5,"Q1",{"$f":"'Quarter 1'!B404","v":0},{"$f":"'Quarter 1'!C404","v":0},{"$f":"'Quarter 1'!D404","v":0}]
[6,"Q1",{"$f":"'Quarter 1'!B405","v":0},{"$f":"'Quarter 1'!C405","v":0},{"$f":"'Quarter 1'!D405","v":0}]
[7,"Q1",{"$f":"'Quarter 1'!B406","v":0},{"$f":"'Quarter 1'!C406","v":0},{"$f":"'Quarter 1'!D406","v":0}]
[8,"Q1",{"$f":"'Quarter 1'!B407","v":0},{"$f":"'Quarter 1'!C407","v":0},{"$f":"'Quarter 1'!D407","v":0}]
[9,"Q1",{"$f":"'Quarter 1'!B408","v":0},{"$f":"'Quarter 1'!C408","v":0},{"$f":"'Quarter 1'!D408","v":0}]
[10,"Q1",{"$f":"'Quarter 1'!B409","v":0},{"$f":"'Quarter 1'!C409","v":0},{"$f":"'Quarter 1'!D409","v":0}]
[11,"Q1",{"$f":"'Quarter 1'!B410","v":0},{"$f":"'Quarter 1'!C410","v":0},{"$f":"'Quarter 1'!D410","v":0}]
[12,"Q1",{"$f":"'Quarter 1'!B411","v":0},{"$f":"'Quarter 1'!C411","v":0},{"$f":"'Quarter 1'!D411","v":0}]
[13,"Q1",{"$f":"'Quarter 1'!B412","v":0},{"$f":"'Quarter 1'!C412","v":0},{"$f":"'Quarter 1'!D412","v":0}]
[14,"Q1",{"$f":"'Quarter 1'!B413","v":0},{"$f":"'Quarter 1'!C413","v":0},{"$f":"'Quarter 1'!D413","v":0}]
[15,"Q1",{"$f":"'Quarter 1'!B414","v":0},{"$f":"'Quarter 1'!C414","v":0},{"$f":"'Quarter 1'!D414","v":0}]
[16,"Q1",{"$f":"'Quarter 1'!B415","v":0},{"$f":"'Quarter 1'!C415","v":0},{"$f":"'Quarter 1'!D415","v":0}]
[17,"Q1",{"$f":"'Quarter 1'!B416","v":0},{"$f":"'Quarter 1'!C416","v":0},{"$f":"'Quarter 1'!D416","v":0}]
[18,"Q1",{"$f":"'Quarter 1'!B417","v":0},{"$f":"'Quarter 1'!C417","v":0},{"$f":"'Quarter 1'!D417","v":0}]
[19,"Q1",{"$f":"'Quarter 1'!B418","v":0},{"$f":"'Quarter 1'!C418","v":0},{"$f":"'Quarter 1'!D418","v":0}]
[20,"Q1",{"$f":"'Quarter 1'!B419","v":0},{"$f":"'Quarter 1'!C419","v":0},{"$f":"'Quarter 1'!D419","v":0}]
[21,"Q1",{"$f":"'Quarter 1'!B420","v":0},{"$f":"'Quarter 1'!C420","v":0},{"$f":"'Quarter 1'!D420","v":0}]
[22,"Q1",{"$f":"'Quarter 1'!B421","v":0},{"$f":"'Quarter 1'!C421","v":0},{"$f":"'Quarter 1'!D421","v":0}]
[23,"Q1",{"$f":"'Quarter 1'!B422","v":0},{"$f":"'Quarter 1'!C422","v":0},{"$f":"'Quarter 1'!D422","v":0}]
[24,"Q1",{"$f":"'Quarter 1'!B423","v":0},{"$f":"'Quarter 1'!C423","v":0},{"$f":"'Quarter 1'!D423","v":0}]
[25,"Q1",{"$f":"'Quarter 1'!B424","v":0},{"$f":"'Quarter 1'!C424","v":0},{"$f":"'Quarter 1'!D424","v":0}]
[26,"Q1",{"$f":"'Quarter 1'!B425","v":0},{"$f":"'Quarter 1'!C425","v":0},{"$f":"'Quarter 1'!D425","v":0}]
[27,"Q1",{"$f":"'Quarter 1'!B426","v":0},{"$f":"'Quarter 1'!C426","v":0},{"$f":"'Quarter 1'!D426","v":0}]
[28,"Q1",{"$f":"'Quarter 1'!B427","v":0},{"$f":"'Quarter 1'!C427","v":0},{"$f":"'Quarter 1'!D427","v":0}]
[29,"Q1",{"$f":"'Quarter 1'!B428","v":0},{"$f":"'Quarter 1'!C428","v":0},{"$f":"'Quarter 1'!D428","v":0}]
[30,"Q1",{"$f":"'Quarter 1'!B429","v":0},{"$f":"'Quarter 1'!C429","v":0},{"$f":"'Quarter 1'!D429","v":0}]
[31,"Q1",{"$f":"'Quarter 1'!B430","v":0},{"$f":"'Quarter 1'!C430","v":0},{"$f":"'Quarter 1'!D430","v":0}]
[32,"Q1",{"$f":"'Quarter 1'!B431","v":0},{"$f":"'Quarter 1'!C431","v":0},{"$f":"'Quarter 1'!D431","v":0}]
[33,"Q1",{"$f":"'Quarter 1'!B432","v":0},{"$f":"'Quarter 1'!C432","v":0},{"$f":"'Quarter 1'!D432","v":0}]
[34,"Q1",{"$f":"'Quarter 1'!B433","v":0},{"$f":"'Quarter 1'!C433","v":0},{"$f":"'Quarter 1'!D433","v":0}]
[35,"Q1",{"$f":"'Quarter 1'!B434","v":0},{"$f":"'Quarter 1'!C434","v":0},{"$f":"'Quarter 1'!D434","v":0}]
[36,"Q1",{"$f":"'Quarter 1'!B435","v":0},{"$f":"'Quarter 1'!C435","v":0},{"$f":"'Quarter 1'!D435","v":0}]
[37,"Q1",{"$f":"'Quarter 1'!B436","v":0},{"$f":"'Quarter 1'!C436","v":0},{"$f":"'Quarter 1'!D436","v":0}]
[38,"Q1",{"$f":"'Quarter 1'!B437","v":0},{"$f":"'Quarter 1'!C437","v":0},{"$f":"'Quarter 1'!D437","v":0}]
[39,"Q1",{"$f":"'Quarter 1'!B438","v":0},{"$f":"'Quarter 1'!C438","v":0},{"$f":"'Quarter 1'!D438","v":0}]
[40,"Q1",{"$f":"'Quarter 1'!B439","v":0},{"$f":"'Quarter 1'!C439","v":0},{"$f":"'Quarter 1'!D439","v":0}]
[41,"Q1",{"$f":"'Quarter 1'!B440","v":0},{"$f":"'Quarter 1'!C440","v":0},{"$f":"'Quarter 1'!D440","v":0}]
[42,"Q1",{"$f":"'Quarter 1'!B441","v":0},{"$f":"'Quarter 1'!C441","v":0},{"$f":"'Quarter 1'!D441","v":0}]
[43,"Q1",{"$f":"'Quarter 1'!B442","v":0},{"$f":"'Quarter 1'!C442","v":0},{"$f":"'Quarter 1'!D442","v":0}]
[44,"Q1",{"$f":"'Quarter 1'!B443","v":0},{"$f":"'Quarter 1'!C443","v":0},{"$f":"'Quarter 1'!D443","v":0}]
[45,"Q1",{"$f":"'Quarter 1'!B444","v":0},{"$f":"'Quarter 1'!C444","v":0},{"$f":"'Quarter 1'!D444","v":0}]
[46,"Q1",{"$f":"'Quarter 1'!B445","v":0},{"$f":"'Quarter 1'!C445","v":0},{"$f":"'Quarter 1'!D445","v":0}]
[47,"Q1",{"$f":"'Quarter 1'!B446","v":0},{"$f":"'Quarter 1'!C446","v":0},{"$f":"'Quarter 1'!D446","v":0}]
[48,"Q1",{"$f":"'Quarter 1'!B447","v":0},{"$f":"'Quarter 1'!C447","v":0},{"$f":"'Quarter 1'!D447","v":0}]
[49,"Q1",{"$f":"'Quarter 1'!B448","v":0},{"$f":"'Quarter 1'!C448","v":0},{"$f":"'Quarter 1'!D448","v":0}]
[50,"Q1",{"$f":"'Quarter 1'!B449","v":0},{"$f":"'Quarter 1'!C449","v":0},{"$f":"'Quarter 1'!D449","v":0}]
[51,"Q2",{"$f":"'Quarter 2'!B400","v":0},{"$f":"'Quarter 2'!C400","v":0},{"$f":"'Quarter 2'!D400","v":0}]
[52,"Q2",{"$f":"'Quarter 2'!B401","v":0},{"$f":"'Quarter 2'!C401","v":0},{"$f":"'Quarter 2'!D401","v":0}]
[53,"Q2",{"$f":"'Quarter 2'!B402","v":0},{"$f":"'Quarter 2'!C402","v":0},{"$f":"'Quarter 2'!D402","v":0}]
[54,"Q2",{"$f":"'Quarter 2'!B403","v":0},{"$f":"'Quarter 2'!C403","v":0},{"$f":"'Quarter 2'!D403","v":0}]
[55,"Q2",{"$f":"'Quarter 2'!B404","v":0},{"$f":"'Quarter 2'!C404","v":0},{"$f":"'Quarter 2'!D404","v":0}]
[56,"Q2",{"$f":"'Quarter 2'!B405","v":0},{"$f":"'Quarter 2'!C405","v":0},{"$f":"'Quarter 2'!D405","v":0}]
[57,"Q2",{"$f":"'Quarter 2'!B406","v":0},{"$f":"'Quarter 2'!C406","v":0},{"$f":"'Quarter 2'!D406","v":0}]
[58,"Q2",{"$f":"'Quarter 2'!B407","v":0},{"$f":"'Quarter 2'!C407","v":0},{"$f":"'Quarter 2'!D407","v":0}]
[59,"Q2",{"$f":"'Quarter 2'!B408","v":0},{"$f":"'Quarter 2'!C408","v":0},{"$f":"'Quarter 2'!D408","v":0}]
[60,"Q2",{"$f":"'Quarter 2'!B409","v":0},{"$f":"'Quarter 2'!C409","v":0},{"$f":"'Quarter 2'!D409","v":0}]
[61,"Q2",{"$f":"'Quarter 2'!B410","v":0},{"$f":"'Quarter 2'!C410","v":0},{"$f":"'Quarter 2'!D410","v":0}]
[62,"Q2",{"$f":"'Quarter 2'!B411","v":0},{"$f":"'Quarter 2'!C411","v":0},{"$f":"'Quarter 2'!D411","v":0}]
[63,"Q2",{"$f":"'Quarter 2'!B412","v":0},{"$f":"'Quarter 2'!C412","v":0},{"$f":"'Quarter 2'!D412","v":0}]
[64,"Q2",{"$f":"'Quarter 2'!B413","v":0},{"$f":"'Quarter 2'!C413","v":0},{"$f":"'Quarter 2'!D413","v":0}]
[65,"Q2",{"$f":"'Quarter 2'!B414","v":0},{"$f":"'Quarter 2'!C414","v":0},{"$f":"'Quarter 2'!D414","v":0}]
[66,"Q2",{"$f":"'Quarter 2'!B415","v":0},{"$f":"'Quarter 2'!C415","v":0},{"$f":"'Quarter 2'!D415","v":0}]
[67,"Q2",{"$f":"'Quarter 2'!B416","v":0},{"$f":"'Quarter 2'!C416","v":0},{"$f":"'Quarter 2'!D416","v":0}]
[68,"Q2",{"$f":"'Quarter 2'!B417","v":0},{"$f":"'Quarter 2'!C417","v":0},{"$f":"'Quarter 2'!D417","v":0}]
[69,"Q2",{"$f":"'Quarter 2'!B418","v":0},{"$f":"'Quarter 2'!C418","v":0},{"$f":"'Quarter 2'!D418","v":0}]
[70,"Q2",{"$f":"'Quarter 2'!B419","v":0},{"$f":"'Quarter 2'!C419","v":0},{"$f":"'Quarter 2'!D419","v":0}]
[71,"Q2",{"$f":"'Quarter 2'!B420","v":0},{"$f":"'Quarter 2'!C420","v":0},{"$f":"'Quarter 2'!D420","v":0}]
[72,"Q2",{"$f":"'Quarter 2'!B421","v":0},{"$f":"'Quarter 2'!C421","v":0},{"$f":"'Quarter 2'!D421","v":0}]
[73,"Q2",{"$f":"'Quarter 2'!B422","v":0},{"$f":"'Quarter 2'!C422","v":0},{"$f":"'Quarter 2'!D422","v":0}]
[74,"Q2",{"$f":"'Quarter 2'!B423","v":0},{"$f":"'Quarter 2'!C423","v":0},{"$f":"'Quarter 2'!D423","v":0}]
[75,"Q2",{"$f":"'Quarter 2'!B424","v":0},{"$f":"'Quarter 2'!C424","v":0},{"$f":"'Quarter 2'!D424","v":0}]
[76,"Q2",{"$f":"'Quarter 2'!B425","v":0},{"$f":"'Quarter 2'!C425","v":0},{"$f":"'Quarter 2'!D425","v":0}]
[77,"Q2",{"$f":"'Quarter 2'!B426","v":0},{"$f":"'Quarter 2'!C426","v":0},{"$f":"'Quarter 2'!D426","v":0}]
[78,"Q2",{"$f":"'Quarter 2'!B427","v":0},{"$f":"'Quarter 2'!C427","v":0},{"$f":"'Quarter 2'!D427","v":0}]
[79,"Q2",{"$f":"'Quarter 2'!B428","v":0},{"$f":"'Quarter 2'!C428","v":0},{"$f":"'Quarter 2'!D428","v":0}]
[80,"Q2",{"$f":"'Quarter 2'!B429","v":0},{"$f":"'Quarter 2'!C429","v":0},{"$f":"'Quarter 2'!D429","v":0}]
[81,"Q2",{"$f":"'Quarter 2'!B430","v":0},{"$f":"'Quarter 2'!C430","v":0},{"$f":"'Quarter 2'!D430","v":0}]
[82,"Q2",{"$f":"'Quarter 2'!B431","v":0},{"$f":"'Quarter 2'!C431","v":0},{"$f":"'Quarter 2'!D431","v":0}]
[83,"Q2",{"$f":"'Quarter 2'!B432","v":0},{"$f":"'Quarter 2'!C432","v":0},{"$f":"'Quarter 2'!D432","v":0}]
[84,"Q2",{"$f":"'Quarter 2'!B433","v":0},{"$f":"'Quarter 2'!C433","v":0},{"$f":"'Quarter 2'!D433","v":0}]
[85,"Q2",{"$f":"'Quarter 2'!B434","v":0},{"$f":"'Quarter 2'!C434","v":0},{"$f":"'Quarter 2'!D434","v":0}]
[86,"Q2",{"$f":"'Quarter 2'!B435","v":0},{"$f":"'Quarter 2'!C435","v":0},{"$f":"'Quarter 2'!D435","v":0}]
[87,"Q2",{"$f":"'Quarter 2'!B436","v":0},{"$f":"'Quarter 2'!C436","v":0},{"$f":"'Quarter 2'!D436","v":0}]
[88,"Q2",{"$f":"'Quarter 2'!B437","v":0},{"$f":"'Quarter 2'!C437","v":0},{"$f":"'Quarter 2'!D437","v":0}]
[89,"Q2",{"$f":"'Quarter 2'!B438","v":0},{"$f":"'Quarter 2'!C438","v":0},{"$f":"'Quarter 2'!D438","v":0}]
[90,"Q2",{"$f":"'Quarter 2'!B439","v":0},{"$f":"'Quarter 2'!C439","v":0},{"$f":"'Quarter 2'!D439","v":0}]
[91,"Q2",{"$f":"'Quarter 2'!B440","v":0},{"$f":"'Quarter 2'!C440","v":0},{"$f":"'Quarter 2'!D440","v":0}]
[92,"Q2",{"$f":"'Quarter 2'!B441","v":0},{"$f":"'Quarter 2'!C441","v":0},{"$f":"'Quarter 2'!D441","v":0}]
[93,"Q2",{"$f":"'Quarter 2'!B442","v":0},{"$f":"'Quarter 2'!C442","v":0},{"$f":"'Quarter 2'!D442","v":0}]
[94,"Q2",{"$f":"'Quarter 2'!B443","v":0},{"$f":"'Quarter 2'!C443","v":0},{"$f":"'Quarter 2'!D443","v":0}]
[95,"Q2",{"$f":"'Quarter 2'!B444","v":0},{"$f":"'Quarter 2'!C444","v":0},{"$f":"'Quarter 2'!D444","v":0}]
[96,"Q2",{"$f":"'Quarter 2'!B445","v":0},{"$f":"'Quarter 2'!C445","v":0},{"$f":"'Quarter 2'!D445","v":0}]
[97,"Q2",{"$f":"'Quarter 2'!B446","v":0},{"$f":"'Quarter 2'!C446","v":0},{"$f":"'Quarter 2'!D446","v":0}]
[98,"Q2",{"$f":"'Quarter 2'!B447","v":0},{"$f":"'Quarter 2'!C447","v":0},{"$f":"'Quarter 2'!D447","v":0}]
[99,"Q2",{"$f":"'Quarter 2'!B448","v":0},{"$f":"'Quarter 2'!C448","v":0},{"$f":"'Quarter 2'!D448","v":0}]
[100,"Q2",{"$f":"'Quarter 2'!B449","v":0},{"$f":"'Quarter 2'!C449","v":0},{"$f":"'Quarter 2'!D449","v":0}]
[101,"Q3",{"$f":"'Quarter 3'!B400","v":0},{"$f":"'Quarter 3'!C400","v":0},{"$f":"'Quarter 3'!D400","v":0}]
[102,"Q3",{"$f":"'Quarter 3'!B401","v":0},{"$f":"'Quarter 3'!C401","v":0},{"$f":"'Quarter 3'!D401","v":0}]
[103,"Q3",{"$f":"'Quarter 3'!B402","v":0},{"$f":"'Quarter 3'!C402","v":0},{"$f":"'Quarter 3'!D402","v":0}]
[104,"Q3",{"$f":"'Quarter 3'!B403","v":0},{"$f":"'Quarter 3'!C403","v":0},{"$f":"'Quarter 3'!D403","v":0}]
[105,"Q3",{"$f":"'Quarter 3'!B404","v":0},{"$f":"'Quarter 3'!C404","v":0},{"$f":"'Quarter 3'!D404","v":0}]
[106,"Q3",{"$f":"'Quarter 3'!B405","v":0},{"$f":"'Quarter 3'!C405","v":0},{"$f":"'Quarter 3'!D405","v":0}]
[107,"Q3",{"$f":"'Quarter 3'!B406","v":0},{"$f":"'Quarter 3'!C406","v":0},{"$f":"'Quarter 3'!D406","v":0}]
[108,"Q3",{"$f":"'Quarter 3'!B407","v":0},{"$f":"'Quarter 3'!C407","v":0},{"$f":"'Quarter 3'!D407","v":0}]
[109,"Q3",{"$f":"'Quarter 3'!B408","v":0},{"$f":"'Quarter 3'!C408","v":0},{"$f":"'Quarter 3'!D408","v":0}]
[110,"Q3",{"$f":"'Quarter 3'!B409","v":0},{"$f":"'Quarter 3'!C409","v":0},{"$f":"'Quarter 3'!D409","v":0}]
[111,"Q3",{"$f":"'Quarter 3'!B410","v":0},{"$f":"'Quarter 3'!C410","v":0},{"$f":"'Quarter 3'!D410","v":0}]
[112,"Q3",{"$f":"'Quarter 3'!B411","v":0},{"$f":"'Quarter 3'!C411","v":0},{"$f":"'Quarter 3'!D411","v":0}]
[113,"Q3",{"$f":"'Quarter 3'!B412","v":0},{"$f":"'Quarter 3'!C412","v":0},{"$f":"'Quarter 3'!D412","v":0}]
[114,"Q3",{"$f":"'Quarter 3'!B413","v":0},{"$f":"'Quarter 3'!C413","v":0},{"$f":"'Quarter 3'!D413","v":0}]
[115,"Q3",{"$f":"'Quarter 3'!B414","v":0},{"$f":"'Quarter 3'!C414","v":0},{"$f":"'Quarter 3'!D414","v":0}]
[116,"Q3",{"$f":"'Quarter 3'!B415","v":0},{"$f":"'Quarter 3'!C415","v":0},{"$f":"'Quarter 3'!D415","v":0}]
[117,"Q3",{"$f":"'Quarter 3'!B416","v":0},{"$f":"'Quarter 3'!C416","v":0},{"$f":"'Quarter 3'!D416","v":0}]
[118,"Q3",{"$f":"'Quarter 3'!B417","v":0},{"$f":"'Quarter 3'!C417","v":0},{"$f":"'Quarter 3'!D417","v":0}]
[119,"Q3",{"$f":"'Quarter 3'!B418","v":0},{"$f":"'Quarter 3'!C418","v":0},{"$f":"'Quarter 3'!D418","v":0}]
[120,"Q3",{"$f":"'Quarter 3'!B419","v":0},{"$f":"'Quarter 3'!C419","v":0},{"$f":"'Quarter 3'!D419","v":0}]
[121,"Q3",{"$f":"'Quarter 3'!B420","v":0},{"$f":"'Quarter 3'!C420","v":0},{"$f":"'Quarter 3'!D420","v":0}]
[122,"Q3",{"$f":"'Quarter 3'!B421","v":0},{"$f":"'Quarter 3'!C421","v":0},{"$f":"'Quarter 3'!D421","v":0}]
[123,"Q3",{"$f":"'Quarter 3'!B422","v":0},{"$f":"'Quarter 3'!C422","v":0},{"$f":"'Quarter 3'!D422","v":0}]
[124,"Q3",{"$f":"'Quarter 3'!B423","v":0},{"$f":"'Quarter 3'!C423","v":0},{"$f":"'Quarter 3'!D423","v":0}]
[125,"Q3",{"$f":"'Quarter 3'!B424","v":0},{"$f":"'Quarter 3'!C424","v":0},{"$f":"'Quarter 3'!D424","v":0}]
[126,"Q3",{"$f":"'Quarter 3'!B425","v":0},{"$f":"'Quarter 3'!C425","v":0},{"$f":"'Quarter 3'!D425","v":0}]
[127,"Q3",{"$f":"'Quarter 3'!B426","v":0},{"$f":"'Quarter 3'!C426","v":0},{"$f":"'Quarter 3'!D426","v":0}]
[128,"Q3",{"$f":"'Quarter 3'!B427","v":0},{"$f":"'Quarter 3'!C427","v":0},{"$f":"'Quarter 3'!D427","v":0}]
[129,"Q3",{"$f":"'Quarter 3'!B428","v":0},{"$f":"'Quarter 3'!C428","v":0},{"$f":"'Quarter 3'!D428","v":0}]
[130,"Q3",{"$f":"'Quarter 3'!B429","v":0},{"$f":"'Quarter 3'!C429","v":0},{"$f":"'Quarter 3'!D429","v":0}]
[131,"Q3",{"$f":"'Quarter 3'!B430","v":0},{"$f":"'Quarter 3'!C430","v":0},{"$f":"'Quarter 3'!D430","v":0}]
[132,"Q3",{"$f":"'Quarter 3'!B431","v":0},{"$f":"'Quarter 3'!C431","v":0},{"$f":"'Quarter 3'!D431","v":0}]
[133,"Q3",{"$f":"'Quarter 3'!B432","v":0},{"$f":"'Quarter 3'!C432","v":0},{"$f":"'Quarter 3'!D432","v":0}]
[134,"Q3",{"$f":"'Quarter 3'!B433","v":0},{"$f":"'Quarter 3'!C433","v":0},{"$f":"'Quarter 3'!D433","v":0}]
[135,"Q3",{"$f":"'Quarter 3'!B434","v":0},{"$f":"'Quarter 3'!C434","v":0},{"$f":"'Quarter 3'!D434","v":0}]
[136,"Q3",{"$f":"'Quarter 3'!B435","v":0},{"$f":"'Quarter 3'!C435","v":0},{"$f":"'Quarter 3'!D435","v":0}]
[137,"Q3",{"$f":"'Quarter 3'!B436","v":0},{"$f":"'Quarter 3'!C436","v":0},{"$f":"'Quarter 3'!D436","v":0}]
[138,"Q3",{"$f":"'Quarter 3'!B437","v":0},{"$f":"'Quarter 3'!C437","v":0},{"$f":"'Quarter 3'!D437","v":0}]
[139,"Q3",{"$f":"'Quarter 3'!B438","v":0},{"$f":"'Quarter 3'!C438","v":0},{"$f":"'Quarter 3'!D438","v":0}]
[140,"Q3",{"$f":"'Quarter 3'!B439","v":0},{"$f":"'Quarter 3'!C439","v":0},{"$f":"'Quarter 3'!D439","v":0}]
[141,"Q3",{"$f":"'Quarter 3'!B440","v":0},{"$f":"'Quarter 3'!C440","v":0},{"$f":"'Quarter 3'!D440","v":0}]
[142,"Q3",{"$f":"'Quarter 3'!B441","v":0},{"$f":"'Quarter 3'!C441","v":0},{"$f":"'Quarter 3'!D441","v":0}]
[143,"Q3",{"$f":"'Quarter 3'!B442","v":0},{"$f":"'Quarter 3'!C442","v":0},{"$f":"'Quarter 3'!D442","v":0}]
[144,"Q3",{"$f":"'Quarter 3'!B443","v":0},{"$f":"'Quarter 3'!C443","v":0},{"$f":"'Quarter 3'!D443","v":0}]
[145,"Q3",{"$f":"'Quarter 3'!B444","v":0},{"$f":"'Quarter 3'!C444","v":0},{"$f":"'Quarter 3'!D444","v":0}]
[146,"Q3",{"$f":"'Quarter 3'!B445","v":0},{"$f":"'Quarter 3'!C445","v":0},{"$f":"'Quarter 3'!D445","v":0}]
[147,"Q3",{"$f":"'Quarter 3'!B446","v":0},{"$f":"'Quarter 3'!C446","v":0},{"$f":"'Quarter 3'!D446","v":0}]
[148,"Q3",{"$f":"'Quarter 3'!B447","v":0},{"$f":"'Quarter 3'!C447","v":0},{"$f":"'Quarter 3'!D447","v":0}]
[149,"Q3",{"$f":"'Quarter 3'!B448","v":0},{"$f":"'Quarter 3'!C448","v":0},{"$f":"'Quarter 3'!D448","v":0}]
[150,"Q3",{"$f":"'Quarter 3'!B449","v":0},{"$f":"'Quarter 3'!C449","v":0},{"$f":"'Quarter 3'!D449","v":0}]
[151,"Q4",{"$f":"'Quarter 4'!B400","v":0},{"$f":"'Quarter 4'!C400","v":0},{"$f":"'Quarter 4'!D400","v":0}]
[152,"Q4",{"$f":"'Quarter 4'!B401","v":0},{"$f":"'Quarter 4'!C401","v":0},{"$f":"'Quarter 4'!D401","v":0}]
[153,"Q4",{"$f":"'Quarter 4'!B402","v":0},{"$f":"'Quarter 4'!C402","v":0},{"$f":"'Quarter 4'!D402","v":0}]
[154,"Q4",{"$f":"'Quarter 4'!B403","v":0},{"$f":"'Quarter 4'!C403","v":0},{"$f":"'Quarter 4'!D403","v":0}]
[155,"Q4",{"$f":"'Quarter 4'!B404","v":0},{"$f":"'Quarter 4'!C404","v":0},{"$f":"'Quarter 4'!D404","v":0}]
[156,"Q4",{"$f":"'Quarter 4'!B405","v":0},{"$f":"'Quarter 4'!C405","v":0},{"$f":"'Quarter 4'!D405","v":0}]
[157,"Q4",{"$f":"'Quarter 4'!B406","v":0},{"$f":"'Quarter 4'!C406","v":0},{"$f":"'Quarter 4'!D406","v":0}]
[158,"Q4",{"$f":"'Quarter 4'!B407","v":0},{"$f":"'Quarter 4'!C407","v":0},{"$f":"'Quarter 4'!D407","v":0}]
[159,"Q4",{"$f":"'Quarter 4'!B408","v":0},{"$f":"'Quarter 4'!C408","v":0},{"$f":"'Quarter 4'!D408","v":0}]
[160,"Q4",{"$f":"'Quarter 4'!B409","v":0},{"$f":"'Quarter 4'!C409","v":0},{"$f":"'Quarter 4'!D409","v":0}]
[161,"Q4",{"$f":"'Quarter 4'!B410","v":0},{"$f":"'Quarter 4'!C410","v":0},{"$f":"'Quarter 4'!D410","v":0}]
[162,"Q4",{"$f":"'Quarter 4'!B411","v":0},{"$f":"'Quarter 4'!C411","v":0},{"$f":"'Quarter 4'!D411","v":0}]
[163,"Q4",{"$f":"'Quarter 4'!B412","v":0},{"$f":"'Quarter 4'!C412","v":0},{"$f":"'Quarter 4'!D412","v":0}]
[164,"Q4",{"$f":"'Quarter 4'!B413","v":0},{"$f":"'Quarter 4'!C413","v":0},{"$f":"'Quarter 4'!D413","v":0}]
[165,"Q4",{"$f":"'Quarter 4'!B414","v":0},{"$f":"'Quarter 4'!C414","v":0},{"$f":"'Quarter 4'!D414","v":0}]
[166,"Q4",{"$f":"'Quarter 4'!B415","v":0},{"$f":"'Quarter 4'!C415","v":0},{"$f":"'Quarter 4'!D415","v":0}]
[167,"Q4",{"$f":"'Quarter 4'!B416","v":0},{"$f":"'Quarter 4'!C416","v":0},{"$f":"'Quarter 4'!D416","v":0}]
[168,"Q4",{"$f":"'Quarter 4'!B417","v":0},{"$f":"'Quarter 4'!C417","v":0},{"$f":"'Quarter 4'!D417","v":0}]
[169,"Q4",{"$f":"'Quarter 4'!B418","v":0},{"$f":"'Quarter 4'!C418","v":0},{"$f":"'Quarter 4'!D418","v":0}]
[170,"Q4",{"$f":"'Quarter 4'!B419","v":0},{"$f":"'Quarter 4'!C419","v":0},{"$f":"'Quarter 4'!D419","v":0}]
[171,"Q4",{"$f":"'Quarter 4'!B420","v":0},{"$f":"'Quarter 4'!C420","v":0},{"$f":"'Quarter 4'!D420","v":0}]
[172,"Q4",{"$f":"'Quarter 4'!B421","v":0},{"$f":"'Quarter 4'!C421","v":0},{"$f":"'Quarter 4'!D421","v":0}]
[173,"Q4",{"$f":"'Quarter 4'!B422","v":0},{"$f":"'Quarter 4'!C422","v":0},{"$f":"'Quarter 4'!D422","v":0}]
[174,"Q4",{"$f":"'Quarter 4'!B423","v":0},{"$f":"'Quarter 4'!C423","v":0},{"$f":"'Quarter 4'!D423","v":0}]
[175,"Q4",{"$f":"'Quarter 4'!B424","v":0},{"$f":"'Quarter 4'!C424","v":0},{"$f":"'Quarter 4'!D424","v":0}]
[176,"Q4",{"$f":"'Quarter 4'!B425","v":0},{"$f":"'Quarter 4'!C425","v":0},{"$f":"'Quarter 4'!D425","v":0}]
[177,"Q4",{"$f":"'Quarter 4'!B426","v":0},{"$f":"'Quarter 4'!C426","v":0},{"$f":"'Quarter 4'!D426","v":0}]
[178,"Q4",{"$f":"'Quarter 4'!B427","v":0},{"$f":"'Quarter 4'!C427","v":0},{"$f":"'Quarter 4'!D427","v":0}]
[179,"Q4",{"$f":"'Quarter 4'!B428","v":0},{"$f":"'Quarter 4'!C428","v":0},{"$f":"'Quarter 4'!D428","v":0}]
[180,"Q4",{"$f":"'Quarter 4'!B429","v":0},{"$f":"'Quarter 4'!C429","v":0},{"$f":"'Quarter 4'!D429","v":0}]
[181,"Q4",{"$f":"'Quarter 4'!B430","v":0},{"$f":"'Quarter 4'!C430","v":0},{"$f":"'Quarter 4'!D430","v":0}]
[182,"Q4",{"$f":"'Quarter 4'!B431","v":0},{"$f":"'Quarter 4'!C431","v":0},{"$f":"'Quarter 4'!D431","v":0}]
[183,"Q4",{"$f":"'Quarter 4'!B432","v":0},{"$f":"'Quarter 4'!C432","v":0},{"$f":"'Quarter 4'!D432","v":0}]
[184,"Q4",{"$f":"'Quarter 4'!B433","v":0},{"$f":"'Quarter 4'!C433","v":0},{"$f":"'Quarter 4'!D433","v":0}]
[185,"Q4",{"$f":"'Quarter 4'!B434","v":0},{"$f":"'Quarter 4'!C434","v":0},{"$f":"'Quarter 4'!D434","v":0}]
[186,"Q4",{"$f":"'Quarter 4'!B435","v":0},{"$f":"'Quarter 4'!C435","v":0},{"$f":"'Quarter 4'!D435","v":0}]
[187,"Q4",{"$f":"'Quarter 4'!B436","v":0},{"$f":"'Quarter 4'!C436","v":0},{"$f":"'Quarter 4'!D436","v":0}]
[188,"Q4",{"$f":"'Quarter 4'!B437","v":0},{"$f":"'Quarter 4'!C437","v":0},{"$f":"'Quarter 4'!D437","v":0}]
[189,"Q4",{"$f":"'Quarter 4'!B438","v":0},{"$f":"'Quarter 4'!C438","v":0},{"$f":"'Quarter 4'!D438","v":0}]
[190,"Q4",{"$f":"'Quarter 4'!B439","v":0},{"$f":"'Quarter 4'!C439","v":0},{"$f":"'Quarter 4'!D439","v":0}]
[191,"Q4",{"$f":"'Quarter 4'!B440","v":0},{"$f":"'Quarter 4'!C440","v":0},{"$f":"'Quarter 4'!D440","v":0}]
[192,"Q4",{"$f":"'Quarter 4'!B441","v":0},{"$f":"'Quarter 4'!C441","v":0},{"$f":"'Quarter 4'!D441","v":0}]
[193,"Q4",{"$f":"'Quarter 4'!B442","v":0},{"$f":"'Quarter 4'!C442","v":0},{"$f":"'Quarter 4'!D442","v":0}]
[194,"Q4",{"$f":"'Quarter 4'!B443","v":0},{"$f":"'Quarter 4'!C443","v":0},{"$f":"'Quarter 4'!D443","v":0}]
[195,"Q4",{"$f":"'Quarter 4'!B444","v":0},{"$f":"'Quarter 4'!C444","v":0},{"$f":"'Quarter 4'!D444","v":0}]
[196,"Q4",{"$f":"'Quarter 4'!B445","v":0},{"$f":"'Quarter 4'!C445","v":0},{"$f":"'Quarter 4'!D445","v":0}]
[197,"Q4",{"$f":"'Quarter 4'!B446","v":0},{"$f":"'Quarter 4'!C446","v":0},{"$f":"'Quarter 4'!D446","v":0}]
[198,"Q4",{"$f":"'Quarter 4'!B447","v":0},{"$f":"'Quarter 4'!C447","v":0},{"$f":"'Quarter 4'!D447","v":0}]
[199,"Q4",{"$f":"'Quarter 4'!B448","v":0},{"$f":"'Quarter 4'!C448","v":0},{"$f":"'Quarter 4'!D448","v":0}]
[200,"Q4",{"$f":"'Quarter 4'!B449","v":0},{"$f":"'Quarter 4'!C449","v":0},{"$f":"'Quarter 4'!D449","v":0}]
[null,null,null,"Total:",{"$f":"COUNTIF(C1381:C1580,\"*\")","v":0}]
[]
["Completed grant funded projects during this quarter:"]
["M","Quarter","Grant Source","Project Name","Actual Results","Grant Amount"]
[1,"Q1",{"$f":"'Quarter 1'!B455","v":0},{"$f":"'Quarter 1'!C455","v":0},{"$f":"'Quarter 1'!D455","v":0},{"$f":"'Quarter 1'!E455","v":0}]
[2,"Q1",{"$f":"'Quarter 1'!B456","v":0},{"$f":"'Quarter 1'!C456","v":0},{"$f":"'Quarter 1'!D456","v":0},{"$f":"'Quarter 1'!E456","v":0}]
[3,"Q1",{"$f":"'Quarter 1'!B457","v":0},{"$f":"'Quarter 1'!C457","v":0},{"$f":"'Quarter 1'!D457","v":0},{"$f":"'Quarter 1'!E457","v":0}]
[4,"Q1",{"$f":"'Quarter 1'!B458","v":0},{"$f":"'Quarter 1'!C458","v":0},{"$f":"'Quarter 1'!D458","v":0},{"$f":"'Quarter 1'!E458","v":0}]
[5,"Q1",{"$f":"'Quarter 1'!B459","v":0},{"$f":"'Quarter 1'!C459","v":0},{"$f":"'Quarter 1'!D459","v":0},{"$f":"'Quarter 1'!E459","v":0}]
[6,"Q1",{"$f":"'Quarter 1'!B460","v":0},{"$f":"'Quarter 1'!C460","v":0},{"$f":"'Quarter 1'!D460","v":0},{"$f":"'Quarter 1'!E460","v":0}]
[7,"Q1",{"$f":"'Quarter 1'!B461","v":0},{"$f":"'Quarter 1'!C461","v":0},{"$f":"'Quarter 1'!D461","v":0},{"$f":"'Quarter 1'!E461","v":0}]
[8,"Q1",{"$f":"'Quarter 1'!B462","v":0},{"$f":"'Quarter 1'!C462","v":0},{"$f":"'Quarter 1'!D462","v":0},{"$f":"'Quarter 1'!E462","v":0}]
[9,"Q1",{"$f":"'Quarter 1'!B463","v":0},{"$f":"'Quarter 1'!C463","v":0},{"$f":"'Quarter 1'!D463","v":0},{"$f":"'Quarter 1'!E463","v":0}]
[10,"Q1",{"$f":"'Quarter 1'!B464","v":0},{"$f":"'Quarter 1'!C464","v":0},{"$f":"'Quarter 1'!D464","v":0},{"$f":"'Quarter 1'!E464","v":0}]
[11,"Q1",{"$f":"'Quarter 1'!B465","v":0},{"$f":"'Quarter 1'!C465","v":0},{"$f":"'Quarter 1'!D465","v":0},{"$f":"'Quarter 1'!E465","v":0}]
[12,"Q1",{"$f":"'Quarter 1'!B466","v":0},{"$f":"'Quarter 1'!C466","v":0},{"$f":"'Quarter 1'!D466","v":0},{"$f":"'Quarter 1'!E466","v":0}]
[13,"Q1",{"$f":"'Quarter 1'!B467","v":0},{"$f":"'Quarter 1'!C467","v":0},{"$f":"'Quarter 1'!D467","v":0},{"$f":"'Quarter 1'!E467","v":0}]
[14,"Q1",{"$f":"'Quarter 1'!B468","v":0},{"$f":"'Quarter 1'!C468","v":0},{"$f":"'Quarter 1'!D468","v":0},{"$f":"'Quarter 1'!E468","v":0}]
[15,"Q1",{"$f":"'Quarter 1'!B469","v":0},{"$f":"'Quarter 1'!C469","v":0},{"$f":"'Quarter 1'!D469","v":0},{"$f":"'Quarter 1'!E469","v":0}]
[16,"Q1",{"$f":"'Quarter 1'!B470","v":0},{"$f":"'Quarter 1'!C470","v":0},{"$f":"'Quarter 1'!D470","v":0},{"$f":"'Quarter 1'!E470","v":0}]
[17,"Q1",{"$f":"'Quarter 1'!B471","v":0},{"$f":"'Quarter 1'!C471","v":0},{"$f":"'Quarter 1'!D471","v":0},{"$f":"'Quarter 1'!E471","v":0}]
[18,"Q1",{"$f":"'Quarter 1'!B472","v":0},{"$f":"'Quarter 1'!C472","v":0},{"$f":"'Quarter 1'!D472","v":0},{"$f":"'Quarter 1'!E472","v":0}]
[19,"Q1",{"$f":"'Quarter 1'!B473","v":0},{"$f":"'Quarter 1'!C473","v":0},{"$f":"'Quarter 1'!D473","v":0},{"$f":"'Quarter 1'!E473","v":0}]
[20,"Q1",{"$f":"'Quarter 1'!B474","v":0},{"$f":"'Quarter 1'!C474","v":0},{"$f":"'Quarter 1'!D474","v":0},{"$f":"'Quarter 1'!E474","v":0}]
[21,"Q1",{"$f":"'Quarter 1'!B475","v":0},{"$f":"'Quarter 1'!C475","v":0},{"$f":"'Quarter 1'!D475","v":0},{"$f":"'Quarter 1'!E475","v":0}]
[22,"Q1",{"$f":"'Quarter 1'!B476","v":0},{"$f":"'Quarter 1'!C476","v":0},{"$f":"'Quarter 1'!D476","v":0},{"$f":"'Quarter 1'!E476","v":0}]
[23,"Q1",{"$f":"'Quarter 1'!B477","v":0},{"$f":"'Quarter 1'!C477","v":0},{"$f":"'Quarter 1'!D477","v":0},{"$f":"'Quarter 1'!E477","v":0}]
[24,"Q1",{"$f":"'Quarter 1'!B478","v":0},{"$f":"'Quarter 1'!C478","v":0},{"$f":"'Quarter 1'!D478","v":0},{"$f":"'Quarter 1'!E478","v":0}]
[25,"Q1",{"$f":"'Quarter 1'!B479","v":0},{"$f":"'Quarter 1'!C479","v":0},{"$f":"'Quarter 1'!D479","v":0},{"$f":"'Quarter 1'!E479","v":0}]
[26,"Q1",{"$f":"'Quarter 1'!B480","v":0},{"$f":"'Quarter 1'!C480","v":0},{"$f":"'Quarter 1'!D480","v":0},{"$f":"'Quarter 1'!E480","v":0}]
[27,"Q1",{"$f":"'Quarter 1'!B481","v":0},{"$f":"'Quarter 1'!C481","v":0},{"$f":"'Quarter 1'!D481","v":0},{"$f":"'Quarter 1'!E481","v":0}]
[28,"Q1",{"$f":"'Quarter 1'!B482","v":0},{"$f":"'Quarter 1'!C482","v":0},{"$f":"'Quarter 1'!D482","v":0},{"$f":"'Quarter 1'!E482","v":0}]
[29,"Q1",{"$f":"'Quarter 1'!B483","v":0},{"$f":"'Quarter 1'!C483","v":0},{"$f":"'Quarter 1'!D483","v":0},{"$f":"'Quarter 1'!E483","v":0}]
[30,"Q1",{"$f":"'Quarter 1'!B484","v":0},{"$f":"'Quarter 1'!C484","v":0},{"$f":"'Quarter 1'!D484","v":0},{"$f":"'Quarter 1'!E484","v":0}]
[31,"Q2",{"$f":"'Quarter 2'!B455","v":0},{"$f":"'Quarter 2'!C455","v":0},{"$f":"'Quarter 2'!D455","v":0},{"$f":"'Quarter 2'!E455","v":0}]
[32,"Q2",{"$f":"'Quarter 2'!B456","v":0},{"$f":"'Quarter 2'!C456","v":0},{"$f":"'Quarter 2'!D456","v":0},{"$f":"'Quarter 2'!E456","v":0}]
[33,"Q2",{"$f":"'Quarter 2'!B457","v":0},{"$f":"'Quarter 2'!C457","v":0},{"$f":"'Quarter 2'!D457","v":0},{"$f":"'Quarter 2'!E457","v":0}]
[34,"Q2",{"$f":"'Quarter 2'!B458","v":0},{"$f":"'Quarter 2'!C458","v":0},{"$f":"'Quarter 2'!D458","v":0},{"$f":"'Quarter 2'!E458","v":0}]
[35,"Q2",{"$f":"'Quarter 2'!B459","v":0},{"$f":"'Quarter 2'!C459","v":0},{"$f":"'Quarter 2'!D459","v":0},{"$f":"'Quarter 2'!E459","v":0}]
[36,"Q2",{"$f":"'Quarter 2'!B460","v":0},{"$f":"'Quarter 2'!C460","v":0},{"$f":"'Quarter 2'!D460","v":0},{"$f":"'Quarter 2'!E460","v":0}]
[37,"Q2",{"$f":"'Quarter 2'!B461","v":0},{"$f":"'Quarter 2'!C461","v":0},{"$f":"'Quarter 2'!D461","v":0},{"$f":"'Quarter 2'!E461","v":0}]
[38,"Q2",{"$f":"'Quarter 2'!B462","v":0},{"$f":"'Quarter 2'!C462","v":0},{"$f":"'Quarter 2'!D462","v":0},{"$f":"'Quarter 2'!E462","v":0}]
[39,"Q2",{"$f":"'Quarter 2'!B463","v":0},{"$f":"'Quarter 2'!C463","v":0},{"$f":"'Quarter 2'!D463","v":0},{"$f":"'Quarter 2'!E463","v":0}]
[40,"Q2",{"$f":"'Quarter 2'!B464","v":0},{"$f":"'Quarter 2'!C464","v":0},{"$f":"'Quarter 2'!D464","v":0},{"$f":"'Quarter 2'!E464","v":0}]
[41,"Q2",{"$f":"'Quarter 2'!B465","v":0},{"$f":"'Quarter 2'!C465","v":0},{"$f":"'Quarter 2'!D465","v":0},{"$f":"'Quarter 2'!E465","v":0}]
[42,"Q2",{"$f":"'Quarter 2'!B466","v":0},{"$f":"'Quarter 2'!C466","v":0},{"$f":"'Quarter 2'!D466","v":0},{"$f":"'Quarter 2'!E466","v":0}]
[43,"Q2",{"$f":"'Quarter 2'!B467","v":0},{"$f":"'Quarter 2'!C467","v":0},{"$f":"'Quarter 2'!D467","v":0},{"$f":"'Quarter 2'!E467","v":0}]
[44,"Q2",{"$f":"'Quarter 2'!B468","v":0},{"$f":"'Quarter 2'!C468","v":0},{"$f":"'Quarter 2'!D468","v":0},{"$f":"'Quarter 2'!E468","v":0}]
[45,"Q2",{"$f":"'Quarter 2'!B469","v":0},{"$f":"'Quarter 2'!C469","v":0},{"$f":"'Quarter 2'!D469","v":0},{"$f":"'Quarter 2'!E469","v":0}]
[46,"Q2",{"$f":"'Quarter 2'!B470","v":0},{"$f":"'Quarter 2'!C470","v":0},{"$f":"'Quarter 2'!D470","v":0},{"$f":"'Quarter 2'!E470","v":0}]
[47,"Q2",{"$f":"'Quarter 2'!B471","v":0},{"$f":"'Quarter 2'!C471","v":0},{"$f":"'Quarter 2'!D471","v":0},{"$f":"'Quarter 2'!E471","v":0}]
[48,"Q2",{"$f":"'Quarter 2'!B472","v":0},{"$f":"'Quarter 2'!C472","v":0},{"$f":"'Quarter 2'!D472","v":0},{"$f":"'Quarter 2'!E472","v":0}]
[49,"Q2",{"$f":"'Quarter 2'!B473","v":0},{"$f":"'Quarter 2'!C473","v":0},{"$f":"'Quarter 2'!D473","v":0},{"$f":"'Quarter 2'!E473","v":0}]
[50,"Q2",{"$f":"'Quarter 2'!B474","v":0},{"$f":"'Quarter 2'!C474","v":0},{"$f":"'Quarter 2'!D474","v":0},{"$f":"'Quarter 2'!E474","v":0}]
[51,"Q2",{"$f":"'Quarter 2'!B475","v":0},{"$f":"'Quarter 2'!C475","v":0},{"$f":"'Quarter 2'!D475","v":0},{"$f":"'Quarter 2'!E475","v":0}]
[52,"Q2",{"$f":"'Quarter 2'!B476","v":0},{"$f":"'Quarter 2'!C476","v":0},{"$f":"'Quarter 2'!D476","v":0},{"$f":"'Quarter 2'!E476","v":0}]
[53,"Q2",{"$f":"'Quarter 2'!B477","v":0},{"$f":"'Quarter 2'!C477","v":0},{"$f":"'Quarter 2'!D477","v":0},{"$f":"'Quarter 2'!E477","v":0}]
[54,"Q2",{"$f":"'Quarter 2'!B478","v":0},{"$f":"'Quarter 2'!C478","v":0},{"$f":"'Quarter 2'!D478","v":0},{"$f":"'Quarter 2'!E478","v":0}]
[55,"Q2",{"$f":"'Quarter 2'!B479","v":0},{"$f":"'Quarter 2'!C479","v":0},{"$f":"'Quarter 2'!D479","v":0},{"$f":"'Quarter 2'!E479","v":0}]
[56,"Q2",{"$f":"'Quarter 2'!B480","v":0},{"$f":"'Quarter 2'!C480","v":0},{"$f":"'Quarter 2'!D480","v":0},{"$f":"'Quarter 2'!E480","v":0}]
[57,"Q2",{"$f":"'Quarter 2'!B481","v":0},{"$f":"'Quarter 2'!C481","v":0},{"$f":"'Quarter 2'!D481","v":0},{"$f":"'Quarter 2'!E481","v":0}]
[58,"Q2",{"$f":"'Quarter 2'!B482","v":0},{"$f":"'Quarter 2'!C482","v":0},{"$f":"'Quarter 2'!D482","v":0},{"$f":"'Quarter 2'!E482","v":0}]
[59,"Q2",{"$f":"'Quarter 2'!B483","v":0},{"$f":"'Quarter 2'!C483","v":0},{"$f":"'Quarter 2'!D483","v":0},{"$f":"'Quarter 2'!E483","v":0}]
[60,"Q2",{"$f":"'Quarter 2'!B484","v":0},{"$f":"'Quarter 2'!C484","v":0},{"$f":"'Quarter 2'!D484","v":0},{"$f":"'Quarter 2'!E484","v":0}]
[61,"Q3",{"$f":"'Quarter 3'!B455","v":0},{"$f":"'Quarter 3'!C455","v":0},{"$f":"'Quarter 3'!D455","v":0},{"$f":"'Quarter 3'!E455","v":0}]
[62,"Q3",{"$f":"'Quarter 3'!B456","v":0},{"$f":"'Quarter 3'!C456","v":0},{"$f":"'Quarter 3'!D456","v":0},{"$f":"'Quarter 3'!E456","v":0}]
[63,"Q3",{"$f":"'Quarter 3'!B457","v":0},{"$f":"'Quarter 3'!C457","v":0},{"$f":"'Quarter 3'!D457","v":0},{"$f":"'Quarter 3'!E457","v":0}]
[64,"Q3",{"$f":"'Quarter 3'!B458","v":0},{"$f":"'Quarter 3'!C458","v":0},{"$f":"'Quarter 3'!D458","v":0},{"$f":"'Quarter 3'!E458","v":0}]
[65,"Q3",{"$f":"'Quarter 3'!B459","v":0},{"$f":"'Quarter 3'!C459","v":0},{"$f":"'Quarter 3'!D459","v":0},{"$f":"'Quarter 3'!E459","v":0}]
[66,"Q3",{"$f":"'Quarter 3'!B460","v":0},{"$f":"'Quarter 3'!C460","v":0},{"$f":"'Quarter 3'!D460","v":0},{"$f":"'Quarter 3'!E460","v":0}]
[67,"Q3",{"$f":"'Quarter 3'!B461","v":0},{"$f":"'Quarter 3'!C461","v":0},{"$f":"'Quarter 3'!D461","v":0},{"$f":"'Quarter 3'!E461","v":0}]
[68,"Q3",{"$f":"'Quarter 3'!B462","v":0},{"$f":"'Quarter 3'!C462","v":0},{"$f":"'Quarter 3'!D462","v":0},{"$f":"'Quarter 3'!E462","v":0}]
[69,"Q3",{"$f":"'Quarter 3'!B463","v":0},{"$f":"'Quarter 3'!C463","v":0},{"$f":"'Quarter 3'!D463","v":0},{"$f":"'Quarter 3'!E463","v":0}]
[70,"Q3",{"$f":"'Quarter 3'!B464","v":0},{"$f":"'Quarter 3'!C464","v":0},{"$f":"'Quarter 3'!D464","v":0},{"$f":"'Quarter 3'!E464","v":0}]
[71,"Q3",{"$f":"'Quarter 3'!B465","v":0},{"$f":"'Quarter 3'!C465","v":0},{"$f":"'Quarter 3'!D465","v":0},{"$f":"'Quarter 3'!E465","v":0}]
[72,"Q3",{"$f":"'Quarter 3'!B466","v":0},{"$f":"'Quarter 3'!C466","v":0},{"$f":"'Quarter 3'!D466","v":0},{"$f":"'Quarter 3'!E466","v":0}]
[73,"Q3",{"$f":"'Quarter 3'!B467","v":0},{"$f":"'Quarter 3'!C467","v":0},{"$f":"'Quarter 3'!D467","v":0},{"$f":"'Quarter 3'!E467","v":0}]
[74,"Q3",{"$f":"'Quarter 3'!B468","v":0},{"$f":"'Quarter 3'!C468","v":0},{"$f":"'Quarter 3'!D468","v":0},{"$f":"'Quarter 3'!E468","v":0}]
[75,"Q3",{"$f":"'Quarter 3'!B469","v":0},{"$f":"'Quarter 3'!C469","v":0},{"$f":"'Quarter 3'!D469","v":0},{"$f":"'Quarter 3'!E469","v":0}]
[76,"Q3",{"$f":"'Quarter 3'!B470","v":0},{"$f":"'Quarter 3'!C470","v":0},{"$f":"'Quarter 3'!D470","v":0},{"$f":"'Quarter 3'!E470","v":0}]
[77,"Q3",{"$f":"'Quarter 3'!B471","v":0},{"$f":"'Quarter 3'!C471","v":0},{"$f":"'Quarter 3'!D471","v":0},{"$f":"'Quarter 3'!E471","v":0}]
[78,"Q3",{"$f":"'Quarter 3'!B472","v":0},{"$f":"'Quarter 3'!C472","v":0},{"$f":"'Quarter 3'!D472","v":0},{"$f":"'Quarter 3'!E472","v":0}]
[79,"Q3",{"$f":"'Quarter 3'!B473","v":0},{"$f":"'Quarter 3'!C473","v":0},{"$f":"'Quarter 3'!D473","v":0},{"$f":"'Quarter 3'!E473","v":0}]
[80,"Q3",{"$f":"'Quarter 3'!B474","v":0},{"$f":"'Quarter 3'!C474","v":0},{"$f":"'Quarter 3'!D474","v":0},{"$f":"'Quarter 3'!E474","v":0}]
[81,"Q3",{"$f":"'Quarter 3'!B475","v":0},{"$f":"'Quarter 3'!C475","v":0},{"$f":"'Quarter 3'!D475","v":0},{"$f":"'Quarter 3'!E475","v":0}]
[82,"Q3",{"$f":"'Quarter 3'!B476","v":0},{"$f":"'Quarter 3'!C476","v":0},{"$f":"'Quarter 3'!D476","v":0},{"$f":"'Quarter 3'!E476","v":0}]
[83,"Q3",{"$f":"'Quarter 3'!B477","v":0},{"$f":"'Quarter 3'!C477","v":0},{"$f":"'Quarter 3'!D477","v":0},{"$f":"'Quarter 3'!E477","v":0}]
[84,"Q3",{"$f":"'Quarter 3'!B478","v":0},{"$f":"'Quarter 3'!C478","v":0},{"$f":"'Quarter 3'!D478","v":0},{"$f":"'Quarter 3'!E478","v":0}]
[85,"Q3",{"$f":"'Quarter 3'!B479","v":0},{"$f":"'Quarter 3'!C479","v":0},{"$f":"'Quarter 3'!D479","v":0},{"$f":"'Quarter 3'!E479","v":0}]
[86,"Q3",{"$f":"'Quarter 3'!B480","v":0},{"$f":"'Quarter 3'!C480","v":0},{"$f":"'Quarter 3'!D480","v":0},{"$f":"'Quarter 3'!E480","v":0}]
[87,"Q3",{"$f":"'Quarter 3'!B481","v":0},{"$f":"'Quarter 3'!C481","v":0},{"$f":"'Quarter 3'!D481","v":0},{"$f":"'Quarter 3'!E481","v":0}]
[88,"Q3",{"$f":"'Quarter 3'!B482","v":0},{"$f":"'Quarter 3'!C482","v":0},{"$f":"'Quarter 3'!D482","v":0},{"$f":"'Quarter 3'!E482","v":0}]
[89,"Q3",{"$f":"'Quarter 3'!B483","v":0},{"$f":"'Quarter 3'!C483","v":0},{"$f":"'Quarter 3'!D483","v":0},{"$f":"'Quarter 3'!E483","v":0}]
[90,"Q3",{"$f":"'Quarter 3'!B484","v":0},{"$f":"'Quarter 3'!C484","v":0},{"$f":"'Quarter 3'!D484","v":0},{"$f":"'Quarter 3'!E484","v":0}]
[91,"Q4",{"$f":"'Quarter 4'!B455","v":0},{"$f":"'Quarter 4'!C455","v":0},{"$f":"'Quarter 4'!D455","v":0},{"$f":"'Quarter 4'!E455","v":0}]
[92,"Q4",{"$f":"'Quarter 4'!B456","v":0},{"$f":"'Quarter 4'!C456","v":0},{"$f":"'Quarter 4'!D456","v":0},{"$f":"'Quarter 4'!E456","v":0}]
[93,"Q4",{"$f":"'Quarter 4'!B457","v":0},{"$f":"'Quarter 4'!C457","v":0},{"$f":"'Quarter 4'!D457","v":0},{"$f":"'Quarter 4'!E457","v":0}]
[94,"Q4",{"$f":"'Quarter 4'!B458","v":0},{"$f":"'Quarter 4'!C458","v":0},{"$f":"'Quarter 4'!D458","v":0},{"$f":"'Quarter 4'!E458","v":0}]
[95,"Q4",{"$f":"'Quarter 4'!B459","v":0},{"$f":"'Quarter 4'!C459","v":0},{"$f":"'Quarter 4'!D459","v":0},{"$f":"'Quarter 4'!E459","v":0}]
[96,"Q4",{"$f":"'Quarter 4'!B460","v":0},{"$f":"'Quarter 4'!C460","v":0},{"$f":"'Quarter 4'!D460","v":0},{"$f":"'Quarter 4'!E460","v":0}]
[97,"Q4",{"$f":"'Quarter 4'!B461","v":0},{"$f":"'Quarter 4'!C461","v":0},{"$f":"'Quarter 4'!D461","v":0},{"$f":"'Quarter 4'!E461","v":0}]
[98,"Q4",{"$f":"'Quarter 4'!B462","v":0},{"$f":"'Quarter 4'!C462","v":0},{"$f":"'Quarter 4'!D462","v":0},{"$f":"'Quarter 4'!E462","v":0}]
[99,"Q4",{"$f":"'Quarter 4'!B463","v":0},{"$f":"'Quarter 4'!C463","v":0},{"$f":"'Quarter 4'!D463","v":0},{"$f":"'Quarter 4'!E463","v":0}]
[100,"Q4",{"$f":"'Quarter 4'!B464","v":0},{"$f":"'Quarter 4'!C464","v":0},{"$f":"'Quarter 4'!D464","v":0},{"$f":"'Quarter 4'!E464","v":0}]
[101,"Q4",{"$f":"'Quarter 4'!B465","v":0},{"$f":"'Quarter 4'!C465","v":0},{"$f":"'Quarter 4'!D465","v":0},{"$f":"'Quarter 4'!E465","v":0}]
[102,"Q4",{"$f":"'Quarter 4'!B466","v":0},{"$f":"'Quarter 4'!C466","v":0},{"$f":"'Quarter 4'!D466","v":0},{"$f":"'Quarter 4'!E466","v":0}]
[103,"Q4",{"$f":"'Quarter 4'!B467","v":0},{"$f":"'Quarter 4'!C467","v":0},{"$f":"'Quarter 4'!D467","v":0},{"$f":"'Quarter 4'!E467","v":0}]
[104,"Q4",{"$f":"'Quarter 4'!B468","v":0},{"$f":"'Quarter 4'!C468","v":0},{"$f":"'Quarter 4'!D468","v":0},{"$f":"'Quarter 4'!E468","v":0}]
[105,"Q4",{"$f":"'Quarter 4'!B469","v":0},{"$f":"'Quarter 4'!C469","v":0},{"$f":"'Quarter 4'!D469","v":0},{"$f":"'Quarter 4'!E469","v":0}]
[106,"Q4",{"$f":"'Quarter 4'!B470","v":0},{"$f":"'Quarter 4'!C470","v":0},{"$f":"'Quarter 4'!D470","v":0},{"$f":"'Quarter 4'!E470","v":0}]
[107,"Q4",{"$f":"'Quarter 4'!B471","v":0},{"$f":"'Quarter 4'!C471","v":0},{"$f":"'Quarter 4'!D471","v":0},{"$f":"'Quarter 4'!E471","v":0}]
[108,"Q4",{"$f":"'Quarter 4'!B472","v":0},{"$f":"'Quarter 4'!C472","v":0},{"$f":"'Quarter 4'!D472","v":0},{"$f":"'Quarter 4'!E472","v":0}]
[109,"Q4",{"$f":"'Quarter 4'!B473","v":0},{"$f":"'Quarter 4'!C473","v":0},{"$f":"'Quarter 4'!D473","v":0},{"$f":"'Quarter 4'!E473","v":0}]
[110,"Q4",{"$f":"'Quarter 4'!B474","v":0},{"$f":"'Quarter 4'!C474","v":0},{"$f":"'Quarter 4'!D474","v":0},{"$f":"'Quarter 4'!E474","v":0}]
[111,"Q4",{"$f":"'Quarter 4'!B475","v":0},{"$f":"'Quarter 4'!C475","v":0},{"$f":"'Quarter 4'!D475","v":0},{"$f":"'Quarter 4'!E475","v":0}]
[112,"Q4",{"$f":"'Quarter 4'!B476","v":0},{"$f":"'Quarter 4'!C476","v":0},{"$f":"'Quarter 4'!D476","v":0},{"$f":"'Quarter 4'!E476","v":0}]
[113,"Q4",{"$f":"'Quarter 4'!B477","v":0},{"$f":"'Quarter 4'!C477","v":0},{"$f":"'Quarter 4'!D477","v":0},{"$f":"'Quarter 4'!E477","v":0}]
[114,"Q4",{"$f":"'Quarter 4'!B478","v":0},{"$f":"'Quarter 4'!C478","v":0},{"$f":"'Quarter 4'!D478","v":0},{"$f":"'Quarter 4'!E478","v":0}]
[115,"Q4",{"$f":"'Quarter 4'!B479","v":0},{"$f":"'Quarter 4'!C479","v":0},{"$f":"'Quarter 4'!D479","v":0},{"$f":"'Quarter 4'!E479","v":0}]
[116,"Q4",{"$f":"'Quarter 4'!B480","v":0},{"$f":"'Quarter 4'!C480","v":0},{"$f":"'Quarter 4'!D480","v":0},{"$f":"'Quarter 4'!E480","v":0}]
[117,"Q4",{"$f":"'Quarter 4'!B481","v":0},{"$f":"'Quarter 4'!C481","v":0},{"$f":"'Quarter 4'!D481","v":0},{"$f":"'Quarter 4'!E481","v":0}]
[118,"Q4",{"$f":"'Quarter 4'!B482","v":0},{"$f":"'Quarter 4'!C482","v":0},{"$f":"'Quarter 4'!D482","v":0},{"$f":"'Quarter 4'!E482","v":0}]
[119,"Q4",{"$f":"'Quarter 4'!B483","v":0},{"$f":"'Quarter 4'!C483","v":0},{"$f":"'Quarter 4'!D483","v":0},{"$f":"'Quarter 4'!E483","v":0}]
[120,"Q4",{"$f":"'Quarter 4'!B484","v":0},{"$f":"'Quarter 4'!C484","v":0},{"$f":"'Quarter 4'!D484","v":0},{"$f":"'Quarter 4'!E484","v":0}]
[null,null,null,null,"Total:",{"$f":"SUM(F1585:F1704)","v":0}]
[]
[]
[]
[]
[]
[]
["Trainings Presented (TP)",null,null,null,"Approximate Time Commitment:",null,{"$f":"('Quarter 1'!F491+'Quarter 2'!F491+'Quarter 3'!F491+'Quarter 4'!F491)/4","v":0},"%"]
[]
["Trainings, lessons or presentations delivered. (Provided to project partners in classroom, field or other venue):"]
["N","Quarter","Lesson or Presentation Title","Event Location / School name","Appx. Number in Attendance"]
[1,"Q1",{"$f":"'Quarter 1'!B495","v":0},{"$f":"'Quarter 1'!C495","v":0},{"$f":"'Quarter 1'!D495","v":0}]
[2,"Q1",{"$f":"'Quarter 1'!B496","v":0},{"$f":"'Quarter 1'!C496","v":0},{"$f":"'Quarter 1'!D496","v":0}]
[3,"Q1",{"$f":"'Quarter 1'!B497","v":0},{"$f":"'Quarter 1'!C497","v":0},{"$f":"'Quarter 1'!D497","v":0}]
[4,"Q1",{"$f":"'Quarter 1'!B498","v":0},{"$f":"'Quarter 1'!C498","v":0},{"$f":"'Quarter 1'!D498","v":0}]
[5,"Q1",{"$f":"'Quarter 1'!B499","v":0},{"$f":"'Quarter 1'!C499","v":0},{"$f":"'Quarter 1'!D499","v":0}]
[6,"Q1",{"$f":"'Quarter 1'!B500","v":0},{"$f":"'Quarter 1'!C500","v":0},{"$f":"'Quarter 1'!D500","v":0}]
[7,"Q1",{"$f":"'Quarter 1'!B501","v":0},{"$f":"'Quarter 1'!C501","v":0},{"$f":"'Quarter 1'!D501","v":0}]
[8,"Q1",{"$f":"'Quarter 1'!B502","v":0},{"$f":"'Quarter 1'!C502","v":0},{"$f":"'Quarter 1'!D502","v":0}]
[9,"Q1",{"$f":"'Quarter 1'!B503","v":0},{"$f":"'Quarter 1'!C503","v":0},{"$f":"'Quarter 1'!D503","v":0}]
[10,"Q1",{"$f":"'Quarter 1'!B504","v":0},{"$f":"'Quarter 1'!C504","v":0},{"$f":"'Quarter 1'!D504","v":0}]
[11,"Q1",{"$f":"'Quarter 1'!B505","v":0},{"$f":"'Quarter 1'!C505","v":0},{"$f":"'Quarter 1'!D505","v":0}]
[12,"Q1",{"$f":"'Quarter 1'!B506","v":0},{"$f":"'Quarter 1'!C506","v":0},{"$f":"'Quarter 1'!D506","v":0}]
[13,"Q1",{"$f":"'Quarter 1'!B507","v":0},{"$f":"'Quarter 1'!C507","v":0},{"$f":"'Quarter 1'!D507","v":0}]
[14,"Q1",{"$f":"'Quarter 1'!B508","v":0},{"$f":"'Quarter 1'!C508","v":0},{"$f":"'Quarter 1'!D508","v":0}]
[15,"Q1",{"$f":"'Quarter 1'!B509","v":0},{"$f":"'Quarter 1'!C509","v":0},{"$f":"'Quarter 1'!D509","v":0}]
[16,"Q1",{"$f":"'Quarter 1'!B510","v":0},{"$f":"'Quarter 1'!C510","v":0},{"$f":"'Quarter 1'!D510","v":0}]
[17,"Q1",{"$f":"'Quarter 1'!B511","v":0},{"$f":"'Quarter 1'!C511","v":0},{"$f":"'Quarter 1'!D511","v":0}]
[18,"Q1",{"$f":"'Quarter 1'!B512","v":0},{"$f":"'Quarter 1'!C512","v":0},{"$f":"'Quarter 1'!D512","v":0}]
[19,"Q1",{"$f":"'Quarter 1'!B513","v":0},{"$f":"'Quarter 1'!C513","v":0},{"$f":"'Quarter 1'!D513","v":0}]
[20,"Q1",{"$f":"'Quarter 1'!B514","v":0},{"$f":"'Quarter 1'!C514","v":0},{"$f":"'Quarter 1'!D514","v":0}]
[21,"Q1",{"$f":"'Quarter 1'!B515","v":0},{"$f":"'Quarter 1'!C515","v":0},{"$f":"'Quarter 1'!D515","v":0}]
[22,"Q1",{"$f":"'Quarter 1'!B516","v":0},{"$f":"'Quarter 1'!C516","v":0},{"$f":"'Quarter 1'!D516","v":0}]
[23,"Q1",{"$f":"'Quarter 1'!B517","v":0},{"$f":"'Quarter 1'!C517","v":0},{"$f":"'Quarter 1'!D517","v":0}]
[24,"Q1",{"$f":"'Quarter 1'!B518","v":0},{"$f":"'Quarter 1'!C518","v":0},{"$f":"'Quarter 1'!D518","v":0}]
[25,"Q1",{"$f":"'Quarter 1'!B519","v":0},{"$f":"'Quarter 1'!C519","v":0},{"$f":"'Quarter 1'!D519","v":0}]
[26,"Q1",{"$f":"'Quarter 1'!B520","v":0},{"$f":"'Quarter 1'!C520","v":0},{"$f":"'Quarter 1'!D520","v":0}]
[27,"Q1",{"$f":"'Quarter 1'!B521","v":0},{"$f":"'Quarter 1'!C521","v":0},{"$f":"'Quarter 1'!D521","v":0}]
[28,"Q1",{"$f":"'Quarter 1'!B522","v":0},{"$f":"'Quarter 1'!C522","v":0},{"$f":"'Quarter 1'!D522","v":0}]
[29,"Q1",{"$f":"'Quarter 1'!B523","v":0},{"$f":"'Quarter 1'!C523","v":0},{"$f":"'Quarter 1'!D523","v":0}]
[30,"Q1",{"$f":"'Quarter 1'!B524","v":0},{"$f":"'Quarter 1'!C524","v":0},{"$f":"'Quarter 1'!D524","v":0}]
[31,"Q2",{"$f":"'Quarter 2'!B495","v":0},{"$f":"'Quarter 2'!C495","v":0},{"$f":"'Quarter 2'!D495","v":0}]
[32,"Q2",{"$f":"'Quarter 2'!B496","v":0},{"$f":"'Quarter 2'!C496","v":0},{"$f":"'Quarter 2'!D496","v":0}]
[33,"Q2",{"$f":"'Quarter 2'!B497","v":0},{"$f":"'Quarter 2'!C497","v":0},{"$f":"'Quarter 2'!D497","v":0}]
[34,"Q2",{"$f":"'Quarter 2'!B498","v":0},{"$f":"'Quarter 2'!C498","v":0},{"$f":"'Quarter 2'!D498","v":0}]
[35,"Q2",{"$f":"'Quarter 2'!B499","v":0},{"$f":"'Quarter 2'!C499","v":0},{"$f":"'Quarter 2'!D499","v":0}]
[36,"Q2",{"$f":"'Quarter 2'!B500","v":0},{"$f":"'Quarter 2'!C500","v":0},{"$f":"'Quarter 2'!D500","v":0}]
[37,"Q2",{"$f":"'Quarter 2'!B501","v":0},{"$f":"'Quarter 2'!C501","v":0},{"$f":"'Quarter 2'!D501","v":0}]
[38,"Q2",{"$f":"'Quarter 2'!B502","v":0},{"$f":"'Quarter 2'!C502","v":0},{"$f":"'Quarter 2'!D502","v":0}]
[39,"Q2",{"$f":"'Quarter 2'!B503","v":0},{"$f":"'Quarter 2'!C503","v":0},{"$f":"'Quarter 2'!D503","v":0}]
[40,"Q2",{"$f":"'Quarter 2'!B504","v":0},{"$f":"'Quarter 2'!C504","v":0},{"$f":"'Quarter 2'!D504","v":0}]
[41,"Q2",{"$f":"'Quarter 2'!B505","v":0},{"$f":"'Quarter 2'!C505","v":0},{"$f":"'Quarter 2'!D505","v":0}]
[42,"Q2",{"$f":"'Quarter 2'!B506","v":0},{"$f":"'Quarter 2'!C506","v":0},{"$f":"'Quarter 2'!D506","v":0}]
[43,"Q2",{"$f":"'Quarter 2'!B507","v":0},{"$f":"'Quarter 2'!C507","v":0},{"$f":"'Quarter 2'!D507","v":0}]
[44,"Q2",{"$f":"'Quarter 2'!B508","v":0},{"$f":"'Quarter 2'!C508","v":0},{"$f":"'Quarter 2'!D508","v":0}]
[45,"Q2",{"$f":"'Quarter 2'!B509","v":0},{"$f":"'Quarter 2'!C509","v":0},{"$f":"'Quarter 2'!D509","v":0}]
[46,"Q2",{"$f":"'Quarter 2'!B510","v":0},{"$f":"'Quarter 2'!C510","v":0},{"$f":"'Quarter 2'!D510","v":0}]
[47,"Q2",{"$f":"'Quarter 2'!B511","v":0},{"$f":"'Quarter 2'!C511","v":0},{"$f":"'Quarter 2'!D511","v":0}]
[48,"Q2",{"$f":"'Quarter 2'!B512","v":0},{"$f":"'Quarter 2'!C512","v":0},{"$f":"'Quarter 2'!D512","v":0}]
[49,"Q2",{"$f":"'Quarter 2'!B513","v":0},{"$f":"'Quarter 2'!C513","v":0},{"$f":"'Quarter 2'!D513","v":0}]
[50,"Q2",{"$f":"'Quarter 2'!B514","v":0},{"$f":"'Quarter 2'!C514","v":0},{"$f":"'Quarter 2'!D514","v":0}]
[51,"Q2",{"$f":"'Quarter 2'!B515","v":0},{"$f":"'Quarter 2'!C515","v":0},{"$f":"'Quarter 2'!D515","v":0}]
[52,"Q2",{"$f":"'Quarter 2'!B516","v":0},{"$f":"'Quarter 2'!C516","v":0},{"$f":"'Quarter 2'!D516","v":0}]
[53,"Q2",{"$f":"'Quarter 2'!B517","v":0},{"$f":"'Quarter 2'!C517","v":0},{"$f":"'Quarter 2'!D517","v":0}]
[54,"Q2",{"$f":"'Quarter 2'!B518","v":0},{"$f":"'Quarter 2'!C518","v":0},{"$f":"'Quarter 2'!D518","v":0}]
[55,"Q2",{"$f":"'Quarter 2'!B519","v":0},{"$f":"'Quarter 2'!C519","v":0},{"$f":"'Quarter 2'!D519","v":0}]
[56,"Q2",{"$f":"'Quarter 2'!B520","v":0},{"$f":"'Quarter 2'!C520","v":0},{"$f":"'Quarter 2'!D520","v":0}]
[57,"Q2",{"$f":"'Quarter 2'!B521","v":0},{"$f":"'Quarter 2'!C521","v":0},{"$f":"'Quarter 2'!D521","v":0}]
[58,"Q2",{"$f":"'Quarter 2'!B522","v":0},{"$f":"'Quarter 2'!C522","v":0},{"$f":"'Quarter 2'!D522","v":0}]
[59,"Q2",{"$f":"'Quarter 2'!B523","v":0},{"$f":"'Quarter 2'!C523","v":0},{"$f":"'Quarter 2'!D523","v":0}]
[60,"Q2",{"$f":"'Quarter 2'!B524","v":0},{"$f":"'Quarter 2'!C524","v":0},{"$f":"'Quarter 2'!D524","v":0}]
[61,"Q3",{"$f":"'Quarter 3'!B495","v":0},{"$f":"'Quarter 3'!C495","v":0},{"$f":"'Quarter 3'!D495","v":0}]
[62,"Q3",{"$f":"'Quarter 3'!B496","v":0},{"$f":"'Quarter 3'!C496","v":0},{"$f":"'Quarter 3'!D496","v":0}]
[63,"Q3",{"$f":"'Quarter 3'!B497","v":0},{"$f":"'Quarter 3'!C497","v":0},{"$f":"'Quarter 3'!D497","v":0}]
[64,"Q3",{"$f":"'Quarter 3'!B498","v":0},{"$f":"'Quarter 3'!C498","v":0},{"$f":"'Quarter 3'!D498","v":0}]
[65,"Q3",{"$f":"'Quarter 3'!B499","v":0},{"$f":"'Quarter 3'!C499","v":0},{"$f":"'Quarter 3'!D499","v":0}]
[66,"Q3",{"$f":"'Quarter 3'!B500","v":0},{"$f":"'Quarter 3'!C500","v":0},{"$f":"'Quarter 3'!D500","v":0}]
[67,"Q3",{"$f":"'Quarter 3'!B501","v":0},{"$f":"'Quarter 3'!C501","v":0},{"$f":"'Quarter 3'!D501","v":0}]
[68,"Q3",{"$f":"'Quarter 3'!B502","v":0},{"$f":"'Quarter 3'!C502","v":0},{"$f":"'Quarter 3'!D502","v":0}]
[69,"Q3",{"$f":"'Quarter 3'!B503","v":0},{"$f":"'Quarter 3'!C503","v":0},{"$f":"'Quarter 3'!D503","v":0}]
[70,"Q3",{"$f":"'Quarter 3'!B504","v":0},{"$f":"'Quarter 3'!C504","v":0},{"$f":"'Quarter 3'!D504","v":0}]
[71,"Q3",{"$f":"'Quarter 3'!B505","v":0},{"$f":"'Quarter 3'!C505","v":0},{"$f":"'Quarter 3'!D505","v":0}]
[72,"Q3",{"$f":"'Quarter 3'!B506","v":0},{"$f":"'Quarter 3'!C506","v":0},{"$f":"'Quarter 3'!D506","v":0}]
[73,"Q3",{"$f":"'Quarter 3'!B507","v":0},{"$f":"'Quarter 3'!C507","v":0},{"$f":"'Quarter 3'!D507","v":0}]
[74,"Q3",{"$f":"'Quarter 3'!B508","v":0},{"$f":"'Quarter 3'!C508","v":0},{"$f":"'Quarter 3'!D508","v":0}]
[75,"Q3",{"$f":"'Quarter 3'!B509","v":0},{"$f":"'Quarter 3'!C509","v":0},{"$f":"'Quarter 3'!D509","v":0}]
[76,"Q3",{"$f":"'Quarter 3'!B510","v":0},{"$f":"'Quarter 3'!C510","v":0},{"$f":"'Quarter 3'!D510","v":0}]
[77,"Q3",{"$f":"'Quarter 3'!B511","v":0},{"$f":"'Quarter 3'!C511","v":0},{"$f":"'Quarter 3'!D511","v":0}]
[78,"Q3",{"$f":"'Quarter 3'!B512","v":0},{"$f":"'Quarter 3'!C512","v":0},{"$f":"'Quarter 3'!D512","v":0}]
[79,"Q3",{"$f":"'Quarter 3'!B513","v":0},{"$f":"'Quarter 3'!C513","v":0},{"$f":"'Quarter 3'!D513","v":0}]
[80,"Q3",{"$f":"'Quarter 3'!B514","v":0},{"$f":"'Quarter 3'!C514","v":0},{"$f":"'Quarter 3'!D514","v":0}]
[81,"Q3",{"$f":"'Quarter 3'!B515","v":0},{"$f":"'Quarter 3'!C515","v":0},{"$f":"'Quarter 3'!D515","v":0}]
[82,"Q3",{"$f":"'Quarter 3'!B516","v":0},{"$f":"'Quarter 3'!C516","v":0},{"$f":"'Quarter 3'!D516","v":0}]
[83,"Q3",{"$f":"'Quarter 3'!B517","v":0},{"$f":"'Quarter 3'!C517","v":0},{"$f":"'Quarter 3'!D517","v":0}]
[84,"Q3",{"$f":"'Quarter 3'!B518","v":0},{"$f":"'Quarter 3'!C518","v":0},{"$f":"'Quarter 3'!D518","v":0}]
[85,"Q3",{"$f":"'Quarter 3'!B519","v":0},{"$f":"'Quarter 3'!C519","v":0},{"$f":"'Quarter 3'!D519","v":0}]
[86,"Q3",{"$f":"'Quarter 3'!B520","v":0},{"$f":"'Quarter 3'!C520","v":0},{"$f":"'Quarter 3'!D520","v":0}]
[87,"Q3",{"$f":"'Quarter 3'!B521","v":0},{"$f":"'Quarter 3'!C521","v":0},{"$f":"'Quarter 3'!D521","v":0}]
[88,"Q3",{"$f":"'Quarter 3'!B522","v":0},{"$f":"'Quarter 3'!C522","v":0},{"$f":"'Quarter 3'!D522","v":0}]
[89,"Q3",{"$f":"'Quarter 3'!B523","v":0},{"$f":"'Quarter 3'!C523","v":0},{"$f":"'Quarter 3'!D523","v":0}]
[90,"Q3",{"$f":"'Quarter 3'!B524","v":0},{"$f":"'Quarter 3'!C524","v":0},{"$f":"'Quarter 3'!D524","v":0}]
[91,"Q4",{"$f":"'Quarter 4'!B495","v":0},{"$f":"'Quarter 4'!C495","v":0},{"$f":"'Quarter 4'!D495","v":0}]
[92,"Q4",{"$f":"'Quarter 4'!B496","v":0},{"$f":"'Quarter 4'!C496","v":0},{"$f":"'Quarter 4'!D496","v":0}]
[93,"Q4",{"$f":"'Quarter 4'!B497","v":0},{"$f":"'Quarter 4'!C497","v":0},{"$f":"'Quarter 4'!D497","v":0}]
[94,"Q4",{"$f":"'Quarter 4'!B498","v":0},{"$f":"'Quarter 4'!C498","v":0},{"$f":"'Quarter 4'!D498","v":0}]
[95,"Q4",{"$f":"'Quarter 4'!B499","v":0},{"$f":"'Quarter 4'!C499","v":0},{"$f":"'Quarter 4'!D499","v":0}]
[96,"Q4",{"$f":"'Quarter 4'!B500","v":0},{"$f":"'Quarter 4'!C500","v":0},{"$f":"'Quarter 4'!D500","v":0}]
[97,"Q4",{"$f":"'Quarter 4'!B501","v":0},{"$f":"'Quarter 4'!C501","v":0},{"$f":"'Quarter 4'!D501","v":0}]
[98,"Q4",{"$f":"'Quarter 4'!B502","v":0},{"$f":"'Quarter 4'!C502","v":0},{"$f":"'Quarter 4'!D502","v":0}]
[99,"Q4",{"$f":"'Quarter 4'!B503","v":0},{"$f":"'Quarter 4'!C503","v":0},{"$f":"'Quarter 4'!D503","v":0}]
[100,"Q4",{"$f":"'Quarter 4'!B504","v":0},{"$f":"'Quarter 4'!C504","v":0},{"$f":"'Quarter 4'!D504","v":0}]
[101,"Q4",{"$f":"'Quarter 4'!B505","v":0},{"$f":"'Quarter 4'!C505","v":0},{"$f":"'Quarter 4'!D505","v":0}]
[102,"Q4",{"$f":"'Quarter 4'!B506","v":0},{"$f":"'Quarter 4'!C506","v":0},{"$f":"'Quarter 4'!D506","v":0}]
[103,"Q4",{"$f":"'Quarter 4'!B507","v":0},{"$f":"'Quarter 4'!C507","v":0},{"$f":"'Quarter 4'!D507","v":0}]
[104,"Q4",{"$f":"'Quarter 4'!B508","v":0},{"$f":"'Quarter 4'!C508","v":0},{"$f":"'Quarter 4'!D508","v":0}]
[105,"Q4",{"$f":"'Quarter 4'!B509","v":0},{"$f":"'Quarter 4'!C509","v":0},{"$f":"'Quarter 4'!D509","v":0}]
[106,"Q4",{"$f":"'Quarter 4'!B510","v":0},{"$f":"'Quarter 4'!C510","v":0},{"$f":"'Quarter 4'!D510","v":0}]
[107,"Q4",{"$f":"'Quarter 4'!B511","v":0},{"$f":"'Quarter 4'!C511","v":0},{"$f":"'Quarter 4'!D511","v":0}]
[108,"Q4",{"$f":"'Quarter 4'!B512","v":0},{"$f":"'Quarter 4'!C512","v":0},{"$f":"'Quarter 4'!D512","v":0}]
[109,"Q4",{"$f":"'Quarter 4'!B513","v":0},{"$f":"'Quarter 4'!C513","v":0},{"$f":"'Quarter 4'!D513","v":0}]
[110,"Q4",{"$f":"'Quarter 4'!B514","v":0},{"$f":"'Quarter 4'!C514","v":0},{"$f":"'Quarter 4'!D514","v":0}]
[111,"Q4",{"$f":"'Quarter 4'!B515","v":0},{"$f":"'Quarter 4'!C515","v":0},{"$f":"'Quarter 4'!D515","v":0}]
[112,"Q4",{"$f":"'Quarter 4'!B516","v":0},{"$f":"'Quarter 4'!C516","v":0},{"$f":"'Quarter 4'!D516","v":0}]
[113,"Q4",{"$f":"'Quarter 4'!B517","v":0},{"$f":"'Quarter 4'!C517","v":0},{"$f":"'Quarter 4'!D517","v":0}]
[114,"Q4",{"$f":"'Quarter 4'!B518","v":0},{"$f":"'Quarter 4'!C518","v":0},{"$f":"'Quarter 4'!D518","v":0}]
[115,"Q4",{"$f":"'Quarter 4'!B519","v":0},{"$f":"'Quarter 4'!C519","v":0},{"$f":"'Quarter 4'!D519","v":0}]
[116,"Q4",{"$f":"'Quarter 4'!B520","v":0},{"$f":"'Quarter 4'!C520","v":0},{"$f":"'Quarter 4'!D520","v":0}]
[117,"Q4",{"$f":"'Quarter 4'!B521","v":0},{"$f":"'Quarter 4'!C521","v":0},{"$f":"'Quarter 4'!D521","v":0}]
[118,"Q4",{"$f":"'Quarter 4'!B522","v":0},{"$f":"'Quarter 4'!C522","v":0},{"$f":"'Quarter 4'!D522","v":0}]
[119,"Q4",{"$f":"'Quarter 4'!B523","v":0},{"$f":"'Quarter 4'!C523","v":0},{"$f":"'Quarter 4'!D523","v":0}]
[120,"Q4",{"$f":"'Quarter 4'!B524","v":0},{"$f":"'Quarter 4'!C524","v":0},{"$f":"'Quarter 4'!D524","v":0}]
[null,null,null,"TOTAL:",{"$f":"SUM(E1716:E1835)","v":0}]
[]
["Mass Outreach Activities (Social media, traditional media, website maintenance, newsletters, county fairs etc.):"]
["O","Quarter","Media type or name, event name","Location","Appx. Number of Contacts"]
[1,"Q1",{"$f":"'Quarter 1'!B530","v":0},{"$f":"'Quarter 1'!C530","v":0},{"$f":"'Quarter 1'!D530","v":0}]
[2,"Q1",{"$f":"'Quarter 1'!B531","v":0},{"$f":"'Quarter 1'!C531","v":0},{"$f":"'Quarter 1'!D531","v":0}]
[3,"Q1",{"$f":"'Quarter 1'!B532","v":0},{"$f":"'Quarter 1'!C532","v":0},{"$f":"'Quarter 1'!D532","v":0}]
[4,"Q1",{"$f":"'Quarter 1'!B533","v":0},{"$f":"'Quarter 1'!C533","v":0},{"$f":"'Quarter 1'!D533","v":0}]
[5,"Q1",{"$f":"'Quarter 1'!B534","v":0},{"$f":"'Quarter 1'!C534","v":0},{"$f":"'Quarter 1'!D534","v":0}]
[6,"Q1",{"$f":"'Quarter 1'!B535","v":0},{"$f":"'Quarter 1'!C535","v":0},{"$f":"'Quarter 1'!D535","v":0}]
[7,"Q1",{"$f":"'Quarter 1'!B536","v":0},{"$f":"'Quarter 1'!C536","v":0},{"$f":"'Quarter 1'!D536","v":0}]
[8,"Q1",{"$f":"'Quarter 1'!B537","v":0},{"$f":"'Quarter 1'!C537","v":0},{"$f":"'Quarter 1'!D537","v":0}]
[9,"Q1",{"$f":"'Quarter 1'!B538","v":0},{"$f":"'Quarter 1'!C538","v":0},{"$f":"'Quarter 1'!D538","v":0}]
[10,"Q1",{"$f":"'Quarter 1'!B539","v":0},{"$f":"'Quarter 1'!C539","v":0},{"$f":"'Quarter 1'!D539","v":0}]
[11,"Q1",{"$f":"'Quarter 1'!B540","v":0},{"$f":"'Quarter 1'!C540","v":0},{"$f":"'Quarter 1'!D540","v":0}]
[12,"Q1",{"$f":"'Quarter 1'!B541","v":0},{"$f":"'Quarter 1'!C541","v":0},{"$f":"'Quarter 1'!D541","v":0}]
[13,"Q1",{"$f":"'Quarter 1'!B542","v":0},{"$f":"'Quarter 1'!C542","v":0},{"$f":"'Quarter 1'!D542","v":0}]
[14,"Q1",{"$f":"'Quarter 1'!B543","v":0},{"$f":"'Quarter 1'!C543","v":0},{"$f":"'Quarter 1'!D543","v":0}]
[15,"Q1",{"$f":"'Quarter 1'!B544","v":0},{"$f":"'Quarter 1'!C544","v":0},{"$f":"'Quarter 1'!D544","v":0}]
[16,"Q1",{"$f":"'Quarter 1'!B545","v":0},{"$f":"'Quarter 1'!C545","v":0},{"$f":"'Quarter 1'!D545","v":0}]
[17,"Q1",{"$f":"'Quarter 1'!B546","v":0},{"$f":"'Quarter 1'!C546","v":0},{"$f":"'Quarter 1'!D546","v":0}]
[18,"Q1",{"$f":"'Quarter 1'!B547","v":0},{"$f":"'Quarter 1'!C547","v":0},{"$f":"'Quarter 1'!D547","v":0}]
[19,"Q1",{"$f":"'Quarter 1'!B548","v":0},{"$f":"'Quarter 1'!C548","v":0},{"$f":"'Quarter 1'!D548","v":0}]
[20,"Q1",{"$f":"'Quarter 1'!B549","v":0},{"$f":"'Quarter 1'!C549","v":0},{"$f":"'Quarter 1'!D549","v":0}]
[21,"Q1",{"$f":"'Quarter 1'!B550","v":0},{"$f":"'Quarter 1'!C550","v":0},{"$f":"'Quarter 1'!D550","v":0}]
[22,"Q1",{"$f":"'Quarter 1'!B551","v":0},{"$f":"'Quarter 1'!C551","v":0},{"$f":"'Quarter 1'!D551","v":0}]
[23,"Q1",{"$f":"'Quarter 1'!B552","v":0},{"$f":"'Quarter 1'!C552","v":0},{"$f":"'Quarter 1'!D552","v":0}]
[24,"Q1",{"$f":"'Quarter 1'!B553","v":0},{"$f":"'Quarter 1'!C553","v":0},{"$f":"'Quarter 1'!D553","v":0}]
[25,"Q1",{"$f":"'Quarter 1'!B554","v":0},{"$f":"'Quarter 1'!C554","v":0},{"$f":"'Quarter 1'!D554","v":0}]
[26,"Q1",{"$f":"'Quarter 1'!B555","v":0},{"$f":"'Quarter 1'!C555","v":0},{"$f":"'Quarter 1'!D555","v":0}]
[27,"Q1",{"$f":"'Quarter 1'!B556","v":0},{"$f":"'Quarter 1'!C556","v":0},{"$f":"'Quarter 1'!D556","v":0}]
[28,"Q1",{"$f":"'Quarter 1'!B557","v":0},{"$f":"'Quarter 1'!C557","v":0},{"$f":"'Quarter 1'!D557","v":0}]
[29,"Q1",{"$f":"'Quarter 1'!B558","v":0},{"$f":"'Quarter 1'!C558","v":0},{"$f":"'Quarter 1'!D558","v":0}]
[30,"Q1",{"$f":"'Quarter 1'!B559","v":0},{"$f":"'Quarter 1'!C559","v":0},{"$f":"'Quarter 1'!D559","v":0}]
[31,"Q2",{"$f":"'Quarter 2'!B530","v":0},{"$f":"'Quarter 2'!C530","v":0},{"$f":"'Quarter 2'!D530","v":0}]
[32,"Q2",{"$f":"'Quarter 2'!B531","v":0},{"$f":"'Quarter 2'!C531","v":0},{"$f":"'Quarter 2'!D531","v":0}]
[33,"Q2",{"$f":"'Quarter 2'!B532","v":0},{"$f":"'Quarter 2'!C532","v":0},{"$f":"'Quarter 2'!D532","v":0}]
[34,"Q2",{"$f":"'Quarter 2'!B533","v":0},{"$f":"'Quarter 2'!C533","v":0},{"$f":"'Quarter 2'!D533","v":0}]
[35,"Q2",{"$f":"'Quarter 2'!B534","v":0},{"$f":"'Quarter 2'!C534","v":0},{"$f":"'Quarter 2'!D534","v":0}]
[36,"Q2",{"$f":"'Quarter 2'!B535","v":0},{"$f":"'Quarter 2'!C535","v":0},{"$f":"'Quarter 2'!D535","v":0}]
[37,"Q2",{"$f":"'Quarter 2'!B536","v":0},{"$f":"'Quarter 2'!C536","v":0},{"$f":"'Quarter 2'!D536","v":0}]
[38,"Q2",{"$f":"'Quarter 2'!B537","v":0},{"$f":"'Quarter 2'!C537","v":0},{"$f":"'Quarter 2'!D537","v":0}]
[39,"Q2",{"$f":"'Quarter 2'!B538","v":0},{"$f":"'Quarter 2'!C538","v":0},{"$f":"'Quarter 2'!D538","v":0}]
[40,"Q2",{"$f":"'Quarter 2'!B539","v":0},{"$f":"'Quarter 2'!C539","v":0},{"$f":"'Quarter 2'!D539","v":0}]
[41,"Q2",{"$f":"'Quarter 2'!B540","v":0},{"$f":"'Quarter 2'!C540","v":0},{"$f":"'Quarter 2'!D540","v":0}]
[42,"Q2",{"$f":"'Quarter 2'!B541","v":0},{"$f":"'Quarter 2'!C541","v":0},{"$f":"'Quarter 2'!D541","v":0}]
[43,"Q2",{"$f":"'Quarter 2'!B542","v":0},{"$f":"'Quarter 2'!C542","v":0},{"$f":"'Quarter 2'!D542","v":0}]
[44,"Q2",{"$f":"'Quarter 2'!B543","v":0},{"$f":"'Quarter 2'!C543","v":0},{"$f":"'Quarter 2'!D543","v":0}]
[45,"Q2",{"$f":"'Quarter 2'!B544","v":0},{"$f":"'Quarter 2'!C544","v":0},{"$f":"'Quarter 2'!D544","v":0}]
[46,"Q2",{"$f":"'Quarter 2'!B545","v":0},{"$f":"'Quarter 2'!C545","v":0},{"$f":"'Quarter 2'!D545","v":0}]
[47,"Q2",{"$f":"'Quarter 2'!B546","v":0},{"$f":"'Quarter 2'!C546","v":0},{"$f":"'Quarter 2'!D546","v":0}]
[48,"Q2",{"$f":"'Quarter 2'!B547","v":0},{"$f":"'Quarter 2'!C547","v":0},{"$f":"'Quarter 2'!D547","v":0}]
[49,"Q2",{"$f":"'Quarter 2'!B548","v":0},{"$f":"'Quarter 2'!C548","v":0},{"$f":"'Quarter 2'!D548","v":0}]
[50,"Q2",{"$f":"'Quarter 2'!B549","v":0},{"$f":"'Quarter 2'!C549","v":0},{"$f":"'Quarter 2'!D549","v":0}]
[51,"Q2",{"$f":"'Quarter 2'!B550","v":0},{"$f":"'Quarter 2'!C550","v":0},{"$f":"'Quarter 2'!D550","v":0}]
[52,"Q2",{"$f":"'Quarter 2'!B551","v":0},{"$f":"'Quarter 2'!C551","v":0},{"$f":"'Quarter 2'!D551","v":0}]
[53,"Q2",{"$f":"'Quarter 2'!B552","v":0},{"$f":"'Quarter 2'!C552","v":0},{"$f":"'Quarter 2'!D552","v":0}]
[54,"Q2",{"$f":"'Quarter 2'!B553","v":0},{"$f":"'Quarter 2'!C553","v":0},{"$f":"'Quarter 2'!D553","v":0}]
[55,"Q2",{"$f":"'Quarter 2'!B554","v":0},{"$f":"'Quarter 2'!C554","v":0},{"$f":"'Quarter 2'!D554","v":0}]
[56,"Q2",{"$f":"'Quarter 2'!B555","v":0},{"$f":"'Quarter 2'!C555","v":0},{"$f":"'Quarter 2'!D555","v":0}]
[57,"Q2",{"$f":"'Quarter 2'!B556","v":0},{"$f":"'Quarter 2'!C556","v":0},{"$f":"'Quarter 2'!D556","v":0}]
[58,"Q2",{"$f":"'Quarter 2'!B557","v":0},{"$f":"'Quarter 2'!C557","v":0},{"$f":"'Quarter 2'!D557","v":0}]
[59,"Q2",{"$f":"'Quarter 2'!B558","v":0},{"$f":"'Quarter 2'!C558","v":0},{"$f":"'Quarter 2'!D558","v":0}]
[60,"Q2",{"$f":"'Quarter 2'!B559","v":0},{"$f":"'Quarter 2'!C559","v":0},{"$f":"'Quarter 2'!D559","v":0}]
[61,"Q3",{"$f":"'Quarter 3'!B530","v":0},{"$f":"'Quarter 3'!C530","v":0},{"$f":"'Quarter 3'!D530","v":0}]
[62,"Q3",{"$f":"'Quarter 3'!B531","v":0},{"$f":"'Quarter 3'!C531","v":0},{"$f":"'Quarter 3'!D531","v":0}]
[63,"Q3",{"$f":"'Quarter 3'!B532","v":0},{"$f":"'Quarter 3'!C532","v":0},{"$f":"'Quarter 3'!D532","v":0}]
[64,"Q3",{"$f":"'Quarter 3'!B533","v":0},{"$f":"'Quarter 3'!C533","v":0},{"$f":"'Quarter 3'!D533","v":0}]
[65,"Q3",{"$f":"'Quarter 3'!B534","v":0},{"$f":"'Quarter 3'!C534","v":0},{"$f":"'Quarter 3'!D534","v":0}]
[66,"Q3",{"$f":"'Quarter 3'!B535","v":0},{"$f":"'Quarter 3'!C535","v":0},{"$f":"'Quarter 3'!D535","v":0}]
[67,"Q3",{"$f":"'Quarter 3'!B536","v":0},{"$f":"'Quarter 3'!C536","v":0},{"$f":"'Quarter 3'!D536","v":0}]
[68,"Q3",{"$f":"'Quarter 3'!B537","v":0},{"$f":"'Quarter 3'!C537","v":0},{"$f":"'Quarter 3'!D537","v":0}]
[69,"Q3",{"$f":"'Quarter 3'!B538","v":0},{"$f":"'Quarter 3'!C538","v":0},{"$f":"'Quarter 3'!D538","v":0}]
[70,"Q3",{"$f":"'Quarter 3'!B539","v":0},{"$f":"'Quarter 3'!C539","v":0},{"$f":"'Quarter 3'!D539","v":0}]
[71,"Q3",{"$f":"'Quarter 3'!B540","v":0},{"$f":"'Quarter 3'!C540","v":0},{"$f":"'Quarter 3'!D540","v":0}]
[72,"Q3",{"$f":"'Quarter 3'!B541","v":0},{"$f":"'Quarter 3'!C541","v":0},{"$f":"'Quarter 3'!D541","v":0}]
[73,"Q3",{"$f":"'Quarter 3'!B542","v":0},{"$f":"'Quarter 3'!C542","v":0},{"$f":"'Quarter 3'!D542","v":0}]
[74,"Q3",{"$f":"'Quarter 3'!B543","v":0},{"$f":"'Quarter 3'!C543","v":0},{"$f":"'Quarter 3'!D543","v":0}]
[75,"Q3",{"$f":"'Quarter 3'!B544","v":0},{"$f":"'Quarter 3'!C544","v":0},{"$f":"'Quarter 3'!D544","v":0}]
[76,"Q3",{"$f":"'Quarter 3'!B545","v":0},{"$f":"'Quarter 3'!C545","v":0},{"$f":"'Quarter 3'!D545","v":0}]
[77,"Q3",{"$f":"'Quarter 3'!B546","v":0},{"$f":"'Quarter 3'!C546","v":0},{"$f":"'Quarter 3'!D546","v":0}]
[78,"Q3",{"$f":"'Quarter 3'!B547","v":0},{"$f":"'Quarter 3'!C547","v":0},{"$f":"'Quarter 3'!D547","v":0}]
[79,"Q3",{"$f":"'Quarter 3'!B548","v":0},{"$f":"'Quarter 3'!C548","v":0},{"$f":"'Quarter 3'!D548","v":0}]
[80,"Q3",{"$f":"'Quarter 3'!B549","v":0},{"$f":"'Quarter 3'!C549","v":0},{"$f":"'Quarter 3'!D549","v":0}]
[81,"Q3",{"$f":"'Quarter 3'!B550","v":0},{"$f":"'Quarter 3'!C550","v":0},{"$f":"'Quarter 3'!D550","v":0}]
[82,"Q3",{"$f":"'Quarter 3'!B551","v":0},{"$f":"'Quarter 3'!C551","v":0},{"$f":"'Quarter 3'!D551","v":0}]
[83,"Q3",{"$f":"'Quarter 3'!B552","v":0},{"$f":"'Quarter 3'!C552","v":0},{"$f":"'Quarter 3'!D552","v":0}]
[84,"Q3",{"$f":"'Quarter 3'!B553","v":0},{"$f":"'Quarter 3'!C553","v":0},{"$f":"'Quarter 3'!D553","v":0}]
[85,"Q3",{"$f":"'Quarter 3'!B554","v":0},{"$f":"'Quarter 3'!C554","v":0},{"$f":"'Quarter 3'!D554","v":0}]
[86,"Q3",{"$f":"'Quarter 3'!B555","v":0},{"$f":"'Quarter 3'!C555","v":0},{"$f":"'Quarter 3'!D555","v":0}]
[87,"Q3",{"$f":"'Quarter 3'!B556","v":0},{"$f":"'Quarter 3'!C556","v":0},{"$f":"'Quarter 3'!D556","v":0}]
[88,"Q3",{"$f":"'Quarter 3'!B557","v":0},{"$f":"'Quarter 3'!C557","v":0},{"$f":"'Quarter 3'!D557","v":0}]
[89,"Q3",{"$f":"'Quarter 3'!B558","v":0},{"$f":"'Quarter 3'!C558","v":0},{"$f":"'Quarter 3'!D558","v":0}]
[90,"Q3",{"$f":"'Quarter 3'!B559","v":0},{"$f":"'Quarter 3'!C559","v":0},{"$f":"'Quarter 3'!D559","v":0}]
[91,"Q4",{"$f":"'Quarter 4'!B530","v":0},{"$f":"'Quarter 4'!C530","v":0},{"$f":"'Quarter 4'!D530","v":0}]
[92,"Q4",{"$f":"'Quarter 4'!B531","v":0},{"$f":"'Quarter 4'!C531","v":0},{"$f":"'Quarter 4'!D531","v":0}]
[93,"Q4",{"$f":"'Quarter 4'!B532","v":0},{"$f":"'Quarter 4'!C532","v":0},{"$f":"'Quarter 4'!D532","v":0}]
[94,"Q4",{"$f":"'Quarter 4'!B533","v":0},{"$f":"'Quarter 4'!C533","v":0},{"$f":"'Quarter 4'!D533","v":0}]
[95,"Q4",{"$f":"'Quarter 4'!B534","v":0},{"$f":"'Quarter 4'!C534","v":0},{"$f":"'Quarter 4'!D534","v":0}]
[96,"Q4",{"$f":"'Quarter 4'!B535","v":0},{"$f":"'Quarter 4'!C535","v":0},{"$f":"'Quarter 4'!D535","v":0}]
[97,"Q4",{"$f":"'Quarter 4'!B536","v":0},{"$f":"'Quarter 4'!C536","v":0},{"$f":"'Quarter 4'!D536","v":0}]
[98,"Q4",{"$f":"'Quarter 4'!B537","v":0},{"$f":"'Quarter 4'!C537","v":0},{"$f":"'Quarter 4'!D537","v":0}]
[99,"Q4",{"$f":"'Quarter 4'!B538","v":0},{"$f":"'Quarter 4'!C538","v":0},{"$f":"'Quarter 4'!D538","v":0}]
[100,"Q4",{"$f":"'Quarter 4'!B539","v":0},{"$f":"'Quarter 4'!C539","v":0},{"$f":"'Quarter 4'!D539","v":0}]
[101,"Q4",{"$f":"'Quarter 4'!B540","v":0},{"$f":"'Quarter 4'!C540","v":0},{"$f":"'Quarter 4'!D540","v":0}]
[102,"Q4",{"$f":"'Quarter 4'!B541","v":0},{"$f":"'Quarter 4'!C541","v":0},{"$f":"'Quarter 4'!D541","v":0}]
[103,"Q4",{"$f":"'Quarter 4'!B542","v":0},{"$f":"'Quarter 4'!C542","v":0},{"$f":"'Quarter 4'!D542","v":0}]
[104,"Q4",{"$f":"'Quarter 4'!B543","v":0},{"$f":"'Quarter 4'!C543","v":0},{"$f":"'Quarter 4'!D543","v":0}]
[105,"Q4",{"$f":"'Quarter 4'!B544","v":0},{"$f":"'Quarter 4'!C544","v":0},{"$f":"'Quarter 4'!D544","v":0}]
[106,"Q4",{"$f":"'Quarter 4'!B545","v":0},{"$f":"'Quarter 4'!C545","v":0},{"$f":"'Quarter 4'!D545","v":0}]
[107,"Q4",{"$f":"'Quarter 4'!B546","v":0},{"$f":"'Quarter 4'!C546","v":0},{"$f":"'Quarter 4'!D546","v":0}]
[108,"Q4",{"$f":"'Quarter 4'!B547","v":0},{"$f":"'Quarter 4'!C547","v":0},{"$f":"'Quarter 4'!D547","v":0}]
[109,"Q4",{"$f":"'Quarter 4'!B548","v":0},{"$f":"'Quarter 4'!C548","v":0},{"$f":"'Quarter 4'!D548","v":0}]
[110,"Q4",{"$f":"'Quarter 4'!B549","v":0},{"$f":"'Quarter 4'!C549","v":0},{"$f":"'Quarter 4'!D549","v":0}]
[111,"Q4",{"$f":"'Quarter 4'!B550","v":0},{"$f":"'Quarter 4'!C550","v":0},{"$f":"'Quarter 4'!D550","v":0}]
[112,"Q4",{"$f":"'Quarter 4'!B551","v":0},{"$f":"'Quarter 4'!C551","v":0},{"$f":"'Quarter 4'!D551","v":0}]
[113,"Q4",{"$f":"'Quarter 4'!B552","v":0},{"$f":"'Quarter 4'!C552","v":0},{"$f":"'Quarter 4'!D552","v":0}]
[114,"Q4",{"$f":"'Quarter 4'!B553","v":0},{"$f":"'Quarter 4'!C553","v":0},{"$f":"'Quarter 4'!D553","v":0}]
[115,"Q4",{"$f":"'Quarter 4'!B554","v":0},{"$f":"'Quarter 4'!C554","v":0},{"$f":"'Quarter 4'!D554","v":0}]
[116,"Q4",{"$f":"'Quarter 4'!B555","v":0},{"$f":"'Quarter 4'!C555","v":0},{"$f":"'Quarter 4'!D555","v":0}]
[117,"Q4",{"$f":"'Quarter 4'!B556","v":0},{"$f":"'Quarter 4'!C556","v":0},{"$f":"'Quarter 4'!D556","v":0}]
[118,"Q4",{"$f":"'Quarter 4'!B557","v":0},{"$f":"'Quarter 4'!C557","v":0},{"$f":"'Quarter 4'!D557","v":0}]
[119,"Q4",{"$f":"'Quarter 4'!B558","v":0},{"$f":"'Quarter 4'!C558","v":0},{"$f":"'Quarter 4'!D558","v":0}]
[120,"Q4",{"$f":"'Quarter 4'!B559","v":0},{"$f":"'Quarter 4'!C559","v":0},{"$f":"'Quarter 4'!D559","v":0}]
[null,null,null,"TOTAL:",{"$f":"SUM(E1840:E1959)","v":0}]
[]
["Routine non-watershed association meetings (Staff meetings, board meetings, committee meetings, etc.):"]
["P","Quarter","Meeting Name","Meeting Location","Appx. Number in Attendance"]
[1,"Q1",{"$f":"'Quarter 1'!B565","v":0},{"$f":"'Quarter 1'!C565","v":0},{"$f":"'Quarter 1'!D565","v":0}]
[2,"Q1",{"$f":"'Quarter 1'!B566","v":0},{"$f":"'Quarter 1'!C566","v":0},{"$f":"'Quarter 1'!D566","v":0}]
[3,"Q1",{"$f":"'Quarter 1'!B567","v":0},{"$f":"'Quarter 1'!C567","v":0},{"$f":"'Quarter 1'!D567","v":0}]
[4,"Q1",{"$f":"'Quarter 1'!B568","v":0},{"$f":"'Quarter 1'!C568","v":0},{"$f":"'Quarter 1'!D568","v":0}]
[5,"Q1",{"$f":"'Quarter 1'!B569","v":0},{"$f":"'Quarter 1'!C569","v":0},{"$f":"'Quarter 1'!D569","v":0}]
[6,"Q1",{"$f":"'Quarter 1'!B570","v":0},{"$f":"'Quarter 1'!C570","v":0},{"$f":"'Quarter 1'!D570","v":0}]
[7,"Q1",{"$f":"'Quarter 1'!B571","v":0},{"$f":"'Quarter 1'!C571","v":0},{"$f":"'Quarter 1'!D571","v":0}]
[8,"Q1",{"$f":"'Quarter 1'!B572","v":0},{"$f":"'Quarter 1'!C572","v":0},{"$f":"'Quarter 1'!D572","v":0}]
[9,"Q1",{"$f":"'Quarter 1'!B573","v":0},{"$f":"'Quarter 1'!C573","v":0},{"$f":"'Quarter 1'!D573","v":0}]
[10,"Q1",{"$f":"'Quarter 1'!B574","v":0},{"$f":"'Quarter 1'!C574","v":0},{"$f":"'Quarter 1'!D574","v":0}]
[11,"Q1",{"$f":"'Quarter 1'!B575","v":0},{"$f":"'Quarter 1'!C575","v":0},{"$f":"'Quarter 1'!D575","v":0}]
[12,"Q1",{"$f":"'Quarter 1'!B576","v":0},{"$f":"'Quarter 1'!C576","v":0},{"$f":"'Quarter 1'!D576","v":0}]
[13,"Q1",{"$f":"'Quarter 1'!B577","v":0},{"$f":"'Quarter 1'!C577","v":0},{"$f":"'Quarter 1'!D577","v":0}]
[14,"Q1",{"$f":"'Quarter 1'!B578","v":0},{"$f":"'Quarter 1'!C578","v":0},{"$f":"'Quarter 1'!D578","v":0}]
[15,"Q1",{"$f":"'Quarter 1'!B579","v":0},{"$f":"'Quarter 1'!C579","v":0},{"$f":"'Quarter 1'!D579","v":0}]
[16,"Q1",{"$f":"'Quarter 1'!B580","v":0},{"$f":"'Quarter 1'!C580","v":0},{"$f":"'Quarter 1'!D580","v":0}]
[17,"Q1",{"$f":"'Quarter 1'!B581","v":0},{"$f":"'Quarter 1'!C581","v":0},{"$f":"'Quarter 1'!D581","v":0}]
[18,"Q1",{"$f":"'Quarter 1'!B582","v":0},{"$f":"'Quarter 1'!C582","v":0},{"$f":"'Quarter 1'!D582","v":0}]
[19,"Q1",{"$f":"'Quarter 1'!B583","v":0},{"$f":"'Quarter 1'!C583","v":0},{"$f":"'Quarter 1'!D583","v":0}]
[20,"Q1",{"$f":"'Quarter 1'!B584","v":0},{"$f":"'Quarter 1'!C584","v":0},{"$f":"'Quarter 1'!D584","v":0}]
[21,"Q1",{"$f":"'Quarter 1'!B585","v":0},{"$f":"'Quarter 1'!C585","v":0},{"$f":"'Quarter 1'!D585","v":0}]
[22,"Q1",{"$f":"'Quarter 1'!B586","v":0},{"$f":"'Quarter 1'!C586","v":0},{"$f":"'Quarter 1'!D586","v":0}]
[23,"Q1",{"$f":"'Quarter 1'!B587","v":0},{"$f":"'Quarter 1'!C587","v":0},{"$f":"'Quarter 1'!D587","v":0}]
[24,"Q1",{"$f":"'Quarter 1'!B588","v":0},{"$f":"'Quarter 1'!C588","v":0},{"$f":"'Quarter 1'!D588","v":0}]
[25,"Q1",{"$f":"'Quarter 1'!B589","v":0},{"$f":"'Quarter 1'!C589","v":0},{"$f":"'Quarter 1'!D589","v":0}]
[26,"Q1",{"$f":"'Quarter 1'!B590","v":0},{"$f":"'Quarter 1'!C590","v":0},{"$f":"'Quarter 1'!D590","v":0}]
[27,"Q1",{"$f":"'Quarter 1'!B591","v":0},{"$f":"'Quarter 1'!C591","v":0},{"$f":"'Quarter 1'!D591","v":0}]
[28,"Q1",{"$f":"'Quarter 1'!B592","v":0},{"$f":"'Quarter 1'!C592","v":0},{"$f":"'Quarter 1'!D592","v":0}]
[29,"Q1",{"$f":"'Quarter 1'!B593","v":0},{"$f":"'Quarter 1'!C593","v":0},{"$f":"'Quarter 1'!D593","v":0}]
[30,"Q1",{"$f":"'Quarter 1'!B594","v":0},{"$f":"'Quarter 1'!C594","v":0},{"$f":"'Quarter 1'!D594","v":0}]
[31,"Q2",{"$f":"'Quarter 2'!B565","v":0},{"$f":"'Quarter 2'!C565","v":0},{"$f":"'Quarter 2'!D565","v":0}]
[32,"Q2",{"$f":"'Quarter 2'!B566","v":0},{"$f":"'Quarter 2'!C566","v":0},{"$f":"'Quarter 2'!D566","v":0}]
[33,"Q2",{"$f":"'Quarter 2'!B567","v":0},{"$f":"'Quarter 2'!C567","v":0},{"$f":"'Quarter 2'!D567","v":0}]
[34,"Q2",{"$f":"'Quarter 2'!B568","v":0},{"$f":"'Quarter 2'!C568","v":0},{"$f":"'Quarter 2'!D568","v":0}]
[35,"Q2",{"$f":"'Quarter 2'!B569","v":0},{"$f":"'Quarter 2'!C569","v":0},{"$f":"'Quarter 2'!D569","v":0}]
[36,"Q2",{"$f":"'Quarter 2'!B570","v":0},{"$f":"'Quarter 2'!C570","v":0},{"$f":"'Quarter 2'!D570","v":0}]
[37,"Q2",{"$f":"'Quarter 2'!B571","v":0},{"$f":"'Quarter 2'!C571","v":0},{"$f":"'Quarter 2'!D571","v":0}]
[38,"Q2",{"$f":"'Quarter 2'!B572","v":0},{"$f":"'Quarter 2'!C572","v":0},{"$f":"'Quarter 2'!D572","v":0}]
[39,"Q2",{"$f":"'Quarter 2'!B573","v":0},{"$f":"'Quarter 2'!C573","v":0},{"$f":"'Quarter 2'!D573","v":0}]
[40,"Q2",{"$f":"'Quarter 2'!B574","v":0},{"$f":"'Quarter 2'!C574","v":0},{"$f":"'Quarter 2'!D574","v":0}]
[41,"Q2",{"$f":"'Quarter 2'!B575","v":0},{"$f":"'Quarter 2'!C575","v":0},{"$f":"'Quarter 2'!D575","v":0}]
[42,"Q2",{"$f":"'Quarter 2'!B576","v":0},{"$f":"'Quarter 2'!C576","v":0},{"$f":"'Quarter 2'!D576","v":0}]
[43,"Q2",{"$f":"'Quarter 2'!B577","v":0},{"$f":"'Quarter 2'!C577","v":0},{"$f":"'Quarter 2'!D577","v":0}]
[44,"Q2",{"$f":"'Quarter 2'!B578","v":0},{"$f":"'Quarter 2'!C578","v":0},{"$f":"'Quarter 2'!D578","v":0}]
[45,"Q2",{"$f":"'Quarter 2'!B579","v":0},{"$f":"'Quarter 2'!C579","v":0},{"$f":"'Quarter 2'!D579","v":0}]
[46,"Q2",{"$f":"'Quarter 2'!B580","v":0},{"$f":"'Quarter 2'!C580","v":0},{"$f":"'Quarter 2'!D580","v":0}]
[47,"Q2",{"$f":"'Quarter 2'!B581","v":0},{"$f":"'Quarter 2'!C581","v":0},{"$f":"'Quarter 2'!D581","v":0}]
[48,"Q2",{"$f":"'Quarter 2'!B582","v":0},{"$f":"'Quarter 2'!C582","v":0},{"$f":"'Quarter 2'!D582","v":0}]
[49,"Q2",{"$f":"'Quarter 2'!B583","v":0},{"$f":"'Quarter 2'!C583","v":0},{"$f":"'Quarter 2'!D583","v":0}]
[50,"Q2",{"$f":"'Quarter 2'!B584","v":0},{"$f":"'Quarter 2'!C584","v":0},{"$f":"'Quarter 2'!D584","v":0}]
[51,"Q2",{"$f":"'Quarter 2'!B585","v":0},{"$f":"'Quarter 2'!C585","v":0},{"$f":"'Quarter 2'!D585","v":0}]
[52,"Q2",{"$f":"'Quarter 2'!B586","v":0},{"$f":"'Quarter 2'!C586","v":0},{"$f":"'Quarter 2'!D586","v":0}]
[53,"Q2",{"$f":"'Quarter 2'!B587","v":0},{"$f":"'Quarter 2'!C587","v":0},{"$f":"'Quarter 2'!D587","v":0}]
[54,"Q2",{"$f":"'Quarter 2'!B588","v":0},{"$f":"'Quarter 2'!C588","v":0},{"$f":"'Quarter 2'!D588","v":0}]
[55,"Q2",{"$f":"'Quarter 2'!B589","v":0},{"$f":"'Quarter 2'!C589","v":0},{"$f":"'Quarter 2'!D589","v":0}]
[56,"Q2",{"$f":"'Quarter 2'!B590","v":0},{"$f":"'Quarter 2'!C590","v":0},{"$f":"'Quarter 2'!D590","v":0}]
[57,"Q2",{"$f":"'Quarter 2'!B591","v":0},{"$f":"'Quarter 2'!C591","v":0},{"$f":"'Quarter 2'!D591","v":0}]
[58,"Q2",{"$f":"'Quarter 2'!B592","v":0},{"$f":"'Quarter 2'!C592","v":0},{"$f":"'Quarter 2'!D592","v":0}]
[59,"Q2",{"$f":"'Quarter 2'!B593","v":0},{"$f":"'Quarter 2'!C593","v":0},{"$f":"'Quarter 2'!D593","v":0}]
[60,"Q2",{"$f":"'Quarter 2'!B594","v":0},{"$f":"'Quarter 2'!C594","v":0},{"$f":"'Quarter 2'!D594","v":0}]
[61,"Q3",{"$f":"'Quarter 3'!B565","v":0},{"$f":"'Quarter 3'!C565","v":0},{"$f":"'Quarter 3'!D565","v":0}]
[62,"Q3",{"$f":"'Quarter 3'!B566","v":0},{"$f":"'Quarter 3'!C566","v":0},{"$f":"'Quarter 3'!D566","v":0}]
[63,"Q3",{"$f":"'Quarter 3'!B567","v":0},{"$f":"'Quarter 3'!C567","v":0},{"$f":"'Quarter 3'!D567","v":0}]
[64,"Q3",{"$f":"'Quarter 3'!B568","v":0},{"$f":"'Quarter 3'!C568","v":0},{"$f":"'Quarter 3'!D568","v":0}]
[65,"Q3",{"$f":"'Quarter 3'!B569","v":0},{"$f":"'Quarter 3'!C569","v":0},{"$f":"'Quarter 3'!D569","v":0}]
[66,"Q3",{"$f":"'Quarter 3'!B570","v":0},{"$f":"'Quarter 3'!C570","v":0},{"$f":"'Quarter 3'!D570","v":0}]
[67,"Q3",{"$f":"'Quarter 3'!B571","v":0},{"$f":"'Quarter 3'!C571","v":0},{"$f":"'Quarter 3'!D571","v":0}]
[68,"Q3",{"$f":"'Quarter 3'!B572","v":0},{"$f":"'Quarter 3'!C572","v":0},{"$f":"'Quarter 3'!D572","v":0}]
[69,"Q3",{"$f":"'Quarter 3'!B573","v":0},{"$f":"'Quarter 3'!C573","v":0},{"$f":"'Quarter 3'!D573","v":0}]
[70,"Q3",{"$f":"'Quarter 3'!B574","v":0},{"$f":"'Quarter 3'!C574","v":0},{"$f":"'Quarter 3'!D574","v":0}]
[71,"Q3",{"$f":"'Quarter 3'!B575","v":0},{"$f":"'Quarter 3'!C575","v":0},{"$f":"'Quarter 3'!D575","v":0}]
[72,"Q3",{"$f":"'Quarter 3'!B576","v":0},{"$f":"'Quarter 3'!C576","v":0},{"$f":"'Quarter 3'!D576","v":0}]
[73,"Q3",{"$f":"'Quarter 3'!B577","v":0},{"$f":"'Quarter 3'!C577","v":0},{"$f":"'Quarter 3'!D577","v":0}]
[74,"Q3",{"$f":"'Quarter 3'!B578","v":0},{"$f":"'Quarter 3'!C578","v":0},{"$f":"'Quarter 3'!D578","v":0}]
[75,"Q3",{"$f":"'Quarter 3'!B579","v":0},{"$f":"'Quarter 3'!C579","v":0},{"$f":"'Quarter 3'!D579","v":0}]
[76,"Q3",{"$f":"'Quarter 3'!B580","v":0},{"$f":"'Quarter 3'!C580","v":0},{"$f":"'Quarter 3'!D580","v":0}]
[77,"Q3",{"$f":"'Quarter 3'!B581","v":0},{"$f":"'Quarter 3'!C581","v":0},{"$f":"'Quarter 3'!D581","v":0}]
[78,"Q3",{"$f":"'Quarter 3'!B582","v":0},{"$f":"'Quarter 3'!C582","v":0},{"$f":"'Quarter 3'!D582","v":0}]
[79,"Q3",{"$f":"'Quarter 3'!B583","v":0},{"$f":"'Quarter 3'!C583","v":0},{"$f":"'Quarter 3'!D583","v":0}]
[80,"Q3",{"$f":"'Quarter 3'!B584","v":0},{"$f":"'Quarter 3'!C584","v":0},{"$f":"'Quarter 3'!D584","v":0}]
[81,"Q3",{"$f":"'Quarter 3'!B585","v":0},{"$f":"'Quarter 3'!C585","v":0},{"$f":"'Quarter 3'!D585","v":0}]
[82,"Q3",{"$f":"'Quarter 3'!B586","v":0},{"$f":"'Quarter 3'!C586","v":0},{"$f":"'Quarter 3'!D586","v":0}]
[83,"Q3",{"$f":"'Quarter 3'!B587","v":0},{"$f":"'Quarter 3'!C587","v":0},{"$f":"'Quarter 3'!D587","v":0}]
[84,"Q3",{"$f":"'Quarter 3'!B588","v":0},{"$f":"'Quarter 3'!C588","v":0},{"$f":"'Quarter 3'!D588","v":0}]
[85,"Q3",{"$f":"'Quarter 3'!B589","v":0},{"$f":"'Quarter 3'!C589","v":0},{"$f":"'Quarter 3'!D589","v":0}]
[86,"Q3",{"$f":"'Quarter 3'!B590","v":0},{"$f":"'Quarter 3'!C590","v":0},{"$f":"'Quarter 3'!D590","v":0}]
[87,"Q3",{"$f":"'Quarter 3'!B591","v":0},{"$f":"'Quarter 3'!C591","v":0},{"$f":"'Quarter 3'!D591","v":0}]
[88,"Q3",{"$f":"'Quarter 3'!B592","v":0},{"$f":"'Quarter 3'!C592","v":0},{"$f":"'Quarter 3'!D592","v":0}]
[89,"Q3",{"$f":"'Quarter 3'!B593","v":0},{"$f":"'Quarter 3'!C593","v":0},{"$f":"'Quarter 3'!D593","v":0}]
[90,"Q3",{"$f":"'Quarter 3'!B594","v":0},{"$f":"'Quarter 3'!C594","v":0},{"$f":"'Quarter 3'!D594","v":0}]
[91,"Q4",{"$f":"'Quarter 4'!B565","v":0},{"$f":"'Quarter 4'!C565","v":0},{"$f":"'Quarter 4'!D565","v":0}]
[92,"Q4",{"$f":"'Quarter 4'!B566","v":0},{"$f":"'Quarter 4'!C566","v":0},{"$f":"'Quarter 4'!D566","v":0}]
[93,"Q4",{"$f":"'Quarter 4'!B567","v":0},{"$f":"'Quarter 4'!C567","v":0},{"$f":"'Quarter 4'!D567","v":0}]
[94,"Q4",{"$f":"'Quarter 4'!B568","v":0},{"$f":"'Quarter 4'!C568","v":0},{"$f":"'Quarter 4'!D568","v":0}]
[95,"Q4",{"$f":"'Quarter 4'!B569","v":0},{"$f":"'Quarter 4'!C569","v":0},{"$f":"'Quarter 4'!D569","v":0}]
[96,"Q4",{"$f":"'Quarter 4'!B570","v":0},{"$f":"'Quarter 4'!C570","v":0},{"$f":"'Quarter 4'!D570","v":0}]
[97,"Q4",{"$f":"'Quarter 4'!B571","v":0},{"$f":"'Quarter 4'!C571","v":0},{"$f":"'Quarter 4'!D571","v":0}]
[98,"Q4",{"$f":"'Quarter 4'!B572","v":0},{"$f":"'Quarter 4'!C572","v":0},{"$f":"'Quarter 4'!D572","v":0}]
[99,"Q4",{"$f":"'Quarter 4'!B573","v":0},{"$f":"'Quarter 4'!C573","v":0},{"$f":"'Quarter 4'!D573","v":0}]
[100,"Q4",{"$f":"'Quarter 4'!B574","v":0},{"$f":"'Quarter 4'!C574","v":0},{"$f":"'Quarter 4'!D574","v":0}]
[101,"Q4",{"$f":"'Quarter 4'!B575","v":0},{"$f":"'Quarter 4'!C575","v":0},{"$f":"'Quarter 4'!D575","v":0}]
[102,"Q4",{"$f":"'Quarter 4'!B576","v":0},{"$f":"'Quarter 4'!C576","v":0},{"$f":"'Quarter 4'!D576","v":0}]
[103,"Q4",{"$f":"'Quarter 4'!B577","v":0},{"$f":"'Quarter 4'!C577","v":0},{"$f":"'Quarter 4'!D577","v":0}]
[104,"Q4",{"$f":"'Quarter 4'!B578","v":0},{"$f":"'Quarter 4'!C578","v":0},{"$f":"'Quarter 4'!D578","v":0}]
[105,"Q4",{"$f":"'Quarter 4'!B579","v":0},{"$f":"'Quarter 4'!C579","v":0},{"$f":"'Quarter 4'!D579","v":0}]
[106,"Q4",{"$f":"'Quarter 4'!B580","v":0},{"$f":"'Quarter 4'!C580","v":0},{"$f":"'Quarter 4'!D580","v":0}]
[107,"Q4",{"$f":"'Quarter 4'!B581","v":0},{"$f":"'Quarter 4'!C581","v":0},{"$f":"'Quarter 4'!D581","v":0}]
[108,"Q4",{"$f":"'Quarter 4'!B582","v":0},{"$f":"'Quarter 4'!C582","v":0},{"$f":"'Quarter 4'!D582","v":0}]
[109,"Q4",{"$f":"'Quarter 4'!B583","v":0},{"$f":"'Quarter 4'!C583","v":0},{"$f":"'Quarter 4'!D583","v":0}]
[110,"Q4",{"$f":"'Quarter 4'!B584","v":0},{"$f":"'Quarter 4'!C584","v":0},{"$f":"'Quarter 4'!D584","v":0}]
[111,"Q4",{"$f":"'Quarter 4'!B585","v":0},{"$f":"'Quarter 4'!C585","v":0},{"$f":"'Quarter 4'!D585","v":0}]
[112,"Q4",{"$f":"'Quarter 4'!B586","v":0},{"$f":"'Quarter 4'!C586","v":0},{"$f":"'Quarter 4'!D586","v":0}]
[113,"Q4",{"$f":"'Quarter 4'!B587","v":0},{"$f":"'Quarter 4'!C587","v":0},{"$f":"'Quarter 4'!D587","v":0}]
[114,"Q4",{"$f":"'Quarter 4'!B588","v":0},{"$f":"'Quarter 4'!C588","v":0},{"$f":"'Quarter 4'!D588","v":0}]
[115,"Q4",{"$f":"'Quarter 4'!B589","v":0},{"$f":"'Quarter 4'!C589","v":0},{"$f":"'Quarter 4'!D589","v":0}]
[116,"Q4",{"$f":"'Quarter 4'!B590","v":0},{"$f":"'Quarter 4'!C590","v":0},{"$f":"'Quarter 4'!D590","v":0}]
[117,"Q4",{"$f":"'Quarter 4'!B591","v":0},{"$f":"'Quarter 4'!C591","v":0},{"$f":"'Quarter 4'!D591","v":0}]
[118,"Q4",{"$f":"'Quarter 4'!B592","v":0},{"$f":"'Quarter 4'!C592","v":0},{"$f":"'Quarter 4'!D592","v":0}]
[119,"Q4",{"$f":"'Quarter 4'!B593","v":0},{"$f":"'Quarter 4'!C593","v":0},{"$f":"'Quarter 4'!D593","v":0}]
[120,"Q4",{"$f":"'Quarter 4'!B594","v":0},{"$f":"'Quarter 4'!C594","v":0},{"$f":"'Quarter 4'!D594","v":0}]
[null,null,null,"TOTAL:",{"$f":"SUM(E1964:E2083)","v":0}]
[]
[]
[]
[]
[]
[]
["Trainings Attended (TA)",null,null,null,"Approximate Time Commitment:",null,{"$f":"('Quarter 1'!F601+'Quarter 2'!F601+'Quarter 3'!F601+'Quarter 4'!F601)/4","v":0},"%"]
[]
["Sessions attended:"]
["Q","Quarter","Training Event Title","Training Source","Primary Topic","Location"]
[1,"Q1",{"$f":"'Quarter 1'!B605","v":0},{"$f":"'Quarter 1'!C605","v":0},{"$f":"'Quarter 1'!D605","v":0},{"$f":"'Quarter 1'!E605","v":0}]
[2,"Q1",{"$f":"'Quarter 1'!B606","v":0},{"$f":"'Quarter 1'!C606","v":0},{"$f":"'Quarter 1'!D606","v":0},{"$f":"'Quarter 1'!E606","v":0}]
[3,"Q1",{"$f":"'Quarter 1'!B607","v":0},{"$f":"'Quarter 1'!C607","v":0},{"$f":"'Quarter 1'!D607","v":0},{"$f":"'Quarter 1'!E607","v":0}]
[4,"Q1",{"$f":"'Quarter 1'!B608","v":0},{"$f":"'Quarter 1'!C608","v":0},{"$f":"'Quarter 1'!D608","v":0},{"$f":"'Quarter 1'!E608","v":0}]
[5,"Q1",{"$f":"'Quarter 1'!B609","v":0},{"$f":"'Quarter 1'!C609","v":0},{"$f":"'Quarter 1'!D609","v":0},{"$f":"'Quarter 1'!E609","v":0}]
[6,"Q1",{"$f":"'Quarter 1'!B610","v":0},{"$f":"'Quarter 1'!C610","v":0},{"$f":"'Quarter 1'!D610","v":0},{"$f":"'Quarter 1'!E610","v":0}]
[7,"Q1",{"$f":"'Quarter 1'!B611","v":0},{"$f":"'Quarter 1'!C611","v":0},{"$f":"'Quarter 1'!D611","v":0},{"$f":"'Quarter 1'!E611","v":0}]
[8,"Q1",{"$f":"'Quarter 1'!B612","v":0},{"$f":"'Quarter 1'!C612","v":0},{"$f":"'Quarter 1'!D612","v":0},{"$f":"'Quarter 1'!E612","v":0}]
[9,"Q1",{"$f":"'Quarter 1'!B613","v":0},{"$f":"'Quarter 1'!C613","v":0},{"$f":"'Quarter 1'!D613","v":0},{"$f":"'Quarter 1'!E613","v":0}]
[10,"Q1",{"$f":"'Quarter 1'!B614","v":0},{"$f":"'Quarter 1'!C614","v":0},{"$f":"'Quarter 1'!D614","v":0},{"$f":"'Quarter 1'!E614","v":0}]
[11,"Q1",{"$f":"'Quarter 1'!B615","v":0},{"$f":"'Quarter 1'!C615","v":0},{"$f":"'Quarter 1'!D615","v":0},{"$f":"'Quarter 1'!E615","v":0}]
[12,"Q1",{"$f":"'Quarter 1'!B616","v":0},{"$f":"'Quarter 1'!C616","v":0},{"$f":"'Quarter 1'!D616","v":0},{"$f":"'Quarter 1'!E616","v":0}]
[13,"Q1",{"$f":"'Quarter 1'!B617","v":0},{"$f":"'Quarter 1'!C617","v":0},{"$f":"'Quarter 1'!D617","v":0},{"$f":"'Quarter 1'!E617","v":0}]
[14,"Q1",{"$f":"'Quarter 1'!B618","v":0},{"$f":"'Quarter 1'!C618","v":0},{"$f":"'Quarter 1'!D618","v":0},{"$f":"'Quarter 1'!E618","v":0}]
[15,"Q1",{"$f":"'Quarter 1'!B619","v":0},{"$f":"'Quarter 1'!C619","v":0},{"$f":"'Quarter 1'!D619","v":0},{"$f":"'Quarter 1'!E619","v":0}]
[16,"Q1",{"$f":"'Quarter 1'!B620","v":0},{"$f":"'Quarter 1'!C620","v":0},{"$f":"'Quarter 1'!D620","v":0},{"$f":"'Quarter 1'!E620","v":0}]
[17,"Q1",{"$f":"'Quarter 1'!B621","v":0},{"$f":"'Quarter 1'!C621","v":0},{"$f":"'Quarter 1'!D621","v":0},{"$f":"'Quarter 1'!E621","v":0}]
[18,"Q1",{"$f":"'Quarter 1'!B622","v":0},{"$f":"'Quarter 1'!C622","v":0},{"$f":"'Quarter 1'!D622","v":0},{"$f":"'Quarter 1'!E622","v":0}]
[19,"Q1",{"$f":"'Quarter 1'!B623","v":0},{"$f":"'Quarter 1'!C623","v":0},{"$f":"'Quarter 1'!D623","v":0},{"$f":"'Quarter 1'!E623","v":0}]
[20,"Q1",{"$f":"'Quarter 1'!B624","v":0},{"$f":"'Quarter 1'!C624","v":0},{"$f":"'Quarter 1'!D624","v":0},{"$f":"'Quarter 1'!E624","v":0}]
[21,"Q1",{"$f":"'Quarter 1'!B625","v":0},{"$f":"'Quarter 1'!C625","v":0},{"$f":"'Quarter 1'!D625","v":0},{"$f":"'Quarter 1'!E625","v":0}]
[22,"Q1",{"$f":"'Quarter 1'!B626","v":0},{"$f":"'Quarter 1'!C626","v":0},{"$f":"'Quarter 1'!D626","v":0},{"$f":"'Quarter 1'!E626","v":0}]
[23,"Q1",{"$f":"'Quarter 1'!B627","v":0},{"$f":"'Quarter 1'!C627","v":0},{"$f":"'Quarter 1'!D627","v":0},{"$f":"'Quarter 1'!E627","v":0}]
[24,"Q1",{"$f":"'Quarter 1'!B628","v":0},{"$f":"'Quarter 1'!C628","v":0},{"$f":"'Quarter 1'!D628","v":0},{"$f":"'Quarter 1'!E628","v":0}]
[25,"Q1",{"$f":"'Quarter 1'!B629","v":0},{"$f":"'Quarter 1'!C629","v":0},{"$f":"'Quarter 1'!D629","v":0},{"$f":"'Quarter 1'!E629","v":0}]
[26,"Q1",{"$f":"'Quarter 1'!B630","v":0},{"$f":"'Quarter 1'!C630","v":0},{"$f":"'Quarter 1'!D630","v":0},{"$f":"'Quarter 1'!E630","v":0}]
[27,"Q1",{"$f":"'Quarter 1'!B631","v":0},{"$f":"'Quarter 1'!C631","v":0},{"$f":"'Quarter 1'!D631","v":0},{"$f":"'Quarter 1'!E631","v":0}]
[28,"Q1",{"$f":"'Quarter 1'!B632","v":0},{"$f":"'Quarter 1'!C632","v":0},{"$f":"'Quarter 1'!D632","v":0},{"$f":"'Quarter 1'!E632","v":0}]
[29,"Q1",{"$f":"'Quarter 1'!B633","v":0},{"$f":"'Quarter 1'!C633","v":0},{"$f":"'Quarter 1'!D633","v":0},{"$f":"'Quarter 1'!E633","v":0}]
[30,"Q1",{"$f":"'Quarter 1'!B634","v":0},{"$f":"'Quarter 1'!C634","v":0},{"$f":"'Quarter 1'!D634","v":0},{"$f":"'Quarter 1'!E634","v":0}]
[31,"Q2",{"$f":"'Quarter 2'!B605","v":0},{"$f":"'Quarter 2'!C605","v":0},{"$f":"'Quarter 2'!D605","v":0},{"$f":"'Quarter 2'!E605","v":0}]
[32,"Q2",{"$f":"'Quarter 2'!B606","v":0},{"$f":"'Quarter 2'!C606","v":0},{"$f":"'Quarter 2'!D606","v":0},{"$f":"'Quarter 2'!E606","v":0}]
[33,"Q2",{"$f":"'Quarter 2'!B607","v":0},{"$f":"'Quarter 2'!C607","v":0},{"$f":"'Quarter 2'!D607","v":0},{"$f":"'Quarter 2'!E607","v":0}]
[34,"Q2",{"$f":"'Quarter 2'!B608","v":0},{"$f":"'Quarter 2'!C608","v":0},{"$f":"'Quarter 2'!D608","v":0},{"$f":"'Quarter 2'!E608","v":0}]
[35,"Q2",{"$f":"'Quarter 2'!B609","v":0},{"$f":"'Quarter 2'!C609","v":0},{"$f":"'Quarter 2'!D609","v":0},{"$f":"'Quarter 2'!E609","v":0}]
[36,"Q2",{"$f":"'Quarter 2'!B610","v":0},{"$f":"'Quarter 2'!C610","v":0},{"$f":"'Quarter 2'!D610","v":0},{"$f":"'Quarter 2'!E610","v":0}]
[37,"Q2",{"$f":"'Quarter 2'!B611","v":0},{"$f":"'Quarter 2'!C611","v":0},{"$f":"'Quarter 2'!D611","v":0},{"$f":"'Quarter 2'!E611","v":0}]
[38,"Q2",{"$f":"'Quarter 2'!B612","v":0},{"$f":"'Quarter 2'!C612","v":0},{"$f":"'Quarter 2'!D612","v":0},{"$f":"'Quarter 2'!E612","v":0}]
[39,"Q2",{"$f":"'Quarter 2'!B613","v":0},{"$f":"'Quarter 2'!C613","v":0},{"$f":"'Quarter 2'!D613","v":0},{"$f":"'Quarter 2'!E613","v":0}]
[40,"Q2",{"$f":"'Quarter 2'!B614","v":0},{"$f":"'Quarter 2'!C614","v":0},{"$f":"'Quarter 2'!D614","v":0},{"$f":"'Quarter 2'!E614","v":0}]
[41,"Q2",{"$f":"'Quarter 2'!B615","v":0},{"$f":"'Quarter 2'!C615","v":0},{"$f":"'Quarter 2'!D615","v":0},{"$f":"'Quarter 2'!E615","v":0}]
[42,"Q2",{"$f":"'Quarter 2'!B616","v":0},{"$f":"'Quarter 2'!C616","v":0},{"$f":"'Quarter 2'!D616","v":0},{"$f":"'Quarter 2'!E616","v":0}]
[43,"Q2",{"$f":"'Quarter 2'!B617","v":0},{"$f":"'Quarter 2'!C617","v":0},{"$f":"'Quarter 2'!D617","v":0},{"$f":"'Quarter 2'!E617","v":0}]
[44,"Q2",{"$f":"'Quarter 2'!B618","v":0},{"$f":"'Quarter 2'!C618","v":0},{"$f":"'Quarter 2'!D618","v":0},{"$f":"'Quarter 2'!E618","v":0}]
[45,"Q2",{"$f":"'Quarter 2'!B619","v":0},{"$f":"'Quarter 2'!C619","v":0},{"$f":"'Quarter 2'!D619","v":0},{"$f":"'Quarter 2'!E619","v":0}]
[46,"Q2",{"$f":"'Quarter 2'!B620","v":0},{"$f":"'Quarter 2'!C620","v":0},{"$f":"'Quarter 2'!D620","v":0},{"$f":"'Quarter 2'!E620","v":0}]
[47,"Q2",{"$f":"'Quarter 2'!B621","v":0},{"$f":"'Quarter 2'!C621","v":0},{"$f":"'Quarter 2'!D621","v":0},{"$f":"'Quarter 2'!E621","v":0}]
[48,"Q2",{"$f":"'Quarter 2'!B622","v":0},{"$f":"'Quarter 2'!C622","v":0},{"$f":"'Quarter 2'!D622","v":0},{"$f":"'Quarter 2'!E622","v":0}]
[49,"Q2",{"$f":"'Quarter 2'!B623","v":0},{"$f":"'Quarter 2'!C623","v":0},{"$f":"'Quarter 2'!D623","v":0},{"$f":"'Quarter 2'!E623","v":0}]
[50,"Q2",{"$f":"'Quarter 2'!B624","v":0},{"$f":"'Quarter 2'!C624","v":0},{"$f":"'Quarter 2'!D624","v":0},{"$f":"'Quarter 2'!E624","v":0}]
[51,"Q2",{"$f":"'Quarter 2'!B625","v":0},{"$f":"'Quarter 2'!C625","v":0},{"$f":"'Quarter 2'!D625","v":0},{"$f":"'Quarter 2'!E625","v":0}]
[52,"Q2",{"$f":"'Quarter 2'!B626","v":0},{"$f":"'Quarter 2'!C626","v":0},{"$f":"'Quarter 2'!D626","v":0},{"$f":"'Quarter 2'!E626","v":0}]
[53,"Q2",{"$f":"'Quarter 2'!B627","v":0},{"$f":"'Quarter 2'!C627","v":0},{"$f":"'Quarter 2'!D627","v":0},{"$f":"'Quarter 2'!E627","v":0}]
[54,"Q2",{"$f":"'Quarter 2'!B628","v":0},{"$f":"'Quarter 2'!C628","v":0},{"$f":"'Quarter 2'!D628","v":0},{"$f":"'Quarter 2'!E628","v":0}]
[55,"Q2",{"$f":"'Quarter 2'!B629","v":0},{"$f":"'Quarter 2'!C629","v":0},{"$f":"'Quarter 2'!D629","v":0},{"$f":"'Quarter 2'!E629","v":0}]
[56,"Q2",{"$f":"'Quarter 2'!B630","v":0},{"$f":"'Quarter 2'!C630","v":0},{"$f":"'Quarter 2'!D630","v":0},{"$f":"'Quarter 2'!E630","v":0}]
[57,"Q2",{"$f":"'Quarter 2'!B631","v":0},{"$f":"'Quarter 2'!C631","v":0},{"$f":"'Quarter 2'!D631","v":0},{"$f":"'Quarter 2'!E631","v":0}]
[58,"Q2",{"$f":"'Quarter 2'!B632","v":0},{"$f":"'Quarter 2'!C632","v":0},{"$f":"'Quarter 2'!D632","v":0},{"$f":"'Quarter 2'!E632","v":0}]
[59,"Q2",{"$f":"'Quarter 2'!B633","v":0},{"$f":"'Quarter 2'!C633","v":0},{"$f":"'Quarter 2'!D633","v":0},{"$f":"'Quarter 2'!E633","v":0}]
[60,"Q2",{"$f":"'Quarter 2'!B634","v":0},{"$f":"'Quarter 2'!C634","v":0},{"$f":"'Quarter 2'!D634","v":0},{"$f":"'Quarter 2'!E634","v":0}]
[61,"Q3",{"$f":"'Quarter 3'!B605","v":0},{"$f":"'Quarter 3'!C605","v":0},{"$f":"'Quarter 3'!D605","v":0},{"$f":"'Quarter 3'!E605","v":0}]
[62,"Q3",{"$f":"'Quarter 3'!B606","v":0},{"$f":"'Quarter 3'!C606","v":0},{"$f":"'Quarter 3'!D606","v":0},{"$f":"'Quarter 3'!E606","v":0}]
[63,"Q3",{"$f":"'Quarter 3'!B607","v":0},{"$f":"'Quarter 3'!C607","v":0},{"$f":"'Quarter 3'!D607","v":0},{"$f":"'Quarter 3'!E607","v":0}]
[64,"Q3",{"$f":"'Quarter 3'!B608","v":0},{"$f":"'Quarter 3'!C608","v":0},{"$f":"'Quarter 3'!D608","v":0},{"$f":"'Quarter 3'!E608","v":0}]
[65,"Q3",{"$f":"'Quarter 3'!B609","v":0},{"$f":"'Quarter 3'!C609","v":0},{"$f":"'Quarter 3'!D609","v":0},{"$f":"'Quarter 3'!E609","v":0}]
[66,"Q3",{"$f":"'Quarter 3'!B610","v":0},{"$f":"'Quarter 3'!C610","v":0},{"$f":"'Quarter 3'!D610","v":0},{"$f":"'Quarter 3'!E610","v":0}]
[67,"Q3",{"$f":"'Quarter 3'!B611","v":0},{"$f":"'Quarter 3'!C611","v":0},{"$f":"'Quarter 3'!D611","v":0},{"$f":"'Quarter 3'!E611","v":0}]
[68,"Q3",{"$f":"'Quarter 3'!B612","v":0},{"$f":"'Quarter 3'!C612","v":0},{"$f":"'Quarter 3'!D612","v":0},{"$f":"'Quarter 3'!E612","v":0}]
[69,"Q3",{"$f":"'Quarter 3'!B613","v":0},{"$f":"'Quarter 3'!C613","v":0},{"$f":"'Quarter 3'!D613","v":0},{"$f":"'Quarter 3'!E613","v":0}]
[70,"Q3",{"$f":"'Quarter 3'!B614","v":0},{"$f":"'Quarter 3'!C614","v":0},{"$f":"'Quarter 3'!D614","v":0},{"$f":"'Quarter 3'!E614","v":0}]
[71,"Q3",{"$f":"'Quarter 3'!B615","v":0},{"$f":"'Quarter 3'!C615","v":0},{"$f":"'Quarter 3'!D615","v":0},{"$f":"'Quarter 3'!E615","v":0}]
[72,"Q3",{"$f":"'Quarter 3'!B616","v":0},{"$f":"'Quarter 3'!C616","v":0},{"$f":"'Quarter 3'!D616","v":0},{"$f":"'Quarter 3'!E616","v":0}]
[73,"Q3",{"$f":"'Quarter 3'!B617","v":0},{"$f":"'Quarter 3'!C617","v":0},{"$f":"'Quarter 3'!D617","v":0},{"$f":"'Quarter 3'!E617","v":0}]
[74,"Q3",{"$f":"'Quarter 3'!B618","v":0},{"$f":"'Quarter 3'!C618","v":0},{"$f":"'Quarter 3'!D618","v":0},{"$f":"'Quarter 3'!E618","v":0}]
[75,"Q3",{"$f":"'Quarter 3'!B619","v":0},{"$f":"'Quarter 3'!C619","v":0},{"$f":"'Quarter 3'!D619","v":0},{"$f":"'Quarter 3'!E619","v":0}]
[76,"Q3",{"$f":"'Quarter 3'!B620","v":0},{"$f":"'Quarter 3'!C620","v":0},{"$f":"'Quarter 3'!D620","v":0},{"$f":"'Quarter 3'!E620","v":0}]
[77,"Q3",{"$f":"'Quarter 3'!B621","v":0},{"$f":"'Quarter 3'!C621","v":0},{"$f":"'Quarter 3'!D621","v":0},{"$f":"'Quarter 3'!E621","v":0}]
[78,"Q3",{"$f":"'Quarter 3'!B622","v":0},{"$f":"'Quarter 3'!C622","v":0},{"$f":"'Quarter 3'!D622","v":0},{"$f":"'Quarter 3'!E622","v":0}]
[79,"Q3",{"$f":"'Quarter 3'!B623","v":0},{"$f":"'Quarter 3'!C623","v":0},{"$f":"'Quarter 3'!D623","v":0},{"$f":"'Quarter 3'!E623","v":0}]
[80,"Q3",{"$f":"'Quarter 3'!B624","v":0},{"$f":"'Quarter 3'!C624","v":0},{"$f":"'Quarter 3'!D624","v":0},{"$f":"'Quarter 3'!E624","v":0}]
[81,"Q3",{"$f":"'Quarter 3'!B625","v":0},{"$f":"'Quarter 3'!C625","v":0},{"$f":"'Quarter 3'!D625","v":0},{"$f":"'Quarter 3'!E625","v":0}]
[82,"Q3",{"$f":"'Quarter 3'!B626","v":0},{"$f":"'Quarter 3'!C626","v":0},{"$f":"'Quarter 3'!D626","v":0},{"$f":"'Quarter 3'!E626","v":0}]
[83,"Q3",{"$f":"'Quarter 3'!B627","v":0},{"$f":"'Quarter 3'!C627","v":0},{"$f":"'Quarter 3'!D627","v":0},{"$f":"'Quarter 3'!E627","v":0}]
[84,"Q3",{"$f":"'Quarter 3'!B628","v":0},{"$f":"'Quarter 3'!C628","v":0},{"$f":"'Quarter 3'!D628","v":0},{"$f":"'Quarter 3'!E628","v":0}]
[85,"Q3",{"$f":"'Quarter 3'!B629","v":0},{"$f":"'Quarter 3'!C629","v":0},{"$f":"'Quarter 3'!D629","v":0},{"$f":"'Quarter 3'!E629","v":0}]
[86,"Q3",{"$f":"'Quarter 3'!B630","v":0},{"$f":"'Quarter 3'!C630","v":0},{"$f":"'Quarter 3'!D630","v":0},{"$f":"'Quarter 3'!E630","v":0}]
[87,"Q3",{"$f":"'Quarter 3'!B631","v":0},{"$f":"'Quarter 3'!C631","v":0},{"$f":"'Quarter 3'!D631","v":0},{"$f":"'Quarter 3'!E631","v":0}]
[88,"Q3",{"$f":"'Quarter 3'!B632","v":0},{"$f":"'Quarter 3'!C632","v":0},{"$f":"'Quarter 3'!D632","v":0},{"$f":"'Quarter 3'!E632","v":0}]
[89,"Q3",{"$f":"'Quarter 3'!B633","v":0},{"$f":"'Quarter 3'!C633","v":0},{"$f":"'Quarter 3'!D633","v":0},{"$f":"'Quarter 3'!E633","v":0}]
[90,"Q3",{"$f":"'Quarter 3'!B634","v":0},{"$f":"'Quarter 3'!C634","v":0},{"$f":"'Quarter 3'!D634","v":0},{"$f":"'Quarter 3'!E634","v":0}]
[91,"Q4",{"$f":"'Quarter 4'!B605","v":0},{"$f":"'Quarter 4'!C605","v":0},{"$f":"'Quarter 4'!D605","v":0},{"$f":"'Quarter 4'!E605","v":0}]
[92,"Q4",{"$f":"'Quarter 4'!B606","v":0},{"$f":"'Quarter 4'!C606","v":0},{"$f":"'Quarter 4'!D606","v":0},{"$f":"'Quarter 4'!E606","v":0}]
[93,"Q4",{"$f":"'Quarter 4'!B607","v":0},{"$f":"'Quarter 4'!C607","v":0},{"$f":"'Quarter 4'!D607","v":0},{"$f":"'Quarter 4'!E607","v":0}]
[94,"Q4",{"$f":"'Quarter 4'!B608","v":0},{"$f":"'Quarter 4'!C608","v":0},{"$f":"'Quarter 4'!D608","v":0},{"$f":"'Quarter 4'!E608","v":0}]
[95,"Q4",{"$f":"'Quarter 4'!B609","v":0},{"$f":"'Quarter 4'!C609","v":0},{"$f":"'Quarter 4'!D609","v":0},{"$f":"'Quarter 4'!E609","v":0}]
[96,"Q4",{"$f":"'Quarter 4'!B610","v":0},{"$f":"'Quarter 4'!C610","v":0},{"$f":"'Quarter 4'!D610","v":0},{"$f":"'Quarter 4'!E610","v":0}]
[97,"Q4",{"$f":"'Quarter 4'!B611","v":0},{"$f":"'Quarter 4'!C611","v":0},{"$f":"'Quarter 4'!D611","v":0},{"$f":"'Quarter 4'!E611","v":0}]
[98,"Q4",{"$f":"'Quarter 4'!B612","v":0},{"$f":"'Quarter 4'!C612","v":0},{"$f":"'Quarter 4'!D612","v":0},{"$f":"'Quarter 4'!E612","v":0}]
[99,"Q4",{"$f":"'Quarter 4'!B613","v":0},{"$f":"'Quarter 4'!C613","v":0},{"$f":"'Quarter 4'!D613","v":0},{"$f":"'Quarter 4'!E613","v":0}]
[100,"Q4",{"$f":"'Quarter 4'!B614","v":0},{"$f":"'Quarter 4'!C614","v":0},{"$f":"'Quarter 4'!D614","v":0},{"$f":"'Quarter 4'!E614","v":0}]
[101,"Q4",{"$f":"'Quarter 4'!B615","v":0},{"$f":"'Quarter 4'!C615","v":0},{"$f":"'Quarter 4'!D615","v":0},{"$f":"'Quarter 4'!E615","v":0}]
[102,"Q4",{"$f":"'Quarter 4'!B616","v":0},{"$f":"'Quarter 4'!C616","v":0},{"$f":"'Quarter 4'!D616","v":0},{"$f":"'Quarter 4'!E616","v":0}]
[103,"Q4",{"$f":"'Quarter 4'!B617","v":0},{"$f":"'Quarter 4'!C617","v":0},{"$f":"'Quarter 4'!D617","v":0},{"$f":"'Quarter 4'!E617","v":0}]
[104,"Q4",{"$f":"'Quarter 4'!B618","v":0},{"$f":"'Quarter 4'!C618","v":0},{"$f":"'Quarter 4'!D618","v":0},{"$f":"'Quarter 4'!E618","v":0}]
[105,"Q4",{"$f":"'Quarter 4'!B619","v":0},{"$f":"'Quarter 4'!C619","v":0},{"$f":"'Quarter 4'!D619","v":0},{"$f":"'Quarter 4'!E619","v":0}]
[106,"Q4",{"$f":"'Quarter 4'!B620","v":0},{"$f":"'Quarter 4'!C620","v":0},{"$f":"'Quarter 4'!D620","v":0},{"$f":"'Quarter 4'!E620","v":0}]
[107,"Q4",{"$f":"'Quarter 4'!B621","v":0},{"$f":"'Quarter 4'!C621","v":0},{"$f":"'Quarter 4'!D621","v":0},{"$f":"'Quarter 4'!E621","v":0}]
[108,"Q4",{"$f":"'Quarter 4'!B622","v":0},{"$f":"'Quarter 4'!C622","v":0},{"$f":"'Quarter 4'!D622","v":0},{"$f":"'Quarter 4'!E622","v":0}]
[109,"Q4",{"$f":"'Quarter 4'!B623","v":0},{"$f":"'Quarter 4'!C623","v":0},{"$f":"'Quarter 4'!D623","v":0},{"$f":"'Quarter 4'!E623","v":0}]
[110,"Q4",{"$f":"'Quarter 4'!B624","v":0},{"$f":"'Quarter 4'!C624","v":0},{"$f":"'Quarter 4'!D624","v":0},{"$f":"'Quarter 4'!E624","v":0}]
[111,"Q4",{"$f":"'Quarter 4'!B625","v":0},{"$f":"'Quarter 4'!C625","v":0},{"$f":"'Quarter 4'!D625","v":0},{"$f":"'Quarter 4'!E625","v":0}]
[112,"Q4",{"$f":"'Quarter 4'!B626","v":0},{"$f":"'Quarter 4'!C626","v":0},{"$f":"'Quarter 4'!D626","v":0},{"$f":"'Quarter 4'!E626","v":0}]
[113,"Q4",{"$f":"'Quarter 4'!B627","v":0},{"$f":"'Quarter 4'!C627","v":0},{"$f":"'Quarter 4'!D627","v":0},{"$f":"'Quarter 4'!E627","v":0}]
[114,"Q4",{"$f":"'Quarter 4'!B628","v":0},{"$f":"'Quarter 4'!C628","v":0},{"$f":"'Quarter 4'!D628","v":0},{"$f":"'Quarter 4'!E628","v":0}]
[115,"Q4",{"$f":"'Quarter 4'!B629","v":0},{"$f":"'Quarter 4'!C629","v":0},{"$f":"'Quarter 4'!D629","v":0},{"$f":"'Quarter 4'!E629","v":0}]
[116,"Q4",{"$f":"'Quarter 4'!B630","v":0},{"$f":"'Quarter 4'!C630","v":0},{"$f":"'Quarter 4'!D630","v":0},{"$f":"'Quarter 4'!E630","v":0}]
[117,"Q4",{"$f":"'Quarter 4'!B631","v":0},{"$f":"'Quarter 4'!C631","v":0},{"$f":"'Quarter 4'!D631","v":0},{"$f":"'Quarter 4'!E631","v":0}]
[118,"Q4",{"$f":"'Quarter 4'!B632","v":0},{"$f":"'Quarter 4'!C632","v":0},{"$f":"'Quarter 4'!D632","v":0},{"$f":"'Quarter 4'!E632","v":0}]
[119,"Q4",{"$f":"'Quarter 4'!B633","v":0},{"$f":"'Quarter 4'!C633","v":0},{"$f":"'Quarter 4'!D633","v":0},{"$f":"'Quarter 4'!E633","v":0}]
[120,"Q4",{"$f":"'Quarter 4'!B634","v":0},{"$f":"'Quarter 4'!C634","v":0},{"$f":"'Quarter 4'!D634","v":0},{"$f":"'Quarter 4'!E634","v":0}]
[null,null,null,null,"TOTAL:",{"$f":"COUNTIF(C2095:C2214,\"*\")","v":0}]